Workbook

Sheet ส่วนกลาง
A1: รายงานผลการเบิกจ่ายงบประมาณ ประจำปีงบประมาณ พ.ศ. 2564
A2: รายสำนัก/ศูนย์/กลุ่ม และภาพรวมสสภ./ทสจ.
A3: สะสมเดือนกรกฎาคม 2564 จากระบบ GFMIS
A5: หน่วยงาน | B5: แผนงานบุคลากรภาครัฐ | J5: แผนงานพื้นฐาน | O5: แผนงานพื้นฐาน/ยุทธศาสตร์/บูรณาการ | T5: แผนงานพื้นฐาน/ยุทธศาสตร์/บูรณาการ | Y5: แผนงานพื้นฐาน | AB5: แผนงานบุคลากร/พื้นฐาน/ยุทธศาสตร์/บูรณาการ
B6: งบบุคลากร | F6: งบดำเนินงาน | J6: งบดำเนินงาน | O6: งบลงทุน | T6: งบรายจ่ายอื่น | Y6: งบเงินอุดหนุน | AB6: รวมผลการเบิกจ่ายทุกหมวด
B7: งปม.ที่ได้รับ | C7: ผลเบิกจ่าย | D7: คงเหลือ | E7: ร้อยละ | F7: งปม.ที่ได้รับ | G7: ผลเบิกจ่าย | H7: คงเหลือ | I7: ร้อยละ | J7: งปม.ที่ได้รับ | K7: PO | L7: ผลเบิกจ่าย | M7: คงเหลือ | N7: ร้อยละ | O7: งปม.ที่ได้รับ | P7: PO | Q7: ผลเบิกจ่าย | R7: คงเหลือ | S7: ร้อยละ | T7: งปม.ที่ได้รับ | U7: PO | V7: ผลเบิกจ่าย | W7: คงเหลือ | X7: ร้อยละ | Y7: งปม.ที่ได้รับ | Z7: ผลเบิกจ่าย | AA7: ร้อยละ | AB7: งปม.ที่ได้รับ | AC7: PO | AD7: ผลเบิกจ่าย | AE7: คงเหลือ | AF7: ร้อยละ
B8: (บาท) | C8: (บาท) | D8: (บาท) | E8: เบิกจ่าย | F8: (บาท) | G8: (บาท) | H8: (บาท) | I8: เบิกจ่าย | J8: (บาท) | K8: (บาท) | L8: (บาท) | M8: (บาท) | N8: เบิกจ่าย | O8: (บาท) | P8: (บาท) | Q8: (บาท) | R8: (บาท) | S8: เบิกจ่าย | T8: (บาท) | U8: (บาท) | V8: (บาท) | W8: (บาท) | X8: เบิกจ่าย | Y8: (บาท) | Z8: (บาท) | AA8: เบิกจ่าย | AB8: (บาท) | AC8: (บาท) | AD8: (บาท) | AE8: (บาท) | AF8: เบิกจ่าย
A9: รวมทั้งสิ้น | B9: =SUM(B10:B25) -> 887716000 | C9: =SUM(C10:C25) -> 7.7636009e+08 | D9: =SUM(D10:D25) -> 1.4144867e+08 | E9: =C9/B9*100 -> 87.455908 | F9: =SUM(F10:F25) -> 27372500 | G9: =SUM(G10:G25) -> 22175074 | H9: =SUM(H10:H25) -> 5197426.2 | I9: =G9/F9*100 -> 81.012234 | J9: =SUM(J10:J26) -> 1.6242529e+08 | K9: =SUM(K10:K26) -> 8407792.2 | L9: =SUM(L10:L26) -> 1.2328475e+08 | M9: =SUM(M10:M26) -> 40258445 | N9: =L9/J9*100 -> 75.902435 | O9: =SUM(O10:O26) -> 3.844003e+08 | P9: =SUM(P10:P26) -> 1.8762127e+08 | Q9: =SUM(Q10:Q26) -> 65739026 | R9: =SUM(R10:R25) -> 1.9205626e+08 | S9: =Q9/O9*100 -> 17.10171 | T9: =SUM(T10:T26) -> 1.1711231e+08 | U9: =SUM(U10:U26) -> 7235627.5 | V9: =SUM(V10:V26) -> 85603224 | W9: =SUM(W10:W25) -> 55132221 | X9: =V9/T9*100 -> 73.094982 | Y9: =SUM(Y10:Y26) -> 775000 | Z9: =SUM(Z10:Z26) -> 765493 | AA9: =Z9/Y9*100 -> 98.77329 | AB9: =SUM(AB10:AB26) -> 1579801400 | AC9: =SUM(AC10:AC26) -> 2.0326469e+08 | AD9: =SUM(AD10:AD26) -> 1.0739277e+09 | AE9: =SUM(AE10:AE26) -> 3.7199485e+08 | AF9: =AD9/AB9*100 -> 67.978649
A10: สป.ทส. | B10: =374956100-2630000+183948193+221929000-33531209 -> 744672084 | C10: 6.5589551e+08 | D10: =SUM(B10-C10) -> 88776571 | E10: =C10/B10*100 -> 88.078434 | F10: 0 | G10: 0 | H10: =SUM(F10)-G10 -> 0 | K10: 0 | L10: 0 | M10: =J10-K10-L10 -> 0 | N10: =L10/J10*100 -> #DIV/0! | O10: 394638.72 | P10: 0 | Q10: 0 | S10: =Q10/O10*100 -> 0 | W10: =T10-U10-V10 -> 0 | AB10: =B10+J10+O10+T10+Y10+F10 -> 7.4506672e+08 | AC10: =K10+P10+U10 -> 0 | AD10: =C10+L10+Q10+V10+Z10+G10 -> 6.5589551e+08 | AE10: =AB10-AC10-AD10 -> 89171210 | AF10: =AD10/AB10*100 -> 88.031782
A11: กกล. | B11: 8539505 | C11: 9431208.3 | D11: =SUM(B11-C11) -> -891703.26 | E11: =C11/B11*100 -> 110.4421 | F11: 4062416 | G11: 2221930.4 | H11: =SUM(F11-G11) -> 1840485.6 | I11: =G11/F11*100 -> 54.694801 | J11: =23157084.16+775000 -> 23932084 | K11: 450020.35 | L11: =21121932.23+1454262.7 -> 22576195 | M11: =J11-K11-L11 -> 905868.88 | N11: =L11/J11*100 -> 94.334429 | O11: 20250840 | P11: 968330.93 | Q11: 18932477 | R11: =O11-P11-Q11 -> 350032.52 | S11: =Q11/O11*100 -> 93.489833 | T11: 1662600 | U11: 601000 | V11: 970000 | W11: =T11-U11-V11 -> 91600 | X11: =V11/T11*100 -> 58.342355 | AB11: =B11+F11+J11+O11+T11+Y11 -> 58447445 | AC11: =K11+P11+U11 -> 2019351.3 | AD11: =C11+L11+Q11+V11+Z11+G11 -> 54131810 | AE11: =AB11-AC11-AD11 -> 2296283.8 | AF11: =AD11/AB11*100 -> 92.616213
A12: กยผ. | B12: 9101198 | C12: 7412143.2 | D12: =SUM(B12-C12) -> 1689054.8 | E12: =C12/B12*100 -> 81.441402 | F12: 206247 | G12: 158600 | H12: =SUM(F12-G12) -> 47647 | I12: =G12/F12*100 -> 76.898088 | J12: 4846160.9 | K12: 350173.8 | L12: 3397933.3 | M12: =J12-K12-L12 -> 1098053.8 | N12: =L12/J12*100 -> 70.115982 | O12: 142139.1 | P12: 0 | Q12: 0 | S12: =Q12/O12*100 -> 0 | T12: 3912400 | U12: 1260000 | V12: 2330389 | W12: =T12-U12-V12 -> 322011 | X12: =V12/T12*100 -> 59.564181 | AB12: =B12+J12+O12+T12+Y12+F12 -> 18208145 | AC12: =K12+P12+U12 -> 1610173.8 | AD12: =C12+L12+Q12+V12+Z12+G12 -> 13299066 | AE12: =AB12-AC12-AD12 -> 3298905.7 | AF12: =AD12/AB12*100 -> 73.039102
A13: กปร. | B13: 3032338 | C13: 2366716.1 | D13: =SUM(B13-C13) -> 665621.94 | E13: =C13/B13*100 -> 78.049217 | F13: 74937 | G13: 57946 | H13: =SUM(F13-G13) -> 16991 | I13: =G13/F13*100 -> 77.326287 | J13: =3164800-400000 -> 2764800 | K13: 0 | L13: 1305429.5 | M13: =J13-K13-L13 -> 1459370.5 | N13: =L13/J13*100 -> 47.216055 | AB13: =B13+J13+O13+T13+Y13+F13 -> 5872075 | AC13: =K13+P13+U13 -> 0 | AD13: =C13+L13+Q13+V13+Z13+G13 -> 3730091.5 | AE13: =AB13-AC13-AD13 -> 2141983.5 | AF13: =AD13/AB13*100 -> 63.522546
A14: กตป. | B14: 4880773 | C14: 3957433.2 | D14: =SUM(B14-C14) -> 923339.77 | E14: =C14/B14*100 -> 81.0821 | F14: 100947 | G14: 64540 | H14: =SUM(F14-G14) -> 36407 | I14: =G14/F14*100 -> 63.93454 | J14: 1715600 | K14: 69881.5 | L14: 1308378.2 | M14: =J14-K14-L14 -> 337340.3 | N14: =L14/J14*100 -> 76.263593 | T14: 1374800 | U14: 0 | V14: 0 | W14: =T14-U14-V14 -> 1374800 | X14: =V14/T14*100 -> 0 | Y14: 775000 | Z14: 765493 | AA14: =Z14/Y14*100 -> 98.77329 | AB14: =B14+J14+O14+T14+Y14+F14 -> 8847120 | AC14: =K14+P14+U14 -> 69881.5 | AD14: =C14+L14+Q14+V14+Z14+G14 -> 6095844.4 | AE14: =AB14-AC14-AD14 -> 2681394.1 | AF14: =AD14/AB14*100 -> 68.90202
A15: กตร. | B15: 4835323 | C15: 3879265.9 | D15: =SUM(B15-C15) -> 956057.13 | E15: =C15/B15*100 -> 80.227647 | F15: 110097 | G15: 85661 | H15: =SUM(F15-G15) -> 24436 | I15: =G15/F15*100 -> 77.805026 | J15: 4215035 | K15: 123814.9 | L15: 2482202.6 | M15: =J15-K15-L15 -> 1609017.5 | N15: =L15/J15*100 -> 58.889252 | O15: 31565 | P15: 0 | Q15: 31565 | S15: =Q15/O15*100 -> 100 | AB15: =B15+J15+O15+T15+Y15+F15 -> 9192020 | AC15: =K15+P15+U15 -> 123814.9 | AD15: =C15+L15+Q15+V15+Z15+G15 -> 6478694.5 | AE15: =AB15-AC15-AD15 -> 2589510.6 | AF15: =AD15/AB15*100 -> 70.481727
A16: ศทส. | B16: 3789720 | C16: 3096087.4 | D16: =SUM(B16-C16) -> 693632.58 | E16: =C16/B16*100 -> 81.696997 | F16: 83250 | G16: 66333 | H16: =SUM(F16-G16) -> 16917 | I16: =G16/F16*100 -> 79.679279 | J16: 19062631 | K16: 4662368.5 | L16: 14388468 | M16: =J16-K16-L16 -> 11794.29 | N16: =L16/J16*100 -> 75.47997 | O16: 33705531 | P16: 0 | Q16: 3848831 | R16: =O16-P16-Q16 -> 29856700 | S16: =Q16/O16*100 -> 11.418989 | T16: 4875000 | U16: 2495724 | V16: 428000 | W16: =T16-U16-V16 -> 1951276 | X16: =V16/T16*100 -> 8.7794872 | AB16: =B16+J16+O16+T16+Y16+F16 -> 61516132 | AC16: =K16+P16+U16 -> 7158092.5 | AD16: =C16+L16+Q16+V16+Z16+G16 -> 21827720 | AE16: =AB16-AC16-AD16 -> 32530320 | AF16: =AD16/AB16*100 -> 35.48292
A17: กพร. | B17: 1282828 | C17: 1018048.2 | D17: =SUM(B17-C17) -> 264779.82 | E17: =C17/B17*100 -> 79.359679 | F17: 33427 | G17: 26114 | H17: =SUM(F17-G17) -> 7313 | I17: =G17/F17*100 -> 78.122476 | J17: 1150300 | K17: 44638.45 | L17: 646498.26 | M17: =J17-K17-L17 -> 459163.29 | N17: =L17/J17*100 -> 56.202578 | AB17: =B17+J17+O17+T17+Y17+F17 -> 2466555 | AC17: =K17+P17+U17 -> 44638.45 | AD17: =C17+L17+Q17+V17+Z17+G17 -> 1690660.4 | AE17: =AB17-AC17-AD17 -> 731256.11 | AF17: =AD17/AB17*100 -> 68.543391
A18: กตน. | B18: 1209480 | C18: 1007900 | D18: =SUM(B18-C18) -> 201580 | E18: =C18/B18*100 -> 83.333333 | F18: 30375 | G18: 24750 | H18: =SUM(F18-G18) -> 5625 | I18: =G18/F18*100 -> 81.481481 | J18: 1281000 | K18: 15115.55 | L18: 1021757.8 | M18: =J18-K18-L18 -> 244126.69 | N18: =L18/J18*100 -> 79.762511 | AB18: =B18+J18+O18+T18+Y18+F18 -> 2520855 | AC18: =K18+P18+U18 -> 15115.55 | AD18: =C18+L18+Q18+V18+Z18+G18 -> 2054407.8 | AE18: =AB18-AC18-AD18 -> 451331.69 | AF18: =AD18/AB18*100 -> 81.496467
A19: กกบ. | B19: 9543800 | C19: 7981100 | D19: =SUM(B19-C19) -> 1562700 | E19: =C19/B19*100 -> 83.626019 | F19: 168722 | G19: 127465 | H19: =SUM(F19-G19) -> 41257 | I19: =G19/F19*100 -> 75.54735 | J19: 16301665 | K19: 1774171.3 | L19: 9632456.4 | M19: =J19-K19-L19 -> 4895037.3 | N19: =L19/J19*100 -> 59.088789 | O19: 264784335 | P19: 166157000 | Q19: 150018 | R19: =O19-P19-Q19 -> 98477317 | S19: =Q19/O19*100 -> 0.056656675 | T19: 16921100 | U19: 0 | V19: 15579337 | W19: =T19-U19-V19 -> 1341762.6 | X19: =V19/T19*100 -> 92.070477 | AB19: =B19+J19+O19+T19+Y19+F19 -> 307719622 | AC19: =K19+P19+U19 -> 1.6793117e+08 | AD19: =C19+L19+Q19+V19+Z19+G19 -> 33470377 | AE19: =AB19-AC19-AD19 -> 1.0631807e+08 | AF19: =AD19/AB19*100 -> 10.876907
A20: สร. | B20: 3729720 | C20: 3108100 | D20: =SUM(B20-C20) -> 621620 | E20: =C20/B20*100 -> 83.333333 | F20: 84619 | G20: 68949 | H20: =SUM(F20-G20) -> 15670 | I20: =G20/F20*100 -> 81.4817 | J20: 4590100 | K20: 34104.2 | L20: 4110339.8 | M20: =J20-K20-L20 -> 445655.98 | N20: =L20/J20*100 -> 89.547936 | AB20: =B20+J20+O20+T20+Y20+F20 -> 8404439 | AC20: =K20+P20+U20 -> 34104.2 | AD20: =C20+L20+Q20+V20+Z20+G20 -> 7287388.8 | AE20: =AB20-AC20-AD20 -> 1082946 | AF20: =AD20/AB20*100 -> 86.708807
A21: สพบ. | B21: 2335378 | C21: 1893575.2 | D21: =SUM(B21-C21) -> 441802.84 | E21: =C21/B21*100 -> 81.08217 | F21: 58200 | G21: 46317 | H21: =SUM(F21-G21) -> 11883 | I21: =G21/F21*100 -> 79.582474 | J21: 5527587.5 | K21: 69875.41 | L21: 1095324.6 | M21: =J21-K21-L21 -> 4362387.5 | N21: =L21/J21*100 -> 19.815599 | T21: 22612.54 | U21: 0 | V21: 22612.54 | W21: =T21-U21-V21 -> 0 | X21: =V21/T21*100 -> 100 | AB21: =B21+J21+O21+T21+Y21+F21 -> 7943778 | AC21: =K21+P21+U21 -> 69875.41 | AD21: =C21+L21+Q21+V21+Z21+G21 -> 3057829.2 | AE21: =AB21-AC21-AD21 -> 4816073.3 | AF21: =AD21/AB21*100 -> 38.493388
A22: กกม. | B22: 1027184 | C22: 848864.52 | D22: =SUM(B22-C22) -> 178319.48 | E22: =C22/B22*100 -> 82.639967 | F22: 22572 | G22: 18122 | H22: =SUM(F22-G22) -> 4450 | I22: =G22/F22*100 -> 80.285309 | J22: 1623300 | K22: 23501.4 | L22: 1426725.6 | M22: =J22-K22-L22 -> 173073.01 | N22: =L22/J22*100 -> 87.890445 | AB22: =B22+J22+O22+T22+Y22+F22 -> 2673056 | AC22: =K22+P22+U22 -> 23501.4 | AD22: =C22+L22+Q22+V22+Z22+G22 -> 2293712.1 | AE22: =AB22-AC22-AD22 -> 355842.49 | AF22: =AD22/AB22*100 -> 85.808607
A23: ศปท. | J23: 419100 | K23: 7500 | L23: 304412.2 | M23: =J23-K23-L23 -> 107187.8 | N23: =L23/J23*100 -> 72.634741 | AB23: =B23+J23+O23+T23+Y23+F23 -> 419100 | AC23: =K23+P23+U23 -> 7500 | AD23: =C23+L23+Q23+V23+Z23+G23 -> 304412.2 | AE23: =AB23-AC23-AD23 -> 107187.8 | AF23: =AD23/AB23*100 -> 72.634741
A24: สสภ. | B24: =สสภ.!C9 -> 28768473 | C24: =สสภ.!D9 -> 23797811 | D24: =สสภ.!E9 -> 4970662.5 | E24: =C24/B24*100 -> 82.721841 | F24: =สสภ.!G9 -> 2646422 | G24: =สสภ.!H9 -> 2411137.3 | H24: =สสภ.!I9 -> 235284.7 | I24: =G24/F24*100 -> 91.109328 | J24: =สสภ.!K9 -> 14952525 | K24: =สสภ.!L9 -> 330721.15 | L24: =สสภ.!M9 -> 13116875 | M24: =[1]สสภ.!N9 -> 4520317.4 | N24: =L24/J24*100 -> 87.723478 | O24: =สสภ.!P9 -> 40916350 | P24: =สสภ.!Q9 -> 960000 | Q24: =สสภ.!R9 -> 38938411 | R24: =[1]สสภ.!S9 -> 36924109 | S24: =Q24/O24*100 -> 95.165896 | T24: =สสภ.!U9 -> 59187700 | U24: =สสภ.!V9 -> 2602597 | V24: =สสภ.!W9 -> 51173202 | W24: =[1]สสภ.!X9 -> 33091133 | X24: =V24/T24*100 -> 86.459183 | AB24: =สสภ.!Z9 -> 146471470 | AC24: =สสภ.!AA9 -> 3893318.1 | AD24: =สสภ.!AB9 -> 1.2943744e+08 | AE24: =[1]สสภ.!AC9 -> 82526507 | AF24: =AD24/AB24*100 -> 88.370408
A25: ทสจ. | B25: ='ทสจ. '!C9 -> 60968196 | C25: ='ทสจ. '!D9 -> 50666324 | D25: ='ทสจ. '!E9 -> 40394635 | E25: =C25/B25*100 -> 83.102875 | F25: ='ทสจ. '!G9 -> 19690269 | G25: ='ทสจ. '!H9 -> 16797209 | H25: ='ทสจ. '!I9 -> 2893059.8 | I25: =G25/F25*100 -> 85.307159 | J25: ='ทสจ. '!K9 -> 59643400 | K25: ='ทสจ. '!L9 -> 451905.69 | L25: ='ทสจ. '!M9 -> 46081325 | M25: ='[1]ทสจ. '!N9 -> 19620478 | N25: =L25/J25*100 -> 77.261398 | O25: ='ทสจ. '!P9 -> 24174900 | P25: ='ทสจ. '!Q9 -> 19535940 | Q25: ='ทสจ. '!R9 -> 3837724.1 | R25: ='[1]ทสจ. '!S9 -> 26448100 | S25: =Q25/O25*100 -> 15.874829 | T25: ='ทสจ. '!U9 -> 29156100 | U25: ='ทสจ. '!V9 -> 276306.55 | V25: ='ทสจ. '!W9 -> 15099683 | W25: ='[1]ทสจ. '!X9 -> 16959639 | X25: =V25/T25*100 -> 51.789105 | AB25: ='ทสจ. '!Z9 -> 193632865 | AC25: ='ทสจ. '!AA9 -> 20264152 | AD25: ='ทสจ. '!AB9 -> 1.3248227e+08 | AE25: ='ทสจ. '!AC9 -> 40886448 | AF25: =AD25/AB25*100 -> 68.419307
A26: ให้หน่วยงานอื่นเบิกแทน | J26: 400000 | L26: 390427 | M26: =SUM(J26-L26) -> 9573 | N26: =L26/J26*100 -> 97.60675 | AB26: =B26+J26+O26+T26+Y26+F26 -> 400000 | AC26: =K26+P26+U26 -> 0 | AD26: =C26+L26+Q26+V26+Z26+G26 -> 390427 | AE26: =AB26-AC26-AD26 -> 9573 | AF26: =AD26/AB26*100 -> 97.60675
AA28: (ข้อมูลจาก GFMIS 2/08/64 เวลา: 8.51 น.)

Sheet สสภ.
A1: รายงานผลการเบิกจ่ายงบประมาณ ประจำปีงบประมาณ พ.ศ. 2564
A2: สำนักงานสิ่งแวดล้อมภาคที่ 1-16
A3: สะสมเดือนกรกฎาคม 2564 จากระบบ GFMIS
A5: ที่ | B5: หน่วยงาน | C5: แผนงานบุคลากรภาครัฐ | K5: แผนงานพื้นฐาน | P5: แผนงานพื้นฐาน/ยุทธศาสตร์/บูรณาการ | U5: แผนงานพื้นฐาน/ยุทธศาสตร์/บูรณาการ | Z5: แผนงานบุคลากร/พื้นฐาน/ยุทธศาสตร์/บูรณาการ
C6: งบบุคลากร | G6: งบดำเนินงาน | K6: งบดำเนินงาน | P6: งบลงทุน | U6: งบรายจ่ายอื่น | Z6: รวมผลการเบิกจ่ายทุกหมวด
C7: งปม.ที่ได้รับ | D7: ผลเบิกจ่าย | E7: คงเหลือ | F7: ร้อยละ | G7: งปม.ที่ได้รับ | H7: ผลเบิกจ่าย | I7: คงเหลือ | J7: ร้อยละ | K7: งปม.ที่ได้รับ | L7: PO | M7: ผลเบิกจ่าย | N7: คงเหลือ | O7: ร้อยละ | P7: งปม.ที่ได้รับ | Q7: PO | R7: ผลเบิกจ่าย | S7: คงเหลือ | T7: ร้อยละ | U7: งปม.ที่ได้รับ | V7: PO | W7: ผลเบิกจ่าย | X7: คงเหลือ | Y7: ร้อยละ | Z7: งปม.ที่ได้รับ | AA7: PO | AB7: ผลเบิกจ่าย | AC7: คงเหลือ | AD7: ร้อยละ
C8: (บาท) | D8: (บาท) | E8: (บาท) | F8: เบิกจ่าย | G8: (บาท) | H8: (บาท) | I8: (บาท) | J8: เบิกจ่าย | K8: (บาท) | L8: (บาท) | M8: (บาท) | N8: (บาท) | O8: เบิกจ่าย | P8: (บาท) | Q8: (บาท) | R8: (บาท) | S8: (บาท) | T8: เบิกจ่าย | U8: (บาท) | V8: (บาท) | W8: (บาท) | X8: (บาท) | Y8: เบิกจ่าย | Z8: (บาท) | AA8: (บาท) | AB8: (บาท) | AC8: (บาท) | AD8: เบิกจ่าย
B9: สสภ. | C9: =SUM(C10:C25) -> 28768473 | D9: =SUM(D10:D25) -> 23797811 | E9: =SUM(E10:E25) -> 4970662.5 | F9: =D9/C9*100 -> 82.721841 | G9: =SUM(G10:G25) -> 2646422 | H9: =SUM(H10:H25) -> 2411137.3 | I9: =SUM(I10:I25) -> 235284.7 | J9: =H9/G9*100 -> 91.109328 | K9: =SUM(K10:K25) -> 14952525 | L9: =SUM(L10:L25) -> 330721.15 | M9: =SUM(M10:M25) -> 13116875 | N9: =SUM(N10:N25) -> 1504928.9 | O9: =M9/K9*100 -> 87.723478 | P9: =SUM(P10:P25) -> 40916350 | Q9: =SUM(Q10:Q25) -> 960000 | R9: =SUM(R10:R25) -> 38938411 | S9: =SUM(S10:S25) -> 1017939.1 | T9: =R9/P9*100 -> 95.165896 | U9: =SUM(U10:U25) -> 59187700 | V9: =SUM(V10:V25) -> 2602597 | W9: =SUM(W10:W25) -> 51173202 | X9: =SUM(X10:X25) -> 5411901.1 | Y9: =W9/U9*100 -> 86.459183 | Z9: =SUM(Z10:Z25) -> 146471470 | AA9: =SUM(AA10:AA25) -> 3893318.1 | AB9: =SUM(AB10:AB25) -> 1.2943744e+08 | AC9: =SUM(AC10:AC25) -> 13140716 | AD9: =AB9/Z9*100 -> 88.370408
A10: 1 | B10: สสภ.1 | C10: 1776360 | D10: 1480300 | E10: =SUM(C10-D10) -> 296060 | F10: =D10/C10*100 -> 83.333333 | G10: 106338 | H10: 98463 | I10: =SUM(G10-H10) -> 7875 | J10: =H10/G10*100 -> 92.594369 | K10: 839903 | L10: 50500 | M10: 594060.59 | N10: =K10-L10-M10 -> 195342.41 | O10: =M10/K10*100 -> 70.729666 | P10: 2701000 | Q10: 0 | R10: 2597000 | S10: =P10-Q10-R10 -> 104000 | T10: =R10/P10*100 -> 96.149574 | U10: 3873403 | V10: 0 | W10: 3663991.5 | X10: =U10-V10-W10 -> 209411.49 | Y10: =W10/U10*100 -> 94.593604 | Z10: =SUM(C10,K10,P10,U10,G10) -> 9297004 | AA10: =SUM(L10,Q10,V10) -> 50500 | AB10: =SUM(D10,M10,R10,W10,H10) -> 8433815.1 | AC10: =Z10-AA10-AB10 -> 812688.9 | AD10: =AB10/Z10*100 -> 90.715408
A11: 2 | B11: สสภ.2 | C11: 1670880 | D11: 1312954.7 | E11: =SUM(C11-D11) -> 357925.33 | F11: =D11/C11*100 -> 78.578633 | G11: 39981 | H11: 31731 | I11: =SUM(G11-H11) -> 8250 | J11: =H11/G11*100 -> 79.365198 | K11: 877653 | L11: 36000 | M11: 732910.04 | N11: =K11-L11-M11 -> 108742.96 | O11: =M11/K11*100 -> 83.507951 | P11: 3391000 | Q11: 0 | R11: 3278600 | S11: =P11-Q11-R11 -> 112400 | T11: =R11/P11*100 -> 96.685344 | U11: 3873403 | V11: 164680 | W11: 3444123.4 | X11: =U11-V11-W11 -> 264599.63 | Y11: =W11/U11*100 -> 88.917248 | Z11: =SUM(C11,K11,P11,U11,G11) -> 9852917 | AA11: =SUM(L11,Q11,V11) -> 200680 | AB11: =SUM(D11,M11,R11,W11,H11) -> 8800319.1 | AC11: =Z11-AA11-AB11 -> 851917.92 | AD11: =AB11/Z11*100 -> 89.31689
A12: 3 | B12: สสภ.3 | C12: 1629240 | D12: 1357700 | E12: =SUM(C12-D12) -> 271540 | F12: =D12/C12*100 -> 83.333333 | G12: 159040 | H12: 140380 | I12: =SUM(G12-H12) -> 18660 | J12: =H12/G12*100 -> 88.267103 | K12: 883502 | L12: 0 | M12: 730979.52 | N12: =K12-L12-M12 -> 152522.48 | O12: =M12/K12*100 -> 82.7366 | P12: 2091000 | Q12: 0 | R12: 2066600 | S12: =P12-Q12-R12 -> 24400 | T12: =R12/P12*100 -> 98.833094 | U12: 3694125 | V12: 28484.39 | W12: 3257983.2 | X12: =U12-V12-W12 -> 407657.4 | Y12: =W12/U12*100 -> 88.193637 | Z12: =SUM(C12,K12,P12,U12,G12) -> 8456907 | AA12: =SUM(L12,Q12,V12) -> 28484.39 | AB12: =SUM(D12,M12,R12,W12,H12) -> 7553642.7 | AC12: =Z12-AA12-AB12 -> 874779.88 | AD12: =AB12/Z12*100 -> 89.319212
A13: 4 | B13: สสภ.4 | C13: 1752600 | D13: 1460500 | E13: =SUM(C13-D13) -> 292100 | F13: =D13/C13*100 -> 83.333333 | G13: 39265 | H13: 32515 | I13: =SUM(G13-H13) -> 6750 | J13: =H13/G13*100 -> 82.809118 | K13: 967653 | L13: 29853 | M13: 859250.19 | N13: =K13-L13-M13 -> 78549.81 | O13: =M13/K13*100 -> 88.797347 | P13: 2701700 | Q13: 0 | R13: 2701700 | S13: =P13-Q13-R13 -> 0 | T13: =R13/P13*100 -> 100 | U13: 3314800 | V13: 159171 | W13: 2875212.8 | X13: =U13-V13-W13 -> 280416.25 | Y13: =W13/U13*100 -> 86.738649 | Z13: =SUM(C13,K13,P13,U13,G13) -> 8776018 | AA13: =SUM(L13,Q13,V13) -> 189024 | AB13: =SUM(D13,M13,R13,W13,H13) -> 7929177.9 | AC13: =Z13-AA13-AB13 -> 657816.06 | AD13: =AB13/Z13*100 -> 90.35052
A14: 5 | B14: สสภ.5 | C14: 1542540 | D14: 1288990 | E14: =SUM(C14-D14) -> 253550 | F14: =D14/C14*100 -> 83.562825 | G14: 265458 | H14: 253082.3 | I14: =SUM(G14-H14) -> 12375.7 | J14: =H14/G14*100 -> 95.337982 | K14: 1465986 | L14: 0 | M14: 1451247.3 | N14: =K14-L14-M14 -> 14738.73 | O14: =M14/K14*100 -> 98.99462 | P14: 1091000 | Q14: 0 | R14: 1070400 | S14: =P14-Q14-R14 -> 20600 | T14: =R14/P14*100 -> 98.111824 | U14: 3418060 | V14: 12000 | W14: 3054176.1 | X14: =U14-V14-W14 -> 351883.94 | Y14: =W14/U14*100 -> 89.35408 | Z14: =SUM(C14,K14,P14,U14,G14) -> 7783044 | AA14: =SUM(L14,Q14,V14) -> 12000 | AB14: =SUM(D14,M14,R14,W14,H14) -> 7117895.6 | AC14: =Z14-AA14-AB14 -> 653148.37 | AD14: =AB14/Z14*100 -> 91.453879
A15: 6 | B15: สสภ.6 | C15: 1929840 | D15: 1608200 | E15: =SUM(C15-D15) -> 321640 | F15: =D15/C15*100 -> 83.333333 | G15: 216470 | H15: 205995 | I15: =SUM(G15-H15) -> 10475 | J15: =H15/G15*100 -> 95.160992 | K15: 1070986 | L15: 25410 | M15: 918007.6 | N15: =K15-L15-M15 -> 127568.4 | O15: =M15/K15*100 -> 85.716116 | P15: 1504350 | Q15: 0 | R15: 1504350 | S15: =P15-Q15-R15 -> 0 | T15: =R15/P15*100 -> 100 | U15: 4491802 | V15: 44586.9 | W15: 4036041.3 | X15: =U15-V15-W15 -> 411173.83 | Y15: =W15/U15*100 -> 89.853499 | Z15: =SUM(C15,K15,P15,U15,G15) -> 9213448 | AA15: =SUM(L15,Q15,V15) -> 69996.9 | AB15: =SUM(D15,M15,R15,W15,H15) -> 8272593.9 | AC15: =Z15-AA15-AB15 -> 870857.23 | AD15: =AB15/Z15*100 -> 89.788252
A16: 7 | B16: สสภ.7 | C16: 2119293 | D16: 1751312.9 | E16: =SUM(C16-D16) -> 367980.12 | F16: =D16/C16*100 -> 82.636657 | G16: 51594 | H16: 42662 | I16: =SUM(G16-H16) -> 8932 | J16: =H16/G16*100 -> 82.687909 | K16: 887187 | L16: 6000 | M16: 810475.06 | N16: =K16-L16-M16 -> 70711.94 | O16: =M16/K16*100 -> 91.353352 | P16: 868600 | Q16: 0 | R16: 868600 | S16: =P16-Q16-R16 -> 0 | T16: =R16/P16*100 -> 100 | U16: 3470125 | V16: 168842.6 | W16: 2484226.5 | X16: =U16-V16-W16 -> 817055.88 | Y16: =W16/U16*100 -> 71.588964 | Z16: =SUM(C16,K16,P16,U16,G16) -> 7396799 | AA16: =SUM(L16,Q16,V16) -> 174842.6 | AB16: =SUM(D16,M16,R16,W16,H16) -> 5957276.5 | AC16: =Z16-AA16-AB16 -> 1264679.9 | AD16: =AB16/Z16*100 -> 80.538574
A17: 8 | B17: สสภ.8 | C17: 1781520 | D17: 1437103 | E17: =SUM(C17-D17) -> 344417.01 | F17: =D17/C17*100 -> 80.667239 | G17: 46397 | H17: 37603 | I17: =SUM(G17-H17) -> 8794 | J17: =H17/G17*100 -> 81.046188 | K17: 894187 | L17: 42000 | M17: 789367.55 | N17: =K17-L17-M17 -> 62819.45 | O17: =M17/K17*100 -> 88.277681 | P17: 1218000 | Q17: 0 | R17: 1218000 | S17: =P17-Q17-R17 -> 0 | T17: =R17/P17*100 -> 100 | U17: 3500005 | V17: 194959 | W17: 3064946.8 | X17: =U17-V17-W17 -> 240099.17 | Y17: =W17/U17*100 -> 87.569784 | Z17: =SUM(C17,K17,P17,U17,G17) -> 7440109 | AA17: =SUM(L17,Q17,V17) -> 236959 | AB17: =SUM(D17,M17,R17,W17,H17) -> 6547020.4 | AC17: =Z17-AA17-AB17 -> 656129.63 | AD17: =AB17/Z17*100 -> 87.996296
A18: 9 | B18: สสภ.9 | C18: 1904520 | D18: 1587100 | E18: =SUM(C18-D18) -> 317420 | F18: =D18/C18*100 -> 83.333333 | G18: 521005 | H18: 513130 | I18: =SUM(G18-H18) -> 7875 | J18: =H18/G18*100 -> 98.488498 | K18: 803280 | L18: 0 | M18: 705858.32 | N18: =K18-L18-M18 -> 97421.68 | O18: =M18/K18*100 -> 87.872015 | P18: 4561000 | Q18: 0 | R18: 4435800 | S18: =P18-Q18-R18 -> 125200 | T18: =R18/P18*100 -> 97.254988 | U18: 3740503 | V18: 278718.7 | W18: 3089750 | X18: =U18-V18-W18 -> 372034.3 | Y18: =W18/U18*100 -> 82.602527 | Z18: =SUM(C18,K18,P18,U18,G18) -> 11530308 | AA18: =SUM(L18,Q18,V18) -> 278718.7 | AB18: =SUM(D18,M18,R18,W18,H18) -> 10331638 | AC18: =Z18-AA18-AB18 -> 919950.98 | AD18: =AB18/Z18*100 -> 89.604183
A19: 10 | B19: สสภ.10 | C19: 1925640 | D19: 1604700 | E19: =SUM(C19-D19) -> 320940 | F19: =D19/C19*100 -> 83.333333 | G19: 142280 | H19: 130905 | I19: =SUM(G19-H19) -> 11375 | J19: =H19/G19*100 -> 92.005201 | K19: 986252 | L19: 0 | M19: 900198.29 | N19: =K19-L19-M19 -> 86053.71 | O19: =M19/K19*100 -> 91.274673 | P19: 6299000 | Q19: 960000 | R19: 5339000 | S19: =P19-Q19-R19 -> 0 | T19: =R19/P19*100 -> 84.759486 | U19: 3433978 | V19: 60059.1 | W19: 3168226.7 | X19: =U19-V19-W19 -> 205692.17 | Y19: =W19/U19*100 -> 92.261125 | Z19: =SUM(C19,K19,P19,U19,G19) -> 12787150 | AA19: =SUM(L19,Q19,V19) -> 1020059.1 | AB19: =SUM(D19,M19,R19,W19,H19) -> 11143030 | AC19: =Z19-AA19-AB19 -> 624060.88 | AD19: =AB19/Z19*100 -> 87.142405
A20: 11 | B20: สสภ.11 | C20: 1521000 | D20: 1267500 | E20: =SUM(C20-D20) -> 253500 | F20: =D20/C20*100 -> 83.333333 | G20: 421805 | H20: 399782 | I20: =SUM(G20-H20) -> 22023 | J20: =H20/G20*100 -> 94.778867 | K20: 905294.5 | L20: 0 | M20: 802481.4 | N20: =K20-L20-M20 -> 102813.1 | O20: =M20/K20*100 -> 88.643132 | P20: 5078300 | Q20: 0 | R20: 4878290.9 | S20: =P20-Q20-R20 -> 200009.1 | T20: =R20/P20*100 -> 96.061495 | U20: 3391153 | V20: 46332 | W20: 3278598.6 | X20: =U20-V20-W20 -> 66222.41 | Y20: =W20/U20*100 -> 96.68094 | Z20: =SUM(C20,K20,P20,U20,G20) -> 11317552 | AA20: =SUM(L20,Q20,V20) -> 46332 | AB20: =SUM(D20,M20,R20,W20,H20) -> 10626653 | AC20: =Z20-AA20-AB20 -> 644567.61 | AD20: =AB20/Z20*100 -> 93.895327
A21: 12 | B21: สสภ.12 | C21: 2117280 | D21: 1764400 | E21: =SUM(C21-D21) -> 352880 | F21: =D21/C21*100 -> 83.333333 | G21: 51726 | H21: 42726 | I21: =SUM(G21-H21) -> 9000 | J21: =H21/G21*100 -> 82.600626 | K21: 887319 | L21: 6420 | M21: 761907.43 | N21: =K21-L21-M21 -> 118991.57 | O21: =M21/K21*100 -> 85.866236 | P21: 2347500 | Q21: 0 | R21: 2243900 | S21: =P21-Q21-R21 -> 103600 | T21: =R21/P21*100 -> 95.586794 | U21: 3788615 | V21: 118835.4 | W21: 3208680.5 | X21: =U21-V21-W21 -> 461099.14 | Y21: =W21/U21*100 -> 84.692703 | Z21: =SUM(C21,K21,P21,U21,G21) -> 9192440 | AA21: =SUM(L21,Q21,V21) -> 125255.4 | AB21: =SUM(D21,M21,R21,W21,H21) -> 8021613.9 | AC21: =Z21-AA21-AB21 -> 1045570.7 | AD21: =AB21/Z21*100 -> 87.263163
A22: 13 | B22: สสภ.13 | C22: 1798080 | D22: 1460650 | E22: =SUM(C22-D22) -> 337430 | F22: =D22/C22*100 -> 81.233872 | G22: 45958 | H22: 36813 | I22: =SUM(G22-H22) -> 9145 | J22: =H22/G22*100 -> 80.101397 | K22: 948935 | L22: 40173.15 | M22: 756995.77 | N22: =K22-L22-M22 -> 151766.08 | O22: =M22/K22*100 -> 79.773195 | P22: 370900 | Q22: 0 | R22: 365700 | S22: =P22-Q22-R22 -> 5200 | T22: =R22/P22*100 -> 98.598005 | U22: 4167157 | V22: 496749.9 | W22: 3370762.6 | X22: =U22-V22-W22 -> 299644.46 | Y22: =W22/U22*100 -> 80.888784 | Z22: =SUM(C22,K22,P22,U22,G22) -> 7331030 | AA22: =SUM(L22,Q22,V22) -> 536923.05 | AB22: =SUM(D22,M22,R22,W22,H22) -> 5990921.4 | AC22: =Z22-AA22-AB22 -> 803185.54 | AD22: =AB22/Z22*100 -> 81.72005
A23: 14 | B23: สสภ.14 | C23: 1996680 | D23: 1663900 | E23: =SUM(C23-D23) -> 332780 | F23: =D23/C23*100 -> 83.333333 | G23: 45757 | H23: 37908 | I23: =SUM(G23-H23) -> 7849 | J23: =H23/G23*100 -> 82.84634 | K23: 847243 | L23: 94365 | M23: 738973.55 | N23: =K23-L23-M23 -> 13904.45 | O23: =M23/K23*100 -> 87.220968 | P23: 1851000 | Q23: 0 | R23: 1609320 | S23: =P23-Q23-R23 -> 241680 | T23: =R23/P23*100 -> 86.943274 | U23: 3635607 | V23: 295791.55 | W23: 3050629.9 | X23: =U23-V23-W23 -> 289185.51 | Y23: =W23/U23*100 -> 83.909783 | Z23: =C23+G23+K23+P23+U23 -> 8376287 | AA23: =SUM(L23,Q23,V23) -> 390156.55 | AB23: =SUM(D23,M23,R23,W23,H23) -> 7100731.5 | AC23: =Z23-AA23-AB23 -> 885398.96 | AD23: =AB23/Z23*100 -> 84.771827
A24: 15 | B24: สสภ.15 | C24: 1354440 | D24: 1128700 | E24: =SUM(C24-D24) -> 225740 | F24: =D24/C24*100 -> 83.333333 | G24: 446926 | H24: 368895 | I24: =SUM(G24-H24) -> 78031 | J24: =H24/G24*100 -> 82.54051 | K24: 807476.5 | L24: 0 | M24: 684689.24 | N24: =K24-L24-M24 -> 122787.26 | O24: =M24/K24*100 -> 84.793705 | P24: 2591000 | Q24: 0 | R24: 2532150 | S24: =P24-Q24-R24 -> 58850 | T24: =R24/P24*100 -> 97.728676 | U24: 3599245 | V24: 310187.2 | W24: 2824869.7 | X24: =U24-V24-W24 -> 464188.13 | Y24: =W24/U24*100 -> 78.485062 | Z24: =SUM(C24,K24,P24,U24,G24) -> 8799087.5 | AA24: =SUM(L24,Q24,V24) -> 310187.2 | AB24: =SUM(D24,M24,R24,W24,H24) -> 7539303.9 | AC24: =Z24-AA24-AB24 -> 949596.39 | AD24: =AB24/Z24*100 -> 85.682793
A25: 16 | B25: สสภ.16 | C25: 1948560 | D25: 1623800 | E25: =SUM(C25-D25) -> 324760 | F25: =D25/C25*100 -> 83.333333 | G25: 46422 | H25: 38547 | I25: =SUM(G25-H25) -> 7875 | J25: =H25/G25*100 -> 83.03606 | K25: 879668 | L25: 0 | M25: 879473.14 | N25: =K25-L25-M25 -> 194.86 | O25: =M25/K25*100 -> 99.977848 | P25: 2251000 | Q25: 0 | R25: 2229000 | S25: =P25-Q25-R25 -> 22000 | T25: =R25/P25*100 -> 99.022657 | U25: 3795719 | V25: 223199.25 | W25: 3300982.4 | X25: =U25-V25-W25 -> 271537.38 | Y25: =W25/U25*100 -> 86.965931 | Z25: =SUM(C25,K25,P25,U25,G25) -> 8921369 | AA25: =SUM(L25,Q25,V25) -> 223199.25 | AB25: =SUM(D25,M25,R25,W25,H25) -> 8071802.5 | AC25: =Z25-AA25-AB25 -> 626367.24 | AD25: =AB25/Z25*100 -> 90.477174
Y27: (ข้อมูลจาก GFMIS 2/08/64 เวลา: 8.51 น.)

Sheet ทสจ. 
A1: รายงานผลการเบิกจ่ายงบประมาณ ประจำปีงบประมาณ พ.ศ. 2564
A2: สำนักงานทรัพยากรธรรมชาติและสิ่งแวดล้อมจังหวัด
A3: สะสมเดือนกรกฎาคม 2564 จากระบบ GFMIS
A5: ที่ | B5: หน่วยงาน | C5: แผนงานบุคลากรภาครัฐ | K5: แผนงานพื้นฐาน | P5: แผนงานพื้นฐาน | U5: แผนงานพื้นฐาน/ยุทธศาสตร์/บูรณาการ | Z5: แผนงานบุคลากร/พื้นฐาน/ยุทธศาสตร์/บูรณาการ
C6: งบบุคลากร | G6: งบดำเนินงาน | K6: งบดำเนินงาน | P6: งบลงทุน | U6: งบรายจ่ายอื่น | Z6: รวมผลการเบิกจ่ายทุกหมวด
C7: งปม.ที่ได้รับ | D7: ผลเบิกจ่าย | E7: คงเหลือ | F7: ร้อยละ | G7: งปม.ที่ได้รับ | H7: ผลเบิกจ่าย | I7: คงเหลือ | J7: ร้อยละ | K7: งปม.ที่ได้รับ | L7: PO | M7: ผลเบิกจ่าย | N7: คงเหลือ | O7: ร้อยละ | P7: งปม.ที่ได้รับ | Q7: PO | R7: ผลเบิกจ่าย | S7: คงเหลือ | T7: ร้อยละ | U7: งปม.ที่ได้รับ | V7: PO | W7: ผลเบิกจ่าย | X7: คงเหลือ | Y7: ร้อยละ | Z7: งปม.ที่ได้รับ | AA7: PO | AB7: ผลเบิกจ่าย | AC7: คงเหลือ | AD7: ร้อยละ
C8: (บาท) | D8: (บาท) | E8: (บาท) | F8: เบิกจ่าย | G8: (บาท) | H8: (บาท) | I8: (บาท) | J8: เบิกจ่าย | K8: (บาท) | L8: (บาท) | M8: (บาท) | N8: (บาท) | O8: เบิกจ่าย | P8: (บาท) | Q8: (บาท) | R8: (บาท) | S8: (บาท) | T8: เบิกจ่าย | U8: (บาท) | V8: (บาท) | W8: (บาท) | X8: (บาท) | Y8: เบิกจ่าย | Z8: (บาท) | AA8: (บาท) | AB8: (บาท) | AC8: (บาท) | AD8: เบิกจ่าย
B9: ทสจ. | C9: =SUM(C10:C85) -> 60968196 | D9: =SUM(D10:D85) -> 50666324 | E9: =SUM(E10:E85) -> 40394635 | F9: =D9/C9*100 -> 83.102875 | G9: =SUM(G10:G85) -> 19690269 | H9: =SUM(H10:H85) -> 16797209 | I9: =SUM(I10:I85) -> 2893059.8 | J9: =H9/G9*100 -> 85.307159 | K9: =SUM(K10:K85) -> 59643400 | L9: =SUM(L10:L85) -> 451905.69 | M9: =SUM(M10:M85) -> 46081325 | N9: =SUM(N10:N85) -> 13110169 | O9: =M9/K9*100 -> 77.261398 | P9: =SUM(P10:P85) -> 24174900 | Q9: =SUM(Q10:Q85) -> 19535940 | R9: =SUM(R10:R85) -> 3837724.1 | S9: =SUM(S10:S85) -> 801235.88 | T9: =R9/P9*100 -> 15.874829 | U9: =SUM(U10:U85) -> 29156100 | V9: =SUM(V10:V85) -> 276306.55 | W9: =SUM(W10:W85) -> 15099683 | X9: =SUM(X10:X85) -> 13780110 | Y9: =W9/U9*100 -> 51.789105 | Z9: =SUM(Z10:Z85) -> 193632865 | AA9: =SUM(AA10:AA85) -> 20264152 | AB9: =D9+H9+M9+R9+W9 -> 1.3248227e+08 | AC9: =SUM(AC10:AC85) -> 40886448 | AD9: =AB9/Z9*100 -> 68.419307
A10: 1 | B10: สมุทรปราการ | C10: 1027440 | D10: 856200 | E10: 684960 | F10: =D10/C10*100 -> 83.333333 | G10: 378134 | H10: 270834 | I10: =SUM(G10-H10) -> 107300 | J10: =H10/G10*100 -> 71.623816 | K10: 675626 | L10: 0 | M10: 542596.5 | N10: =K10-L10-M10 -> 133029.5 | O10: =M10/K10*100 -> 80.310186 | P10: 629000 | Q10: 0 | R10: 0 | S10: =P10-Q10-R10 -> 629000 | T10: =R10/P10*100 -> 0 | U10: 360905 | V10: 0 | W10: 77925.9 | X10: =U10-V10-W10 -> 282979.1 | Y10: =W10/U10*100 -> 21.591804 | Z10: =SUM(C10,K10,P10,U10,G10) -> 3071105 | AA10: =SUM(L10,Q10,V10) -> 0 | AB10: =SUM(D10,M10,R10,W10,H10) -> 1747556.4 | AC10: =Z10-AA10-AB10 -> 1323548.6 | AD10: =AB10/Z10*100 -> 56.90318
A11: 2 | B11: นนทบุรี | C11: 681240 | D11: 574279.95 | E11: 467319.95 | F11: =D11/C11*100 -> 84.299212 | G11: 147806 | H11: 112379.75 | I11: =SUM(G11-H11) -> 35426.25 | J11: =H11/G11*100 -> 76.031927 | K11: 856801 | L11: 0 | M11: 569329.15 | N11: =K11-L11-M11 -> 287471.85 | O11: =M11/K11*100 -> 66.448236 | U11: 360845 | V11: 0 | W11: 65323 | X11: =U11-V11-W11 -> 295522 | Y11: =W11/U11*100 -> 18.102787 | Z11: =SUM(C11,K11,P11,U11,G11) -> 2046692 | AA11: =SUM(L11,Q11,V11) -> 0 | AB11: =SUM(D11,M11,R11,W11,H11) -> 1321311.9 | AC11: =Z11-AA11-AB11 -> 725380.15 | AD11: =AB11/Z11*100 -> 64.558412
A12: 3 | B12: ปทุมธานี | C12: 593040 | D12: 494200 | E12: 395360 | F12: =D12/C12*100 -> 83.333333 | G12: 260957 | H12: 190815.9 | I12: =SUM(G12-H12) -> 70141.1 | J12: =H12/G12*100 -> 73.121587 | K12: 883718.5 | L12: 0 | M12: 770702.87 | N12: =K12-L12-M12 -> 113015.63 | O12: =M12/K12*100 -> 87.211354 | U12: 360845 | V12: 6900 | W12: 47280 | X12: =U12-V12-W12 -> 306665 | Y12: =W12/U12*100 -> 13.102579 | Z12: =SUM(C12,K12,P12,U12,G12) -> 2098560.5 | AA12: =SUM(L12,Q12,V12) -> 6900 | AB12: =SUM(D12,M12,R12,W12,H12) -> 1502998.8 | AC12: =Z12-AA12-AB12 -> 588661.73 | AD12: =AB12/Z12*100 -> 71.620464
A13: 4 | B13: อยุธยา | C13: 461760 | D13: 384800 | E13: 307840 | F13: =D13/C13*100 -> 83.333333 | G13: 206801 | H13: 164502 | I13: =SUM(G13-H13) -> 42299 | J13: =H13/G13*100 -> 79.546037 | K13: 757456 | L13: 0 | M13: 568496.5 | N13: =K13-L13-M13 -> 188959.5 | O13: =M13/K13*100 -> 75.053402 | U13: 432295 | V13: 0 | W13: 164885.75 | X13: =U13-V13-W13 -> 267409.25 | Y13: =W13/U13*100 -> 38.141952 | Z13: =SUM(C13,K13,P13,U13,G13) -> 1858312 | AA13: =SUM(L13,Q13,V13) -> 0 | AB13: =SUM(D13,M13,R13,W13,H13) -> 1282684.2 | AC13: =Z13-AA13-AB13 -> 575627.75 | AD13: =AB13/Z13*100 -> 69.02416
A14: 5 | B14: อ่างทอง | C14: 939840 | D14: 783200 | E14: 626560 | F14: =D14/C14*100 -> 83.333333 | G14: 260025 | H14: 244650 | I14: =SUM(G14-H14) -> 15375 | J14: =H14/G14*100 -> 94.087107 | K14: 552068 | L14: 0 | M14: 357120.45 | N14: =K14-L14-M14 -> 194947.55 | O14: =M14/K14*100 -> 64.687765 | U14: 175235 | V14: 0 | W14: 104284 | X14: =U14-V14-W14 -> 70951 | Y14: =W14/U14*100 -> 59.510942 | Z14: =SUM(C14,K14,P14,U14,G14) -> 1927168 | AA14: =SUM(L14,Q14,V14) -> 0 | AB14: =SUM(D14,M14,R14,W14,H14) -> 1489254.4 | AC14: =Z14-AA14-AB14 -> 437913.55 | AD14: =AB14/Z14*100 -> 77.276836
A15: 6 | B15: ลพบุรี | C15: 838440 | D15: 698700 | E15: 558960 | F15: =D15/C15*100 -> 83.333333 | G15: 240095 | H15: 188720 | I15: =SUM(G15-H15) -> 51375 | J15: =H15/G15*100 -> 78.60222 | K15: 800091 | L15: 13500 | M15: 526867.46 | N15: =K15-L15-M15 -> 259723.54 | O15: =M15/K15*100 -> 65.850942 | U15: 410845 | V15: 0 | W15: 107753.88 | X15: =U15-V15-W15 -> 303091.12 | Y15: =W15/U15*100 -> 26.22738 | Z15: =SUM(C15,K15,P15,U15,G15) -> 2289471 | AA15: =SUM(L15,Q15,V15) -> 13500 | AB15: =SUM(D15,M15,R15,W15,H15) -> 1522041.3 | AC15: =Z15-AA15-AB15 -> 753929.66 | AD15: =AB15/Z15*100 -> 66.480045
A16: 7 | B16: สิงห์บุรี | C16: 878760 | D16: 732300 | E16: 585840 | F16: =D16/C16*100 -> 83.333333 | G16: 409609 | H16: 326104.8 | I16: =SUM(G16-H16) -> 83504.2 | J16: =H16/G16*100 -> 79.61368 | K16: 738533 | L16: 0 | M16: 630856.42 | N16: =K16-L16-M16 -> 107676.58 | O16: =M16/K16*100 -> 85.420207 | U16: 225235 | V16: 0 | W16: 101652 | X16: =U16-V16-W16 -> 123583 | Y16: =W16/U16*100 -> 45.131529 | Z16: =SUM(C16,K16,P16,U16,G16) -> 2252137 | AA16: =SUM(L16,Q16,V16) -> 0 | AB16: =SUM(D16,M16,R16,W16,H16) -> 1790913.2 | AC16: =Z16-AA16-AB16 -> 461223.78 | AD16: =AB16/Z16*100 -> 79.520616
A17: 8 | B17: ชัยนาท | C17: 860640 | D17: 717200 | E17: 573760 | F17: =D17/C17*100 -> 83.333333 | G17: 164911 | H17: 119036 | I17: =SUM(G17-H17) -> 45875 | J17: =H17/G17*100 -> 72.181965 | K17: 596320 | L17: 8000 | M17: 407532.54 | N17: =K17-L17-M17 -> 180787.46 | O17: =M17/K17*100 -> 68.34125 | U17: 175235 | V17: 0 | W17: 144630 | X17: =U17-V17-W17 -> 30605 | Y17: =W17/U17*100 -> 82.534882 | Z17: =SUM(C17,K17,P17,U17,G17) -> 1797106 | AA17: =SUM(L17,Q17,V17) -> 8000 | AB17: =SUM(D17,M17,R17,W17,H17) -> 1388398.5 | AC17: =Z17-AA17-AB17 -> 400707.46 | AD17: =AB17/Z17*100 -> 77.257465
A18: 9 | B18: สระบุรี | C18: 1165200 | D18: 943213.72 | E18: 749013.72 | F18: =D18/C18*100 -> 80.948654 | G18: 186607 | H18: 165095 | I18: =SUM(G18-H18) -> 21512 | J18: =H18/G18*100 -> 88.472029 | K18: 711774 | L18: 0 | M18: 621213.06 | N18: =K18-L18-M18 -> 90560.94 | O18: =M18/K18*100 -> 87.276728 | U18: 438167.5 | V18: 0 | W18: 346718.01 | X18: =U18-V18-W18 -> 91449.49 | Y18: =W18/U18*100 -> 79.129102 | Z18: =SUM(C18,K18,P18,U18,G18) -> 2501748.5 | AA18: =SUM(L18,Q18,V18) -> 0 | AB18: =SUM(D18,M18,R18,W18,H18) -> 2076239.8 | AC18: =Z18-AA18-AB18 -> 425508.71 | AD18: =AB18/Z18*100 -> 82.991547
A19: 10 | B19: ชลบุรี | C19: 1135560 | D19: 946300 | E19: 757040 | F19: =D19/C19*100 -> 83.333333 | G19: 137580 | H19: 132080 | I19: =SUM(G19-H19) -> 5500 | J19: =H19/G19*100 -> 96.002326 | K19: 1185044 | L19: 0 | M19: 807981.05 | N19: =K19-L19-M19 -> 377062.95 | O19: =M19/K19*100 -> 68.181523 | U19: 175235 | V19: 0 | W19: 27229 | X19: =U19-V19-W19 -> 148006 | Y19: =W19/U19*100 -> 15.538563 | Z19: =SUM(C19,K19,P19,U19,G19) -> 2633419 | AA19: =SUM(L19,Q19,V19) -> 0 | AB19: =SUM(D19,M19,R19,W19,H19) -> 1913590.1 | AC19: =Z19-AA19-AB19 -> 719828.95 | AD19: =AB19/Z19*100 -> 72.665613
A20: 11 | B20: ระยอง | C20: 1122720 | D20: 935600 | E20: 748480 | F20: =D20/C20*100 -> 83.333333 | G20: 260439 | H20: 228009.97 | I20: =SUM(G20-H20) -> 32429.03 | J20: =H20/G20*100 -> 87.54832 | K20: 706700 | L20: 0 | M20: 459426.62 | N20: =K20-L20-M20 -> 247273.38 | O20: =M20/K20*100 -> 65.010134 | U20: 360845 | V20: 0 | W20: 240757 | X20: =U20-V20-W20 -> 120088 | Y20: =W20/U20*100 -> 66.720337 | Z20: =SUM(C20,K20,P20,U20,G20) -> 2450704 | AA20: =SUM(L20,Q20,V20) -> 0 | AB20: =SUM(D20,M20,R20,W20,H20) -> 1863793.6 | AC20: =Z20-AA20-AB20 -> 586910.41 | AD20: =AB20/Z20*100 -> 76.051355
A21: 12 | B21: จันทบุรี | C21: 1097760 | D21: 914800 | E21: 731840 | F21: =D21/C21*100 -> 83.333333 | G21: 252628 | H21: 241328 | I21: =SUM(G21-H21) -> 11300 | J21: =H21/G21*100 -> 95.52702 | K21: 717823 | L21: 0 | M21: 491098.24 | N21: =K21-L21-M21 -> 226724.76 | O21: =M21/K21*100 -> 68.414949 | U21: 202557.5 | V21: 4000 | W21: 116299.4 | X21: =U21-V21-W21 -> 82258.1 | Y21: =W21/U21*100 -> 57.415499 | Z21: =SUM(C21,K21,P21,U21,G21) -> 2270768.5 | AA21: =SUM(L21,Q21,V21) -> 4000 | AB21: =SUM(D21,M21,R21,W21,H21) -> 1763525.6 | AC21: =Z21-AA21-AB21 -> 503242.86 | AD21: =AB21/Z21*100 -> 77.662062
A22: 13 | B22: ตราด | C22: 940680 | D22: 783900 | E22: 627120 | F22: =D22/C22*100 -> 83.333333 | G22: 139813 | H22: 124438 | I22: =SUM(G22-H22) -> 15375 | J22: =H22/G22*100 -> 89.003169 | K22: 576985 | L22: 0 | M22: 447864.93 | N22: =K22-L22-M22 -> 129120.07 | O22: =M22/K22*100 -> 77.62159 | U22: 252557.5 | V22: 0 | W22: 132411.14 | X22: =U22-V22-W22 -> 120146.36 | Y22: =W22/U22*100 -> 52.428116 | Z22: =SUM(C22,K22,P22,U22,G22) -> 1910035.5 | AA22: =SUM(L22,Q22,V22) -> 0 | AB22: =SUM(D22,M22,R22,W22,H22) -> 1488614.1 | AC22: =Z22-AA22-AB22 -> 421421.43 | AD22: =AB22/Z22*100 -> 77.936461
... A26: 17 | B26: สระแก้ว | C26: 1008000 | D26: 828000 | E26: 648000 | F26: =D26/C26*100 -> 82.142857 | G26: 142646 | H26: 134500 | I26: =SUM(G26-H26) -> 8146 | J26: =H26/G26*100 -> 94.28936 | K26: 578022 | L26: 0 | M26: 450379.15 | N26: =K26-L26-M26 -> 127642.85 | O26: =M26/K26*100 -> 77.917302 | U26: 202557.5 | V26: 0 | W26: 160506.71 | X26: =U26-V26-W26 -> 42050.79 | Y26: =W26/U26*100 -> 79.240073 | Z26: =SUM(C26,K26,P26,U26,G26) -> 1931225.5 | AA26: =SUM(L26,Q26,V26) -> 0 | AB26: =SUM(D26,M26,R26,W26,H26) -> 1573385.9 | AC26: =Z26-AA26-AB26 -> 357839.64 | AD26: =AB26/Z26*100 -> 81.470852
A27: 18 | B27: นครราชสีมา | C27: 1107000 | D27: 922500 | E27: 738000 | F27: =D27/C27*100 -> 83.333333 | G27: 409296 | H27: 352456 | I27: =SUM(G27-H27) -> 56840 | J27: =H27/G27*100 -> 86.11274 | K27: 1854184 | L27: 58900 | M27: 1486713.7 | N27: =K27-L27-M27 -> 308570.34 | O27: =M27/K27*100 -> 80.18156 | U27: 668447.5 | V27: 0 | W27: 485937 | X27: =U27-V27-W27 -> 182510.5 | Y27: =W27/U27*100 -> 72.69636 | Z27: =C27+G27+K27+P27+U27 -> 4038927.5 | AA27: =SUM(L27,Q27,V27) -> 58900 | AB27: =SUM(D27,M27,R27,W27,H27) -> 3247606.7 | AC27: =Z27-AA27-AB27 -> 732420.84 | AD27: =AB27/Z27*100 -> 80.407649
A28: 19 | B28: บุรีรัมย์ | C28: 654120 | D28: 545100 | E28: 436080 | F28: =D28/C28*100 -> 83.333333 | G28: 168870 | H28: 143870 | I28: =SUM(G28-H28) -> 25000 | J28: =H28/G28*100 -> 85.195713 | K28: 955814 | L28: 0 | M28: 600315.31 | N28: =K28-L28-M28 -> 355498.69 | O28: =M28/K28*100 -> 62.806708 | U28: 499167.5 | V28: 0 | W28: 225103.1 | X28: =U28-V28-W28 -> 274064.4 | Y28: =W28/U28*100 -> 45.095704 | Z28: =SUM(C28,K28,P28,U28,G28) -> 2277971.5 | AA28: =SUM(L28,Q28,V28) -> 0 | AB28: =SUM(D28,M28,R28,W28,H28) -> 1514388.4 | AC28: =Z28-AA28-AB28 -> 763583.09 | AD28: =AB28/Z28*100 -> 66.479691
A29: 20 | B29: สุรินทร์ | C29: 647160 | D29: 539300 | E29: 431440 | F29: =D29/C29*100 -> 83.333333 | G29: 268910 | H29: 240360 | I29: =SUM(G29-H29) -> 28550 | J29: =H29/G29*100 -> 89.383065 | K29: 853685 | L29: 0 | M29: 759566.09 | N29: =K29-L29-M29 -> 94118.91 | O29: =M29/K29*100 -> 88.974984 | P29: 2190000 | Q29: 2190000 | R29: 0 | S29: =P29-Q29-R29 -> 0 | T29: =R29/P29*100 -> 0 | U29: 252557.5 | V29: 0 | W29: 86830 | X29: =U29-V29-W29 -> 165727.5 | Y29: =W29/U29*100 -> 34.38029 | Z29: =SUM(C29,K29,P29,U29,G29) -> 4212312.5 | AA29: =SUM(L29,Q29,V29) -> 2190000 | AB29: =SUM(D29,M29,R29,W29,H29) -> 1626056.1 | AC29: =Z29-AA29-AB29 -> 396256.41 | AD29: =AB29/Z29*100 -> 38.602456
A30: 21 | B30: ศรีสะเกษ | C30: 824756 | D30: 680716.25 | E30: 536676.25 | F30: =D30/C30*100 -> 82.535471 | G30: 226876 | H30: 213216.32 | I30: =SUM(G30-H30) -> 13659.68 | J30: =H30/G30*100 -> 93.979231 | K30: 858595 | L30: 6750 | M30: 690159.19 | N30: =K30-L30-M30 -> 161685.81 | O30: =M30/K30*100 -> 80.382391 | U30: 268817.5 | V30: 0 | W30: 206346 | X30: =U30-V30-W30 -> 62471.5 | Y30: =W30/U30*100 -> 76.760628 | Z30: =SUM(C30,K30,P30,U30,G30) -> 2179044.5 | AA30: =SUM(L30,Q30,V30) -> 6750 | AB30: =SUM(D30,M30,R30,W30,H30) -> 1790437.8 | AC30: =Z30-AA30-AB30 -> 381856.74 | AD30: =AB30/Z30*100 -> 82.166186
A31: 22 | B31: อุบลราชธานี | C31: 566880 | D31: 472400 | E31: 377920 | F31: =D31/C31*100 -> 83.333333 | G31: 193120 | H31: 191228 | I31: =SUM(G31-H31) -> 1892 | J31: =H31/G31*100 -> 99.020298 | K31: 867418 | L31: 0 | M31: 718100.17 | N31: =K31-L31-M31 -> 149317.83 | O31: =M31/K31*100 -> 82.785943 | U31: 482837.5 | V31: 10200 | W31: 328921 | X31: =U31-V31-W31 -> 143716.5 | Y31: =W31/U31*100 -> 68.122505 | Z31: =SUM(C31,K31,P31,U31,G31) -> 2110255.5 | AA31: =SUM(L31,Q31,V31) -> 10200 | AB31: =SUM(D31,M31,R31,W31,H31) -> 1710649.2 | AC31: =Z31-AA31-AB31 -> 389406.33 | AD31: =AB31/Z31*100 -> 81.063604
A32: 23 | B32: ยโสธร | C32: 641880 | D32: 534900 | E32: 427920 | F32: =D32/C32*100 -> 83.333333 | G32: 153110 | H32: 123860 | I32: =SUM(G32-H32) -> 29250 | J32: =H32/G32*100 -> 80.896088 | K32: 662539 | L32: 36500 | M32: 572610.7 | N32: =K32-L32-M32 -> 53428.3 | O32: =M32/K32*100 -> 86.426716 | U32: 225235 | V32: 0 | W32: 98264 | X32: =U32-V32-W32 -> 126971 | Y32: =W32/U32*100 -> 43.627323 | Z32: =SUM(C32,K32,P32,U32,G32) -> 1682764 | AA32: =SUM(L32,Q32,V32) -> 36500 | AB32: =SUM(D32,M32,R32,W32,H32) -> 1329634.7 | AC32: =Z32-AA32-AB32 -> 316629.3 | AD32: =AB32/Z32*100 -> 79.014924
A33: 24 | B33: ชัยภูมิ | C33: 535800 | D33: 446500 | E33: 357200 | F33: =D33/C33*100 -> 83.333333 | G33: 559976 | H33: 436600 | I33: =SUM(G33-H33) -> 123376 | J33: =H33/G33*100 -> 77.967627 | K33: 741656 | L33: 21450 | M33: 585188.35 | N33: =K33-L33-M33 -> 135017.65 | O33: =M33/K33*100 -> 78.902935 | P33: 1529000 | Q33: 1529000 | R33: 0 | S33: =P33-Q33-R33 -> 0 | T33: =R33/P33*100 -> 0 | U33: 252557.5 | V33: 0 | W33: 155583 | X33: =U33-V33-W33 -> 96974.5 | Y33: =W33/U33*100 -> 61.603001 | Z33: =SUM(C33,K33,P33,U33,G33) -> 3618989.5 | AA33: =SUM(L33,Q33,V33) -> 1550450 | AB33: =SUM(D33,M33,R33,W33,H33) -> 1623871.4 | AC33: =Z33-AA33-AB33 -> 444668.15 | AD33: =AB33/Z33*100 -> 44.87085
A34: 25 | B34: อำนาจเจริญ | C34: 863640 | D34: 719700 | E34: 575760 | F34: =D34/C34*100 -> 83.333333 | G34: 307625 | H34: 288815 | I34: =SUM(G34-H34) -> 18810 | J34: =H34/G34*100 -> 93.885412 | K34: 573502 | L34: 0 | M34: 536716.75 | N34: =K34-L34-M34 -> 36785.25 | O34: =M34/K34*100 -> 93.585855 | U34: 202557.5 | V34: 0 | W34: 184720 | X34: =U34-V34-W34 -> 17837.5 | Y34: =W34/U34*100 -> 91.193859 | Z34: =SUM(C34,K34,P34,U34,G34) -> 1947324.5 | AA34: =SUM(L34,Q34,V34) -> 0 | AB34: =SUM(D34,M34,R34,W34,H34) -> 1729951.8 | AC34: =Z34-AA34-AB34 -> 217372.75 | AD34: =AB34/Z34*100 -> 88.837364
A35: 26 | B35: หนองบัวลำภู | C35: 797160 | D35: 727910 | E35: 595050 | F35: =D35/C35*100 -> 91.312911 | G35: 479628 | H35: 463397.64 | I35: =SUM(G35-H35) -> 16230.36 | J35: =H35/G35*100 -> 96.616052 | K35: 557616 | L35: 0 | M35: 464307.08 | N35: =K35-L35-M35 -> 93308.92 | O35: =M35/K35*100 -> 83.266456 | U35: 252557.5 | V35: 0 | W35: 18431 | X35: =U35-V35-W35 -> 234126.5 | Y35: =W35/U35*100 -> 7.2977441 | Z35: =SUM(C35,K35,P35,U35,G35) -> 2086961.5 | AA35: =SUM(L35,Q35,V35) -> 0 | AB35: =SUM(D35,M35,R35,W35,H35) -> 1674045.7 | AC35: =Z35-AA35-AB35 -> 412915.78 | AD35: =AB35/Z35*100 -> 80.214499
A36: 27 | B36: ขอนแก่น | C36: 1123560 | D36: 936300 | E36: 749040 | F36: =D36/C36*100 -> 83.333333 | G36: 214649 | H36: 166149 | I36: =SUM(G36-H36) -> 48500 | J36: =H36/G36*100 -> 77.404973 | K36: 933213 | L36: 0 | M36: 748679.37 | N36: =K36-L36-M36 -> 184533.63 | O36: =M36/K36*100 -> 80.22599 | P36: 9850000 | Q36: 7880000 | R36: 1811902 | S36: =P36-Q36-R36 -> 158097.97 | T36: =R36/P36*100 -> 18.394944 | U36: 225235 | V36: 0 | W36: 78006 | X36: =U36-V36-W36 -> 147229 | Y36: =W36/U36*100 -> 34.633161 | Z36: =SUM(C36,K36,P36,U36,G36) -> 12346657 | AA36: =SUM(L36,Q36,V36) -> 7880000 | AB36: =SUM(D36,M36,R36,W36,H36) -> 3741036.4 | AC36: =Z36-AA36-AB36 -> 725620.6 | AD36: =AB36/Z36*100 -> 30.299995
A37: 28 | B37: อุดรธานี | C37: 650760 | D37: 542300 | E37: 415200 | F37: =D37/C37*100 -> 83.333333 | G37: 248050 | H37: 233800 | I37: =SUM(G37-H37) -> 14250 | J37: =H37/G37*100 -> 94.25519 | K37: 831191 | L37: 13375 | M37: 650835.95 | N37: =K37-L37-M37 -> 166980.05 | O37: =M37/K37*100 -> 78.301612 | U37: 225235 | V37: 58800 | W37: 12870 | X37: =U37-V37-W37 -> 153565 | Y37: =W37/U37*100 -> 5.714032 | Z37: =SUM(C37,K37,P37,U37,G37) -> 1955236 | AA37: =SUM(L37,Q37,V37) -> 72175 | AB37: =SUM(D37,M37,R37,W37,H37) -> 1439805.9 | AC37: =Z37-AA37-AB37 -> 443255.05 | AD37: =AB37/Z37*100 -> 73.638474
A38: 29 | B38: เลย | C38: 646320 | D38: 538600 | E38: 377020 | F38: =D38/C38*100 -> 83.333333 | G38: 312870 | H38: 203460 | I38: =SUM(G38-H38) -> 109410 | J38: =H38/G38*100 -> 65.030204 | K38: 757509 | L38: 0 | M38: 664341.4 | N38: =K38-L38-M38 -> 93167.6 | O38: =M38/K38*100 -> 87.700793 | P38: 499000 | Q38: 0 | R38: 484862.09 | S38: =P38-Q38-R38 -> 14137.91 | T38: =R38/P38*100 -> 97.166752 | U38: 482837.5 | V38: 0 | W38: 242182.99 | X38: =U38-V38-W38 -> 240654.51 | Y38: =W38/U38*100 -> 50.158281 | Z38: =SUM(C38,K38,P38,U38,G38) -> 2698536.5 | AA38: =SUM(L38,Q38,V38) -> 0 | AB38: =SUM(D38,M38,R38,W38,H38) -> 2133446.5 | AC38: =Z38-AA38-AB38 -> 565090.02 | AD38: =AB38/Z38*100 -> 79.059389
A39: 30 | B39: หนองคาย | C39: 936720 | D39: 780600 | E39: 624480 | F39: =D39/C39*100 -> 83.333333 | G39: 387158 | H39: 350483 | I39: =SUM(G39-H39) -> 36675 | J39: =H39/G39*100 -> 90.527123 | K39: 609589 | L39: 0 | M39: 470608.56 | N39: =K39-L39-M39 -> 138980.44 | O39: =M39/K39*100 -> 77.20096 | U39: 252557.5 | V39: 0 | W39: 160796 | X39: =U39-V39-W39 -> 91761.5 | Y39: =W39/U39*100 -> 63.667086 | Z39: =SUM(C39,K39,P39,U39,G39) -> 2186024.5 | AA39: =SUM(L39,Q39,V39) -> 0 | AB39: =SUM(D39,M39,R39,W39,H39) -> 1762487.6 | AC39: =Z39-AA39-AB39 -> 423536.94 | AD39: =AB39/Z39*100 -> 80.625243
A40: 31 | B40: มหาสารคาม | C40: 744960 | D40: 616300 | E40: 487640 | F40: =D40/C40*100 -> 82.729274 | G40: 215285 | H40: 198596.4 | I40: =SUM(G40-H40) -> 16688.6 | J40: =H40/G40*100 -> 92.248136 | K40: 699057 | L40: 0 | M40: 684438.16 | N40: =K40-L40-M40 -> 14618.84 | O40: =M40/K40*100 -> 97.908777 | U40: 225235 | V40: 0 | W40: 197571 | X40: =U40-V40-W40 -> 27664 | Y40: =W40/U40*100 -> 87.717717 | Z40: =SUM(C40,K40,P40,U40,G40) -> 1884537 | AA40: =SUM(L40,Q40,V40) -> 0 | AB40: =SUM(D40,M40,R40,W40,H40) -> 1696905.6 | AC40: =Z40-AA40-AB40 -> 187631.44 | AD40: =AB40/Z40*100 -> 90.043632
A41: 32 | B41: ร้อยเอ็ด | C41: 767400 | D41: 612400 | E41: 489920 | F41: =D41/C41*100 -> 79.801929 | G41: 251631 | H41: 219056 | I41: =SUM(G41-H41) -> 32575 | J41: =H41/G41*100 -> 87.054457 | K41: 836078 | L41: 0 | M41: 691574.59 | N41: =K41-L41-M41 -> 144503.41 | O41: =M41/K41*100 -> 82.716516 | P41: 248900 | Q41: 0 | R41: 248900 | S41: =P41-Q41-R41 -> 0 | T41: =R41/P41*100 -> 100 | U41: 930515 | V41: 25000 | W41: 855375 | X41: =U41-V41-W41 -> 50140 | Y41: =W41/U41*100 -> 91.924902 | Z41: =SUM(C41,K41,P41,U41,G41) -> 3034524 | AA41: =SUM(L41,Q41,V41) -> 25000 | AB41: =SUM(D41,M41,R41,W41,H41) -> 2627305.6 | AC41: =Z41-AA41-AB41 -> 382218.41 | AD41: =AB41/Z41*100 -> 86.580485
A42: 33 | B42: กาฬสินธุ์ | C42: 638040 | D42: 531700 | E42: 425360 | F42: =D42/C42*100 -> 83.333333 | G42: 338168 | H42: 301918 | I42: =SUM(G42-H42) -> 36250 | J42: =H42/G42*100 -> 89.280476 | K42: 801277 | L42: 0 | M42: 677970.58 | N42: =K42-L42-M42 -> 123306.42 | O42: =M42/K42*100 -> 84.611262 | U42: 1277235 | V42: 24500 | W42: 128292.6 | X42: =U42-V42-W42 -> 1124442.4 | Y42: =W42/U42*100 -> 10.044557 | Z42: =SUM(C42,K42,P42,U42,G42) -> 3054720 | AA42: =SUM(L42,Q42,V42) -> 24500 | AB42: =SUM(D42,M42,R42,W42,H42) -> 1639881.2 | AC42: =Z42-AA42-AB42 -> 1390338.8 | AD42: =AB42/Z42*100 -> 53.683519
A43: 34 | B43: สกลนคร | C43: 564240 | D43: 470200 | E43: 360080 | F43: =D43/C43*100 -> 83.333333 | G43: 387455 | H43: 331404.74 | I43: =SUM(G43-H43) -> 56050.26 | J43: =H43/G43*100 -> 85.533737 | K43: 850724 | L43: 0 | M43: 689433.35 | N43: =K43-L43-M43 -> 161290.65 | O43: =M43/K43*100 -> 81.040778 | U43: 252557.5 | V43: 0 | W43: 133575.8 | X43: =U43-V43-W43 -> 118981.7 | Y43: =W43/U43*100 -> 52.889263 | Z43: =SUM(C43,K43,P43,U43,G43) -> 2054976.5 | AA43: =SUM(L43,Q43,V43) -> 0 | AB43: =SUM(D43,M43,R43,W43,H43) -> 1624613.9 | AC43: =Z43-AA43-AB43 -> 430362.61 | AD43: =AB43/Z43*100 -> 79.057541
A44: 35 | B44: นครพนม | C44: 719649 | D44: 587149.5 | E44: 475049.5 | F44: =D44/C44*100 -> 81.588316 | G44: 331855 | H44: 270216 | I44: =SUM(G44-H44) -> 61639 | J44: =H44/G44*100 -> 81.425924 | K44: 670172 | L44: 0 | M44: 468570.68 | N44: =K44-L44-M44 -> 201601.32 | O44: =M44/K44*100 -> 69.917973 | U44: 252557.5 | V44: 0 | W44: 154805.71 | X44: =U44-V44-W44 -> 97751.79 | Y44: =W44/U44*100 -> 61.295234 | Z44: =SUM(C44,K44,P44,U44,G44) -> 1974233.5 | AA44: =SUM(L44,Q44,V44) -> 0 | AB44: =SUM(D44,M44,R44,W44,H44) -> 1480741.9 | AC44: =Z44-AA44-AB44 -> 493491.61 | AD44: =AB44/Z44*100 -> 75.003382
...

Sheet สรุปผล
A1: สรุปผลการเบิกจ่ายงบประมาณ ประจำปีงบประมาณ พ.ศ. 2564 ของ สป.ทส.
A2: สะสมเดือนกรกฎาคม 2564
A4: หมวดรายจ่าย | B4: งบประมาณที่ได้รับจัดสรรประจำปีงบประมาณ พ.ศ. 2564 งวดที่ 1 | C4: งบประมาณที่ได้รับจัดสรรประจำปีงบประมาณ พ.ศ. 2564 งวดที่ 2 | D4: งบประมาณที่ได้รับจัดสรรประจำปีงบประมาณ พ.ศ. 2564 งวดที่ 3 | E4: งบประมาณที่ได้รับจัดสรรประจำปีงบประมาณ พ.ศ. 2564 งวดที่ 4 | F4: งบประมาณที่ได้รับจัดสรรประจำปีงบประมาณ พ.ศ. 2564 งวดที่ 1-4 | G4: โอนเปลี่ยนแปลง | I4: พ.ร.บ. โอนงบประมาณ พ.ศ. 2563 | J4: งบประมาณ ที่ได้รับสุทธิ | K4: ผลเบิกจ่ายสะสม | L4: ร้อยละของ งบฯ ที่ได้รับ จัดสรร | M4: ยอดคงเหลือ | N4: ก่อหนี้ผูกพัน (PO) | O4: ยอดคงเหลือสุทธิ
G5: เพิ่ม | H5: ลด | J5: (หลังโอนเปลี่ยน)
A6: งบบุคลากร | B6: 224101700 | C6: 218417600 | D6: 223267700 | E6: 221929000 | F6: =B6+C6+D6+E6 -> 887716000 | I6: 0 | J6: =F6+G6-H6 -> 887716000 | K6: =ส่วนกลาง!C9 -> 7.7636009e+08 | L6: =K6*100/J6 -> 87.455908 | M6: =J6-K6 -> 1.1135591e+08 | N6: 0 | O6: =M6-N6 -> 1.1135591e+08
A7: งบดำเนินงาน | B7: =B8+B9 -> 56679600 | C7: =C8+C9 -> 48516400 | D7: =D8+D9 -> 51118600 | E7: =E8+E9 -> 31473100 | F7: =B7+C7+D7+E7 -> 187787700 | G7: =G8+G9 -> 5492143.5 | H7: =H8+H9 -> 3482055 | I7: =I8+I9 -> 0 | J7: =F7+G7-H7 -> 1.8979779e+08 | K7: =SUM(K8:K9) -> 1.4545982e+08 | L7: =K7*100/J7 -> 76.639366 | M7: =J7-K7 -> 44337966 | N7: =SUM(N8:N9) -> 8407792.2 | O7: =M7-N7 -> 35930174
A8: - แผนงานพื้นฐานด้านการสร้างการเติบโตบนคุณภาพชีวิตที่เป็นมิตรต่อสิ่งแวดล้อม | B8: 47828400 | C8: 42342700 | D8: 45590200 | E8: 24653900 | F8: =B8+C8+D8+E8 -> 160415200 | G8: =236000+3778756.09+1477387.46 -> 5492143.5 | H8: =2800000+900+378100+50600+31565+37129+41621.93+142139.1 -> 3482055 | J8: =F8+G8-H8 -> 1.6242529e+08 | K8: =ส่วนกลาง!L9 -> 1.2328475e+08 | L8: =K8*100/J8 -> 75.902435 | M8: =J8-K8 -> 39140540 | N8: 8407792.2 | O8: =M8-N8 -> 30732748
A9: - แผนงานบุคลากรภาครัฐ | B9: 8851200 | C9: 6173700 | D9: 5528400 | E9: 6819200 | F9: =B9+C9+D9+E9 -> 27372500 | I9: 0 | J9: =F9+G9-H9 -> 27372500 | K9: =ส่วนกลาง!G9 -> 22175074 | L9: =K9*100/J9 -> 81.012234 | M9: =J9-K9 -> 5197426.2 | N9: 0 | O9: =M9-N9 -> 5197426.2
A10: งบลงทุน | B10: =SUM(B11:B13) -> 0 | C10: =SUM(C11:C14) -> 222643000 | D10: =SUM(D11:D14) -> 0 | E10: =SUM(E11:E14) -> 165090000 | F10: =SUM(F11:F14) -> 387733000 | G10: =SUM(G11:G13) -> 1074155 | H10: =SUM(H11:H13) -> 4406856.1 | I10: =SUM(I11:I13) -> 0 | J10: =SUM(J11:J14) -> 3.844003e+08 | K10: =SUM(K11:K14) -> 65739026 | L10: =K10*100/J10 -> 17.10171 | M10: =J10-K10 -> 3.1866127e+08 | N10: =SUM(N11:N14) -> 1.8762127e+08 | O10: =M10-N10 -> 1.3104e+08
A11: - แผนงานพื้นฐานด้านการสร้างการเติบโตบนคุณภาพชีวิตที่เป็นมิตรต่อสิ่งแวดล้อม | B11: 0 | C11: 153210300 | E11: 165090000 | F11: =B11+C11+D11+E11 -> 318300300 | G11: =900+770200+50600+31565+37129+41621.93+142139.1 -> 1074155 | H11: =628100+3778756.09 -> 4406856.1 | J11: =F11+G11-H11 -> 3.149676e+08 | K11: 27496615 | L11: =K11*100/J11 -> 8.729982 | M11: =J11-K11 -> 2.8747098e+08 | N11: 1.8762127e+08 | O11: =M11-N11 -> 99849713
A12: - แผนงานบูรณาการบริหารจัดการทรัพยากรน้ำ | B12: 0 | C12: 37981000 | F12: =B12+C12+D12+E12 -> 37981000 | G12: =[2]งบลงทุน!D106 -> 0 | H12: =[2]งบลงทุน!E106 -> 0 | I12: =[2]งบลงทุน!F106 -> 0 | J12: =F12+G12-H12 -> 37981000 | K12: 36631711 | L12: =K12*100/J12 -> 96.447463 | M12: =J12-K12 -> 1349289.1 | N12: 0 | O12: =M12-N12 -> 1349289.1
A13: - แผนงานยุทธศาสตร์จัดการมลพิษและสิ่งแวดล้อม | B13: 0 | C13: 1616000 | F13: =B13+C13+D13+E13 -> 1616000 | G13: =[2]งบลงทุน!D16 -> 0 | H13: =[2]งบลงทุน!E16 -> 0 | I13: =[2]งบลงทุน!F16 -> 0 | J13: =F13+G13-H13 -> 1616000 | K13: 1610700 | L13: =K13*100/J13 -> 99.67203 | M13: =J13-K13 -> 5300 | N13: 0 | O13: =M13-N13 -> 5300
A14: - แผนงานบูรณาการรัฐบาลดิจิทัล | B14: 0 | C14: 29835700 | F14: =B14+C14+D14+E14 -> 29835700 | G14: =[2]งบลงทุน!D17 -> 0 | H14: =[2]งบลงทุน!E17 -> 0 | J14: =F14+G14-H14 -> 29835700 | K14: 0 | L14: =K14*100/J14 -> 0 | M14: =J14-K14 -> 29835700 | N14: 0 | O14: =M14-N14 -> 29835700
A15: งบเงินอุดหนุน | B15: 0 | C15: 775000 | F15: =B15+C15 -> 775000 | G15: =[2]เงินอุดหนุน!C8 -> 0 | H15: =[2]เงินอุดหนุน!D8 -> 0 | I15: 0 | J15: =F15+G15-H15-I15 -> 775000 | K15: 765493 | L15: =K15*100/J15 -> 98.77329 | M15: =J15-K15 -> 9507 | N15: 0 | O15: =M15-N15 -> 9507
A16: งบรายจ่ายอื่น | B16: =B17+B25+B27+B33+B39 -> 31935900 | C16: =C17+C25+C27++C33+C39 -> 44798100 | D16: =D17+D25+D27++D33+D39 -> 38555700 | E16: 500000 | F16: =SUM(F17,F25,F27,F33,F39) -> 115789700 | G16: =G17+G25+G27+G33+G39 -> 2800000 | H16: =H17+H25+H27+H33+H39 -> 1477387.5 | I16: =I17+I25+I27+I33+I39 -> 0 | J16: =SUM(J17,J25,J27,J33,J39) -> 1.1711231e+08 | K16: =SUM(K17,K25,K27,K33,K39) -> 85603224 | L16: =K16*100/J16 -> 73.094982 | M16: =J16-K16 -> 31509088 | N16: =SUM(N17,N25,N27,N33,N39) -> 7235627.5 | O16: =M16-N16 -> 24273461
A17: - แผนงานพื้นฐานด้านการสร้างการเติบโตบนคุณภาพชีวิตที่เป็นมิตรต่อสิ่งแวดล้อม | B17: =SUM(B18:B23) -> 2629000 | C17: =SUM(C18:C24) -> 5470800 | D17: =SUM(D18:D24) -> 4232600 | F17: =SUM(F18:F24) -> 12332400 | G17: =SUM(G18:G24) -> 2800000 | H17: =SUM(H18:H24) -> 1477387.5 | I17: =SUM(I18:I23) -> 0 | J17: =SUM(J18:J24) -> 13655013 | K17: =SUM(K18:K24) -> 6864860.5 | L17: =K17*100/J17 -> 50.273557 | M17: =J17-K17 -> 6790152 | N17: =SUM(N18:N24) -> 3573524 | O17: =SUM(O18:O24) -> 3216628
A18: * คชจ.ในการเจรจาและประชุมนานาชาติ | B18: 894500 | C18: 480300 | F18: =B18+C18+D18+E18 -> 1374800 | G18: ='[2]งบรายจ่ายอื่น(พฐ) '!C9 -> 0 | J18: =F18+G18-H18 -> 1374800 | K18: 0 | L18: =K18*100/J18 -> 0 | M18: =J18-K18 -> 1374800 | N18: 0 | O18: =M18-N18 -> 1374800
A19: * คชจ.โครงการติดตามตรวจสอบแหล่งกำเนิดมลพิษเพื่อส่งเสริม ให้ปฏิบัติตามกฎหมายสิ่งแวดล้อม | B19: 1734500 | C19: 1295500 | D19: 1665000 | F19: =B19+C19+D19+E19 -> 4695000 | G19: ='[2]งบรายจ่ายอื่น(พฐ) '!C21 -> 0 | H19: ='[2]งบรายจ่ายอื่น(พฐ) '!D21 -> 0 | I19: ='[2]งบรายจ่ายอื่น(พฐ) '!E21 -> 0 | J19: =F19+G19-H19 -> 4695000 | K19: 4332248 | L19: =K19*100/J19 -> 92.273652 | M19: =J19-K19 -> 362752.03 | N19: 72800 | O19: =M19-N19 -> 289952.03
A20: * ค่าใช้จ่ายโครงการสร้างการรับรู้ของประชาชนและเครือข่ายภาคประชาชน ในการดูแลรักษาทรัพยากรธรรมชาติและสิ่งแวดล้อม | B20: 0 | C20: 1095000 | D20: 567600 | F20: =B20+C20+D20+E20 -> 1662600 | G20: 0 | H20: 0 | I20: ='[2]งบรายจ่ายอื่น(พฐ) '!E17 -> 0 | J20: =F20+G20-H20 -> 1662600 | K20: 970000 | M20: =J20-K20 -> 692600 | N20: 601000 | O20: =M20-N20 -> 91600
A21: * ค่าใช้จ่ายโครงการเสริมสร้างบุคลากรด้านทรัพยากรธรรมชาติและสิ่งแวดล้อม | B21: 0 | C21: 500000 | D21: 1000000 | F21: =B21+C21+D21+E21 -> 1500000 | H21: =1477387.46 -> 1477387.5 | I21: 0 | J21: =F21+G21-H21 -> 22612.54 | K21: 22612.54 | L21: =K21*100/J21 -> 100 | M21: =J21-K21 -> 3.6379788e-11 | N21: 0 | O21: =M21-N21 -> 3.6379788e-11
A22: * ค่าใช้จ่ายในการเดินทางไปราชการต่างประเทศชั่วคราว | B22: 0 | C22: 100000 | F22: =B22+C22+D22+E22 -> 100000 | G22: ='[2]งบรายจ่ายอื่น(พฐ) '!C11 -> 0 | H22: ='[2]งบรายจ่ายอื่น(พฐ) '!D11 -> 0 | I22: ='[2]งบรายจ่ายอื่น(พฐ) '!E11 -> 0 | J22: =F22+G22-H22 -> 100000 | K22: 0 | L22: =K22*100/J22 -> 0 | M22: =J22-K22 -> 100000 | N22: 0 | O22: =M22-N22 -> 100000
A23: * ค่าใช้จ่ายโครงการพัฒนาและบริหารจัดการระบบเทคโนโลยีสารสนเทศ | B23: 0 | C23: 2000000 | D23: 1000000 | F23: =B23+C23+D23+E23 -> 3000000 | G23: ='[2]งบรายจ่ายอื่น(พฐ) '!C13 -> 0 | H23: 0 | I23: 0 | J23: =F23+G23-H23 -> 3000000 | K23: 0 | L23: =K23*100/J23 -> 0 | M23: =J23-K23 -> 3000000 | N23: 1639724 | O23: =M23-N23 -> 1360276
A24: * ค่าใช้จ่ายโครงการทบทวนแผนปฏิบัติ ทส. | F24: =B24+C24+D24+E24 -> 0 | G24: 2800000 | H24: 0 | I24: 0 | J24: =F24+G24-H24 -> 2800000 | K24: 1540000 | L24: =K24*100/J24 -> 55 | M24: =J24-K24 -> 1260000 | N24: 1260000 | O24: =M24-N24 -> 0
A25: - แผนงานบูรณาการรัฐบาลดิจิตัล | B25: =SUM(B26:B26) -> 0 | C25: =SUM(C26:C26) -> 1250000 | D25: =SUM(D26:D26) -> 625000 | F25: =SUM(F26) -> 1875000 | G25: =SUM(G26:G26) -> 0 | H25: =SUM(H26:H26) -> 0 | I25: =SUM(I26:I26) -> 0 | J25: =SUM(J26:J26) -> 1875000 | K25: =SUM(K26:K26) -> 428000 | L25: =K25*100/J25 -> 22.826667 | M25: =J25-K25 -> 1447000 | N25: =SUM(N26:N26) -> 856000 | O25: =M25-N25 -> 591000
A26: * ค่าใช้จ่ายโครงการปรับเปลี่ยนข้อมูลและข้อมูลเปิดภาครัฐด้านทรัพยากรธรรมชาติ และสิ่งแวดล้อมตามกรอบธรรมาภิบาลข้อมูลภาครัฐ | B26: 0 | C26: 1250000 | D26: 625000 | F26: =B26+C26+D26+E26 -> 1875000 | G26: 0 | H26: 0 | I26: 0 | J26: =F26+G26-H26 -> 1875000 | K26: 428000 | L26: =K26*100/J26 -> 22.826667 | M26: =J26-K26 -> 1447000 | N26: 856000 | O26: =M26-N26 -> 591000
A27: - แผนงานยุทธศาสตร์สร้างการเติบโตอย่างยั่งยืน อนุรักษ์ ฟื้นฟู และป้องกันการทำลายทรัพยากรธรรมชาติ | B27: =SUM(B28:B32) -> 9385900 | C27: =SUM(C28:C32) -> 12744800 | D27: =SUM(D28:D32) -> 11065400 | F27: =SUM(F28:F32) -> 33196100 | G27: =SUM(G28:G29) -> 0 | H27: =SUM(H28:H29) -> 0 | I27: =SUM(I28:I29) -> 0 | J27: =SUM(J28:J32) -> 33196100 | K27: =SUM(K28:K32) -> 23651996 | L27: =K27*100/J27 -> 71.249321 | M27: =J27-K27 -> 9544104.1 | N27: =SUM(N28:N32) -> 94734 | O27: =M27-N27 -> 9449370.1
A28: * ค่าใช้จ่ายโครงการป้องกันและปราบปรามการตัดไม้ทำลายป่าระดับจังหวัด | B28: 1860500 | C28: 4139500 | D28: 3000000 | F28: =B28+C28+D28+E28 -> 9000000 | G28: ='[2]งบรายจ่ายอื่น(อนุรักษ์)'!C9 -> 0 | H28: ='[2]งบรายจ่ายอื่น(อนุรักษ์)'!D9 -> 0 | I28: ='[2]งบรายจ่ายอื่น(อนุรักษ์)'!E9 -> 0 | J28: =F28+G28-H28 -> 9000000 | K28: 5412197.9 | L28: =K28*100/J28 -> 60.135532 | M28: =J28-K28 -> 3587802.1 | N28: 38080 | O28: =M28-N28 -> 3549722.1
A29: * ค่าใช้จ่ายในการป้องกันปราบปรามการบุกรุกทำลายทรัพยากรธรรมชาติ และสิ่งแวดล้อม โดยบูรณาการอากาศยานกับภาคพื้นดิน | B29: 4940400 | C29: 4940300 | D29: 4940400 | F29: =B29+C29+D29+E29 -> 14821100 | G29: ='[2]งบรายจ่ายอื่น(อนุรักษ์)'!C12 -> 0 | H29: ='[2]งบรายจ่ายอื่น(อนุรักษ์)'!D12 -> 0 | I29: 0 | J29: =F29+G29-H29 -> 14821100 | K29: 14783867 | L29: =K29*100/J29 -> 99.748787 | M29: =J29-K29 -> 37232.55 | N29: 0 | O29: =M29-N29 -> 37232.55
A30: * ค่าใช้จ่ายโครงการอนุรักษ์พันธุกรรมพืชอันเนื่องมาจากพระราชดำริ | B30: 0 | C30: 1000000 | D30: 500000 | F30: =B30+C30+D30+E30 -> 1500000 | G30: ='[2]งบรายจ่ายอื่น(อนุรักษ์)'!C13 -> 0 | H30: ='[2]งบรายจ่ายอื่น(อนุรักษ์)'!D13 -> 0 | I30: 0 | J30: =F30+G30-H30 -> 1500000 | K30: 553855.04 | L30: =K30*100/J30 -> 36.923669 | M30: =J30-K30 -> 946144.96 | N30: 6304 | O30: =M30-N30 -> 939840.96
A31: * ค่าใช้จ่ายในการบริหารจัดการทรัพยากรธรรมชาติและสิ่งแวดล้อมตาม แนวพระราชดำริและกิจการพิเศษของกระทรวงทรัพยากรธรรมชาติและสิ่งแวดล้อม | B31: 600000 | C31: 650000 | D31: 625000 | F31: =B31+C31+D31+E31 -> 1875000 | G31: 0 | H31: 0 | I31: 0 | J31: =F31+G31-H31 -> 1875000 | K31: 824963.53 | L31: =K31*100/J31 -> 43.998055 | M31: =J31-K31 -> 1050036.5 | N31: 10000 | O31: =M31-N31 -> 1040036.5
A32: * ค่าใช้จ่ายโครงการบริหารจัดการทรัพยากรธรรมชาติและสิ่งแวดล้อมชุมชน ตามแผนพัฒนาชนบทเชิงพื้นที่ประยุกต์ ตามแนวพระราชดำริ | B32: 1985000 | C32: 2015000 | D32: 2000000 | F32: =B32+C32+D32+E32 -> 6000000 | G32: ='[2]งบรายจ่ายอื่น(อนุรักษ์)'!C15 -> 0 | H32: ='[2]งบรายจ่ายอื่น(อนุรักษ์)'!D15 -> 0 | I32: 0 | J32: =F32+G32-H32 -> 6000000 | K32: 2077112 | L32: =K32*100/J32 -> 34.618533 | M32: =J32-K32 -> 3922888 | N32: 40350 | O32: =M32-N32 -> 3882538
A33: - แผนงานยุทธศาสตร์จัดการมลพิษและสิ่งแวดล้อม | B33: =SUM(B34:B38) -> 7916500 | C33: =SUM(C34:C38) -> 14579500 | D33: =SUM(D34:D38) -> 11254000 | E33: =SUM(E34:E38) -> 500000 | F33: =SUM(F34:F38) -> 34250000 | G33: =SUM(G34:G38) -> 0 | H33: =SUM(H34:H38) -> 0 | I33: =SUM(I34:I38) -> 0 | ... K33: =SUM(K34:K38) -> 23908196 | L33: =K33*100/J33 -> 69.804953 | M33: =J33-K33 -> 10341804 | N33: =SUM(N34:N38) -> 1260193 | O33: =M33-N33 -> 9081610.7
