Workbook

Sheet Sheet1
A1: รายงานผลการบริหารจัดการขยะมูลฝอย ขององค์กรปกครองส่วนท้องถิ่น (มฝ 2) ปีงบประมาณ พ.ศ.2564
B2: 23285 | C2: 23316 | D2: 23346 | E2: 23377 | F2: 23408 | G2: 23437 | H2: 23468 | I2: 23498 | J2: 23529 | K2: 23559 | L2: 23590 | M2: 23621
A3: 1. ขยะมูลฝอยชุมชนที่เกิดขึ้นในเขต(ตัน) | B3: 691.033 | C3: 683.134 | D3: 643.397 | E3: 715.331 | F3: 656.39 | G3: 689.023 | H3: 727.942 | I3: 744.44 | J3: 715.69 | K3: =SUM(K4:K8) -> 0 | L3: =SUM(L4:L8) -> 0 | M3: =SUM(M4:M8) -> 0
A4: ขยะมูลฝอยทั่วไป | B4: 542.489 | C4: 552.821 | D4: 506.744 | E4: 573.637 | F4: 540.33 | G4: 559.01 | H4: 582.015 | I4: 660.342 | J4: 439.79 | K4: =([1]ส่งสิ่งแวดล้อม!W16-[1]ส่งสิ่งแวดล้อม!F16-[1]ส่งสิ่งแวดล้อม!H16-[1]ส่งสิ่งแวดล้อม!G16-[1]ส่งสิ่งแวดล้อม!J16-K27)/1000 -> 0 | L4: =([1]ส่งสิ่งแวดล้อม!W17-[1]ส่งสิ่งแวดล้อม!F17-[1]ส่งสิ่งแวดล้อม!H17-[1]ส่งสิ่งแวดล้อม!G17-[1]ส่งสิ่งแวดล้อม!J17-L27)/1000 -> 0 | M4: =([1]ส่งสิ่งแวดล้อม!W18-[1]ส่งสิ่งแวดล้อม!F18-[1]ส่งสิ่งแวดล้อม!H18-[1]ส่งสิ่งแวดล้อม!G18-[1]ส่งสิ่งแวดล้อม!J18-M27)/1000 -> 0
A5: ขยะอินทรีย์ | B5: 81.583 | C5: 68.233 | D5: 77.133 | E5: 77.133 | F5: 62.3 | G5: 59.333 | H5: 74.167 | I5: 10.69 | J5: 209.18 | K5: =K27/1000 -> 0 | L5: =L27/1000 -> 0 | M5: =M27/1000 -> 0
A6: ขยะรีไซเคิล | B6: 66.96 | C6: 62 | D6: 59.52 | E6: 64.48 | F6: 53.76 | G6: 70.68 | H6: 71.76 | I6: 73.408 | J6: 66.72 | K6: =([1]ส่งสิ่งแวดล้อม!J16)/1000 -> 0 | L6: =([1]ส่งสิ่งแวดล้อม!J17)/1000 -> 0 | M6: =([1]ส่งสิ่งแวดล้อม!J18)/1000 -> 0
A7: ขยะอันตราย | B7: 0 | C7: 0.08 | D7: 0 | E7: 0.08 | F7: 0 | G7: 0 | H7: 0 | I7: 0 | J7: 0 | K7: 0 | L7: 0 | M7: 0
A8: ขยะอิเล็กทรอนิกส์ | B8: 0 | C8: 0 | D8: 0 | E8: 0 | F8: 0 | G8: 0 | H8: 0 | I8: 0 | J8: 0 | K8: 0 | L8: 0
A9: 2. ปริมาณขยะมูลฝอยที่เข้าสู่ระบบ(ตัน) | B9: 633.542 | C9: 631.107 | D9: 589.897 | E9: 659107 | F9: 535.46 | G9: 623.927 | H9: 677.503 | I9: 744.44 | J9: 715.69 | K9: =([1]ส่งสิ่งแวดล้อม!L16) -> 0 | L9: =([1]ส่งสิ่งแวดล้อม!L17) -> 0 | M9: =([1]ส่งสิ่งแวดล้อม!L18) -> 0
A10: 3.งบประมาณที่ใช้ | B10: 901800 | C10: 892500 | D10: 885500 | E10: 962727 | F10: 880310 | G10: 795053 | H10: 824473 | I10: 873330 | J10: 842470 | K10: =[1]สรุปรายจ่ายรายเดือน!V61 -> 0 | L10: =[1]สรุปรายจ่ายรายเดือน!X61 -> 0 | M10: =[1]สรุปรายจ่ายรายเดือน!Z61 -> 0
A11: 4. มูลฝอยติดเชื้อในเขต(ตัน)
A12: ปริมาณมูลฝอยติดเชื้อเกิดขึ้น | B12: 10.751 | C12: 9.636 | D12: 12.705 | E12: 12.2686 | F12: 11.2922 | G12: 14.07344 | H12: 13.25725 | I12: 21.23217 | J12: 13.25939 | K12: =([1]มูลฝอยติดเชื้อ!K8)/1000 -> 0 | L12: =([1]มูลฝอยติดเชื้อ!L8)/1000 -> 0 | M12: =([1]มูลฝอยติดเชื้อ!M8)/1000 -> 0
A13: ปริมาณมูลฝอยติดเชื้อกำจัดอย่างถูกต้อง | B13: 10.751 | C13: 9.636 | D13: 12.705 | E13: 12.2686 | F13: 11.2922 | G13: 14.07344 | H13: 13.25725 | I13: 21.23217 | J13: 13.25939 | K13: =K12 -> 0 | L13: =L12 -> 0 | M13: =M12 -> 0
A14: 5. กากอุตสาหกรรมในเขต
A15: ปริมาณกากอุตสาหกรรมเกิดขึ้น | B15: 0 | C15: 0 | D15: 0 | E15: 0 | F15: 0 | G15: 0 | H15: 0 | I15: 0 | J15: 0 | K15: 0 | L15: 0 | M15: 0
A16: ปริมาณกากอุตสาหกรรมกำจัดอย่างถูกต้อง | B16: 0 | C16: 0 | D16: 0 | E16: 0 | F16: 0 | G16: 0 | H16: 0 | I16: 0 | J16: 0 | K16: 0 | L16: 0 | M16: 0
A17: 6. จุดรวบรวมขยะอันตราย
A18: ติดตั้งจุดรวบรวมขยะอันตรายหมู่บ้าน/ชุมชน | B18: 25 | C18: 25 | D18: 25 | E18: 25 | F18: 25 | G18: 25 | H18: 25 | I18: 25 | J18: 25 | K18: 0 | L18: 0 | M18: 0
A19: 7.หมู่บ้าน/ชุมชนต้นแบบการบริหารจัดการขยะมูลฝอย | B19: 0 | C19: 0 | D19: 0 | E19: 0 | F19: 0 | G19: 0 | H19: 0 | I19: 0 | J19: 0 | K19: 0 | L19: 0 | M19: 0
