Workbook
Name ก6: #REF!
Name ก6.1: '[1]แบบ4 แบบ10'!$J$13
Name กด: '[1]แบบ4 แบบ10'!$J$13
Name กราฟ6: '[2]18แบบ4 แบบ10'!$J$13
Name มาตรฐาน: '[3]แบบ4 แบบ10'!$J$13
Name ห: '[1]แบบ4 แบบ10'!$J$13

Sheet cover
A1: จำนวนรถจดทะเบียนใหม่
A2: Number of new registered vehicles
A3: ปี พ.ศ.2560 / ค.ศ.2017

Sheet Total
A1: จำนวนรถที่จดทะเบียนใหม่ตั้งแต่วันที่ 1 มกราคม - 31 ธันวาคม 2560
A2: Number of New Registered Vehicle in Thailand during 1 January - 31 December 2017
D3: (คัน : Unit)
A4: ประเภทรถ | B4: ทั่วประเทศ | C4: ส่วนกลาง (กรุงเทพฯ) | D4: ส่วนภูมิภาค
A5: Type of Vehicle | B5: Whole Kingdom | C5: Bangkok | D5: Regional
A6: รวมทั้งสิ้น | B6: =B8+B27 -> 3067278 | C6: =C8+C27 -> 945999 | D6: =D8+D27 -> 2121279
A7: Grand Total
A8: ก. รวมรถตามกฎหมายว่าด้วยรถยนต์ | B8: =C8+D8 -> 2990715 | C8: =SUM(C10:C26) -> 933886 | D8: =SUM(D10:D26) -> 2056829
A9: Total Vehicle under Motor Vehicle Act
A10: รย. 1 รถยนต์นั่งส่วนบุคคลไม่เกิน 7 คน Sedan (Not more than 7 Pass.) | B10: =C10+D10 -> 638030 | C10: 331098 | D10: =Central!B9+East!B9+NE!B9+North!B9+West!B9+South!B9 -> 306932
A11: รย. 2 รถยนต์นั่งส่วนบุคคลเกิน 7 คน Microbus & Passenger Van | B11: =C11+D11 -> 18795 | C11: 13489 | D11: =Central!B10+East!B10+NE!B10+North!B10+West!B10+South!B10 -> 5306
A12: รย. 3 รถยนต์บรรทุกส่วนบุคคล Van & Pick Up | B12: =C12+D12 -> 262995 | C12: 85970 | D12: =Central!B11+East!B11+NE!B11+North!B11+West!B11+South!B11 -> 177025
A13: รย. 4 รถยนต์สามล้อส่วนบุคคล Motortricycle | B13: =C13+D13 -> 48 | C13: 35 | D13: =Central!B12+East!B12+NE!B12+North!B12+West!B12+South!B12 -> 13
A14: รย. 5 รถยนต์รับจ้างระหว่างจังหวัด Interprovincial Taxi | B14: =C14+D14 -> 0 | C14: 0 | D14: =Central!B13+East!B13+NE!B13+North!B13+West!B13+South!B13 -> 0
A15: รย. 6 รถยนต์รับจ้างบรรทุกคนโดยสารไม่เกิน 7 คน Urban Taxi | B15: =C15+D15 -> 8567 | C15: 8241 | D15: =Central!B14+East!B14+NE!B14+North!B14+West!B14+South!B14 -> 326
A16: รย. 7 รถยนต์สี่ล้อเล็กรับจ้าง Fixed Route Taxi | B16: =C16+D16 -> 31 | C16: 28 | D16: =Central!B15+East!B15+NE!B15+North!B15+West!B15+South!B15 -> 3
A17: รย. 8 รถยนต์รับจ้างสามล้อ Motortricycle Taxi (Tuk Tuk) | B17: =C17+D17 -> 252 | C17: 7 | D17: =Central!B16+East!B16+NE!B16+North!B16+West!B16+South!B16 -> 245
A18: รย. 9 รถยนต์บริการธุรกิจ Hotel Taxi | B18: =C18+D18 -> 265 | C18: 46 | D18: =Central!B17+East!B17+NE!B17+North!B17+West!B17+South!B17 -> 219
A19: รย.10 รถยนต์บริการทัศนาจร Tour Taxi | B19: =C19+D19 -> 166 | C19: 93 | D19: =Central!B18+East!B18+NE!B18+North!B18+West!B18+South!B18 -> 73
A20: รย.11 รถยนต์บริการให้เช่า Car For Hire | B20: =C20+D20 -> 20 | C20: 16 | D20: =Central!B19+East!B19+NE!B19+North!B19+West!B19+South!B19 -> 4
A21: รย.12 รถจักรยานยนต์ Motorcycle | B21: =C21+D21 -> 2001130 | C21: 479586 | D21: =Central!B20+East!B20+NE!B20+North!B20+West!B20+South!B20 -> 1521544
... A26: รย.17 รถจักรยานยนต์สาธารณะ Public Motorcycle | B26: =C26+D26 -> 4412 | C26: 2913 | D26: =Central!B25+East!B25+NE!B25+North!B25+West!B25+South!B25 -> 1499
A27: ข. รวมรถตามกฎหมายว่าด้วยการขนส่งทางบก | B27: =C27+D27 -> 76563 | C27: =C29+C33+C36 -> 12113 | D27: =D29+D33+D36 -> 64450
A28: Total Vehicle under Land Transport Act
A29: รวมรถโดยสาร Bus : Total | B29: =C29+D29 -> 11006 | C29: =SUM(C30:C32) -> 2979 | D29: =SUM(D30:D32) -> 8027
A30: แยกเป็น - ประจำทาง Fixed Route Bus | B30: =C30+D30 -> 2289 | C30: 667 | D30: =Central!B29+East!B29+NE!B29+North!B29+West!B29+South!B29 -> 1622
A31: - ไม่ประจำทาง Non Fixed Route Bus | B31: =C31+D31 -> 7941 | C31: 2124 | D31: =Central!B30+East!B30+NE!B30+North!B30+West!B30+South!B30 -> 5817
A32: - ส่วนบุคคล Private Bus | B32: =C32+D32 -> 776 | C32: 188 | D32: =Central!B31+East!B31+NE!B31+North!B31+West!B31+South!B31 -> 588
A33: รวมรถบรรทุก Truck : Total | B33: =C33+D33 -> 65556 | C33: =SUM(C34:C35) -> 9134 | D33: =SUM(D34:D35) -> 56422
A34: แยกเป็น - ไม่ประจำทาง Non Fixed Route Truck | B34: =C34+D34 -> 25452 | C34: 6100 | D34: =Central!B33+East!B33+NE!B33+North!B33+West!B33+South!B33 -> 19352
A35: - ส่วนบุคคล Private Truck | B35: =C35+D35 -> 40104 | C35: 3034 | D35: =Central!B34+East!B34+NE!B34+North!B34+West!B34+South!B34 -> 37070
A36: รถขนาดเล็ก Small Rural Bus | B36: =C36+D36 -> 1 | C36: 0 | D36: =Central!B35+East!B35+NE!B35+North!B35+West!B35+South!B35 -> 1
A38: กลุ่มสถิติการขนส่ง กองแผนงาน กรมการขนส่งทางบก
A39: (Transport Statistics Group, Planning Division , Department of Land Transport)

Sheet Central
A1: จำนวนรถที่จดทะเบียนใหม่ตั้งแต่วันที่ 1 มกราคม - 31 ธันวาคม 2560 Number of New Registered Vehicle in Thailand during 1 January - 31 December 2017
K2: (คัน : Unit)
A3: ประเภทรถ | B3: รวมภาคกลาง | C3: ชัยนาท | D3: สิงห์บุรี | E3: ลพบุรี | F3: อ่างทอง | G3: สระบุรี | H3: พระนครศรีอยุธยา | I3: ปทุมธานี | J3: นนทบุรี | K3: สมุทรปราการ
A4: (Type of Vehicle) | B4: Central | C4: Chai Nat | D4: Sing Buri | E4: Lop Buri | F4: Ang Thong | G4: Saraburi | H4: Ayuthaya | I4: Pathum Thani | J4: Nonthaburi | K4: Samut Prakarn
A5: รวมทั้งสิ้น | B5: =B7+B26 -> 147055 | C5: =C7+C26 -> 8568 | D5: =D7+D26 -> 7756 | E5: =E7+E26 -> 31125 | F5: =F7+F26 -> 7443 | G5: =G7+G26 -> 32513 | H5: =H7+H26 -> 38281 | I5: =I7+I26 -> 6570 | ... K5: =K7+K26 -> 8301
A6: Grand Total
A7: ก. รวมรถตามกฎหมายว่าด้วยรถยนต์ | B7: =SUM(B9:B25) -> 134664 | C7: =SUM(C9:C25) -> 8162 | D7: =SUM(D9:D25) -> 7494 | E7: =SUM(E9:E25) -> 30441 | F7: =SUM(F9:F25) -> 7138 | G7: =SUM(G9:G25) -> 29811 | H7: =SUM(H9:H25) -> 35921 | I7: =SUM(I9:I25) -> 5131 | ... K7: =SUM(K9:K25) -> 5413
A8: Total Vehicle under Motor Vehicle Act
A9: รย. 1 รถยนต์นั่งส่วนบุคคลไม่เกิน 7 คน Sedan (Not more than 7 Pass.) | B9: =SUM(C9:K9) -> 24657 | C9: ='[4]2560'!$B$6 -> 1541 | D9: ='[5]2560'!$B$6 -> 1435 | E9: ='[6]2560'!$B$6 -> 4716 | F9: ='[7]2560'!$B$6 -> 1496 | G9: ='[8]2560'!$B$6 -> 4440 | H9: ='[9]2560'!$B$6 -> 7753 | I9: ='[10]2560'!$B$6 -> 997 | J9: ='[11]2560'!$B$6 -> 1836 | K9: ='[12]2560'!$B$6 -> 443
A10: รย. 2 รถยนต์นั่งส่วนบุคคลเกิน 7 คน Microbus & Passenger Van | B10: =SUM(C10:K10) -> 1014 | C10: ='[4]2560'!$B$7 -> 10 | D10: ='[5]2560'!$B$7 -> 29 | E10: ='[6]2560'!$B$7 -> 62 | F10: ='[7]2560'!$B$7 -> 22 | G10: ='[8]2560'!$B$7 -> 120 | H10: ='[9]2560'!$B$7 -> 78 | I10: ='[10]2560'!$B$7 -> 112 | J10: ='[11]2560'!$B$7 -> 185 | K10: ='[12]2560'!$B$7 -> 396
A11: รย. 3 รถยนต์บรรทุกส่วนบุคคล Van & Pick Up | B11: =SUM(C11:K11) -> 12736 | C11: ='[4]2560'!$B$8 -> 1074 | D11: ='[5]2560'!$B$8 -> 755 | E11: ='[6]2560'!$B$8 -> 2569 | F11: ='[7]2560'!$B$8 -> 753 | G11: ='[8]2560'!$B$8 -> 2076 | H11: ='[9]2560'!$B$8 -> 4013 | I11: ='[10]2560'!$B$8 -> 451 | J11: ='[11]2560'!$B$8 -> 672 | K11: ='[12]2560'!$B$8 -> 373
A12: รย. 4 รถยนต์สามล้อส่วนบุคคล Motortricycle | B12: =SUM(C12:K12) -> 4 | C12: ='[4]2560'!$B$9 -> 0 | D12: ='[5]2560'!$B$9 -> 0 | E12: ='[6]2560'!$B$9 -> 0 | F12: ='[7]2560'!$B$9 -> 0 | G12: ='[8]2560'!$B$9 -> 0 | H12: ='[9]2560'!$B$9 -> 0 | I12: ='[10]2560'!$B$9 -> 1 | J12: ='[11]2560'!$B$9 -> 2 | K12: ='[12]2560'!$B$9 -> 1
A13: รย. 5 รถยนต์รับจ้างระหว่างจังหวัด Interprovincial Taxi | B13: =SUM(C13:K13) -> 0 | C13: ='[4]2560'!$B$10 -> 0 | D13: ='[5]2560'!$B$10 -> 0 | E13: ='[6]2560'!$B$10 -> 0 | F13: ='[7]2560'!$B$10 -> 0 | G13: ='[8]2560'!$B$10 -> 0 | H13: ='[9]2560'!$B$10 -> 0 | I13: ='[10]2560'!$B$10 -> 0 | J13: ='[11]2560'!$B$10 -> 0 | K13: ='[12]2560'!$B$10 -> 0
A14: รย. 6 รถยนต์รับจ้างบรรทุกคนโดยสารไม่เกิน 7 คน Urban Taxi | B14: =SUM(C14:K14) -> 0 | C14: ='[4]2560'!$B$11 -> 0 | D14: ='[5]2560'!$B$11 -> 0 | E14: ='[6]2560'!$B$11 -> 0 | F14: ='[7]2560'!$B$11 -> 0 | G14: ='[8]2560'!$B$11 -> 0 | H14: ='[9]2560'!$B$11 -> 0 | I14: ='[10]2560'!$B$11 -> 0 | J14: ='[11]2560'!$B$11 -> 0 | K14: ='[12]2560'!$B$11 -> 0
A15: รย. 7 รถยนต์สี่ล้อเล็กรับจ้าง Fixed Route Taxi | B15: =SUM(C15:K15) -> 0 | C15: ='[4]2560'!$B$12 -> 0 | D15: ='[5]2560'!$B$12 -> 0 | E15: ='[6]2560'!$B$12 -> 0 | F15: ='[7]2560'!$B$12 -> 0 | G15: ='[8]2560'!$B$12 -> 0 | H15: ='[9]2560'!$B$12 -> 0 | I15: ='[10]2560'!$B$12 -> 0 | J15: ='[11]2560'!$B$12 -> 0 | K15: ='[12]2560'!$B$12 -> 0
A16: รย. 8 รถยนต์รับจ้างสามล้อ Motortricycle Taxi (Tuk Tuk) | B16: =SUM(C16:K16) -> 33 | C16: ='[4]2560'!$B$13 -> 0 | D16: ='[5]2560'!$B$13 -> 0 | E16: ='[6]2560'!$B$13 -> 0 | F16: ='[7]2560'!$B$13 -> 0 | G16: ='[8]2560'!$B$13 -> 0 | H16: ='[9]2560'!$B$13 -> 16 | I16: ='[10]2560'!$B$13 -> 0 | J16: ='[11]2560'!$B$13 -> 13 | K16: ='[12]2560'!$B$13 -> 4
A17: รย. 9 รถยนต์บริการธุรกิจ Hotel Taxi | B17: =SUM(C17:K17) -> 6 | C17: ='[4]2560'!$B$14 -> 0 | D17: ='[5]2560'!$B$14 -> 0 | E17: ='[6]2560'!$B$14 -> 0 | F17: ='[7]2560'!$B$14 -> 0 | G17: ='[8]2560'!$B$14 -> 0 | H17: ='[9]2560'!$B$14 -> 0 | I17: ='[10]2560'!$B$14 -> 0 | J17: ='[11]2560'!$B$14 -> 6 | K17: ='[12]2560'!$B$14 -> 0
A18: รย.10 รถยนต์บริการทัศนาจร Tour Taxi | B18: =SUM(C18:K18) -> 0 | C18: ='[4]2560'!$B$15 -> 0 | D18: ='[5]2560'!$B$15 -> 0 | E18: ='[6]2560'!$B$15 -> 0 | F18: ='[7]2560'!$B$15 -> 0 | G18: ='[8]2560'!$B$15 -> 0 | H18: ='[9]2560'!$B$15 -> 0 | I18: ='[10]2560'!$B$15 -> 0 | J18: ='[11]2560'!$B$15 -> 0 | K18: ='[12]2560'!$B$15 -> 0
A19: รย.11 รถยนต์บริการให้เช่า Car For Hire | B19: =SUM(C19:K19) -> 0 | C19: ='[4]2560'!$B$16 -> 0 | D19: ='[5]2560'!$B$16 -> 0 | E19: ='[6]2560'!$B$16 -> 0 | F19: ='[7]2560'!$B$16 -> 0 | G19: ='[8]2560'!$B$16 -> 0 | H19: ='[9]2560'!$B$16 -> 0 | I19: ='[10]2560'!$B$16 -> 0 | J19: ='[11]2560'!$B$16 -> 0 | K19: ='[12]2560'!$B$16 -> 0
A20: รย.12 รถจักรยานยนต์ Motorcycle | B20: =SUM(C20:K20) -> 92212 | C20: ='[4]2560'!$B$17 -> 5229 | D20: ='[5]2560'!$B$17 -> 5136 | E20: ='[6]2560'!$B$17 -> 21936 | F20: ='[7]2560'!$B$17 -> 4736 | G20: ='[8]2560'!$B$17 -> 22637 | H20: ='[9]2560'!$B$17 -> 23791 | I20: ='[10]2560'!$B$17 -> 3374 | J20: ='[11]2560'!$B$17 -> 2255 | K20: ='[12]2560'!$B$17 -> 3118
A21: รย.13 รถแทรกเตอร์ Tractor | B21: =SUM(C21:K21) -> 3173 | C21: ='[4]2560'!$B$18 -> 304 | D21: ='[5]2560'!$B$18 -> 134 | E21: ='[6]2560'!$B$18 -> 1090 | F21: ='[7]2560'!$B$18 -> 117 | G21: ='[8]2560'!$B$18 -> 476 | H21: ='[9]2560'!$B$18 -> 156 | I21: ='[10]2560'!$B$18 -> 55 | J21: ='[11]2560'!$B$18 -> 75 | K21: ='[12]2560'!$B$18 -> 766
A22: รย.14 รถบดถนน Road Roller | B22: =SUM(C22:K22) -> 63 | C22: ='[4]2560'!$B$19 -> 3 | D22: ='[5]2560'!$B$19 -> 0 | E22: ='[6]2560'!$B$19 -> 14 | F22: ='[7]2560'!$B$19 -> 5 | G22: ='[8]2560'!$B$19 -> 17 | H22: ='[9]2560'!$B$19 -> 5 | I22: ='[10]2560'!$B$19 -> 9 | J22: ='[11]2560'!$B$19 -> 2 | K22: ='[12]2560'!$B$19 -> 8
A23: รย.15 รถใช้งานเกษตรกรรม Farm Vehicle | B23: =SUM(C23:K23) -> 0 | C23: ='[4]2560'!$B$20 -> 0 | D23: ='[5]2560'!$B$20 -> 0 | E23: ='[6]2560'!$B$20 -> 0 | F23: ='[7]2560'!$B$20 -> 0 | G23: ='[8]2560'!$B$20 -> 0 | H23: ='[9]2560'!$B$20 -> 0 | I23: ='[10]2560'!$B$20 -> 0 | J23: ='[11]2560'!$B$20 -> 0 | K23: ='[12]2560'!$B$20 -> 0
A24: รย.16 รถพ่วง Automobile Trailer | B24: =SUM(C24:K24) -> 20 | C24: ='[4]2560'!$B$21 -> 0 | D24: ='[5]2560'!$B$21 -> 0 | E24: ='[6]2560'!$B$21 -> 2 | F24: ='[7]2560'!$B$21 -> 0 | G24: ='[8]2560'!$B$21 -> 18 | H24: ='[9]2560'!$B$21 -> 0 | I24: ='[10]2560'!$B$21 -> 0 | J24: ='[11]2560'!$B$21 -> 0 | K24: ='[12]2560'!$B$21 -> 0
A25: รย.17 รถจักรยานยนต์สาธารณะ Public Motorcycle | B25: =SUM(C25:K25) -> 746 | C25: ='[4]2560'!$B$22 -> 1 | D25: ='[5]2560'!$B$22 -> 5 | E25: ='[6]2560'!$B$22 -> 52 | F25: ='[7]2560'!$B$22 -> 9 | G25: ='[8]2560'!$B$22 -> 27 | H25: ='[9]2560'!$B$22 -> 109 | I25: ='[10]2560'!$B$22 -> 132 | J25: ='[11]2560'!$B$22 -> 107 | K25: ='[12]2560'!$B$22 -> 304
A26: ข. รวมรถตามกฎหมายว่าด้วยการขนส่งทางบก | B26: =B28+B32+B35 -> 12391 | C26: =C28+C32+C35 -> 406 | D26: =D28+D32+D35 -> 262 | E26: =E28+E32+E35 -> 684 | F26: =F28+F32+F35 -> 305 | G26: =G28+G32+G35 -> 2702 | H26: =H28+H32+H35 -> 2360 | I26: =I28+I32+I35 -> 1439 | ... K26: =K28+K32+K35 -> 2888
A27: Total Vehicle under Land Transport Act
A28: รวมรถโดยสาร Bus : Total | B28: =SUM(C28:K28) -> 1224 | C28: =SUM(C29:C31) -> 24 | D28: =SUM(D29:D31) -> 31 | E28: =SUM(E29:E31) -> 99 | F28: =SUM(F29:F31) -> 48 | G28: =SUM(G29:G31) -> 69 | H28: =SUM(H29:H31) -> 219 | I28: =SUM(I29:I31) -> 192 | J28: =SUM(J29:J31) -> 145 | K28: =SUM(K29:K31) -> 397
A29: แยกเป็น - ประจำทาง Fixed Route Bus | B29: =SUM(C29:K29) -> 305 | C29: ='[4]2560'!$B$25 -> 8 | D29: ='[5]2560'!$B$25 -> 4 | E29: ='[6]2560'!$B$25 -> 16 | F29: ='[7]2560'!$B$25 -> 1 | G29: ='[8]2560'!$B$25 -> 9 | H29: ='[9]2560'!$B$25 -> 49 | I29: ='[10]2560'!$B$25 -> 97 | J29: ='[11]2560'!$B$25 -> 56 | K29: ='[12]2560'!$B$25 -> 65
A30: - ไม่ประจำทาง Non Fixed Route Bus | B30: =SUM(C30:K30) -> 840 | C30: ='[4]2560'!$B$26 -> 13 | D30: ='[5]2560'!$B$26 -> 23 | E30: ='[6]2560'!$B$26 -> 81 | F30: ='[7]2560'!$B$26 -> 42 | G30: ='[8]2560'!$B$26 -> 58 | H30: ='[9]2560'!$B$26 -> 158 | I30: ='[10]2560'!$B$26 -> 85 | J30: ='[11]2560'!$B$26 -> 73 | K30: ='[12]2560'!$B$26 -> 307
A31: - ส่วนบุคคล Private Bus | B31: =SUM(C31:K31) -> 79 | C31: ='[4]2560'!$B$27 -> 3 | D31: ='[5]2560'!$B$27 -> 4 | E31: ='[6]2560'!$B$27 -> 2 | F31: ='[7]2560'!$B$27 -> 5 | G31: ='[8]2560'!$B$27 -> 2 | H31: ='[9]2560'!$B$27 -> 12 | I31: ='[10]2560'!$B$27 -> 10 | J31: ='[11]2560'!$B$27 -> 16 | K31: ='[12]2560'!$B$27 -> 25
A32: รวมรถบรรทุก Truck : Total | B32: =SUM(C32:K32) -> 11167 | C32: =SUM(C33:C34) -> 382 | D32: =SUM(D33:D34) -> 231 | E32: =SUM(E33:E34) -> 585 | F32: =SUM(F33:F34) -> 257 | G32: =SUM(G33:G34) -> 2633 | H32: =SUM(H33:H34) -> 2141 | I32: =SUM(I33:I34) -> 1247 | J32: =SUM(J33:J34) -> 1200 | K32: =SUM(K33:K34) -> 2491
A33: แยกเป็น - ไม่ประจำทาง Non Fixed Route Truck | B33: =SUM(C33:K33) -> 5344 | C33: ='[4]2560'!$B$29 -> 159 | D33: ='[5]2560'!$B$29 -> 60 | E33: ='[6]2560'!$B$29 -> 101 | F33: ='[7]2560'!$B$29 -> 23 | G33: ='[8]2560'!$B$29 -> 897 | H33: ='[9]2560'!$B$29 -> 1164 | I33: ='[10]2560'!$B$29 -> 621 | J33: ='[11]2560'!$B$29 -> 499 | K33: ='[12]2560'!$B$29 -> 1820
A34: - ส่วนบุคคล Private Truck | B34: =SUM(C34:K34) -> 5823 | C34: ='[4]2560'!$B$30 -> 223 | D34: ='[5]2560'!$B$30 -> 171 | E34: ='[6]2560'!$B$30 -> 484 | F34: ='[7]2560'!$B$30 -> 234 | G34: ='[8]2560'!$B$30 -> 1736 | H34: ='[9]2560'!$B$30 -> 977 | I34: ='[10]2560'!$B$30 -> 626 | J34: ='[11]2560'!$B$30 -> 701 | K34: ='[12]2560'!$B$30 -> 671
A35: รถขนาดเล็ก Small Rural Bus | B35: =SUM(C35:K35) -> 0 | C35: ='[4]2560'!$B$31 -> 0 | D35: ='[5]2560'!$B$31 -> 0 | E35: ='[6]2560'!$B$31 -> 0 | F35: ='[7]2560'!$B$31 -> 0 | G35: ='[8]2560'!$B$31 -> 0 | H35: ='[9]2560'!$B$31 -> 0 | I35: ='[10]2560'!$B$31 -> 0 | J35: ='[11]2560'!$B$31 -> 0 | K35: ='[12]2560'!$B$31 -> 0
A36: กลุ่มสถิติการขนส่ง กองแผนงาน กรมการขนส่งทางบก

Sheet East
A1: จำนวนรถที่จดทะเบียนใหม่ตั้งแต่วันที่ 1 มกราคม - 31 ธันวาคม 2560
J2: (คัน : Unit)
A3: ประเภทรถ | B3: รวมภาคตะวันออก | C3: นครนายก | D3: ปราจีนบุรี | E3: ฉะเชิงเทรา | F3: ชลบุรี | G3: ระยอง | H3: จันทบุรี | I3: ตราด | J3: สระแก้ว
A4: (Type of Vehicle) | B4: Eastern | C4: Nakhon Nayok | D4: Prachin Buri | E4: Chachoengsao | F4: Chonburi | G4: Rayong | H4: Chanthaburi | I4: Trad | J4: Sra Kaew
A5: รวมทั้งสิ้น | B5: =B7+B26 -> 319561 | C5: =C7+C26 -> 8223 | D5: =D7+D26 -> 19715 | E5: =E7+E26 -> 33151 | F5: =F7+F26 -> 142171 | G5: =G7+G26 -> 65185 | H5: =H7+H26 -> 27245 | I5: =I7+I26 -> 7651 | J5: =J7+J26 -> 16220
A6: Grand Total
A7: ก. รวมรถตามกฎหมายว่าด้วยรถยนต์ | B7: =SUM(B9:B25) -> 310169 | C7: =SUM(C9:C25) -> 8001 | D7: =SUM(D9:D25) -> 19114 | E7: =SUM(E9:E25) -> 31866 | F7: =SUM(F9:F25) -> 138270 | G7: =SUM(G9:G25) -> 63144 | H7: =SUM(H9:H25) -> 26672 | I7: =SUM(I9:I25) -> 7428 | J7: =SUM(J9:J25) -> 15674
A8: Total Vehicle under Motor Vehicle Act
A9: รย. 1 รถยนต์นั่งส่วนบุคคลไม่เกิน 7 คน Sedan (Not more than 7 Pass.) | B9: =SUM(C9:J9) -> 52061 | C9: ='[13]2560'!$B$6 -> 1500 | D9: ='[14]2560'!$B$6 -> 2950 | E9: ='[15]2560'!$B$6 -> 4522 | F9: ='[16]2560'!$B$6 -> 24898 | G9: ='[17]2560'!$B$6 -> 11264 | H9: ='[18]2560'!$B$6 -> 4559 | I9: ='[19]2560'!$B$6 -> 795 | J9: ='[20]2560'!$B$6 -> 1573
A10: รย. 2 รถยนต์นั่งส่วนบุคคลเกิน 7 คน Microbus & Passenger Van | B10: =SUM(C10:J10) -> 699 | C10: ='[13]2560'!$B$7 -> 33 | D10: ='[14]2560'!$B$7 -> 49 | E10: ='[15]2560'!$B$7 -> 94 | F10: ='[16]2560'!$B$7 -> 286 | G10: ='[17]2560'!$B$7 -> 155 | H10: ='[18]2560'!$B$7 -> 44 | I10: ='[19]2560'!$B$7 -> 9 | J10: ='[20]2560'!$B$7 -> 29
A11: รย. 3 รถยนต์บรรทุกส่วนบุคคล Van & Pick Up | B11: =SUM(C11:J11) -> 24043 | C11: ='[13]2560'!$B$8 -> 1023 | D11: ='[14]2560'!$B$8 -> 1721 | E11: ='[15]2560'!$B$8 -> 2532 | F11: ='[16]2560'!$B$8 -> 9300 | G11: ='[17]2560'!$B$8 -> 4322 | H11: ='[18]2560'!$B$8 -> 3112 | I11: ='[19]2560'!$B$8 -> 836 | J11: ='[20]2560'!$B$8 -> 1197
A12: รย. 4 รถยนต์สามล้อส่วนบุคคล Motortricycle | B12: =SUM(C12:J12) -> 0 | C12: ='[13]2560'!$B$9 -> 0 | D12: ='[14]2560'!$B$9 -> 0 | E12: ='[15]2560'!$B$9 -> 0 | F12: ='[16]2560'!$B$9 -> 0 | G12: ='[17]2560'!$B$9 -> 0 | H12: ='[18]2560'!$B$9 -> 0 | I12: ='[19]2560'!$B$9 -> 0 | J12: ='[20]2560'!$B$9 -> 0
A13: รย. 5 รถยนต์รับจ้างระหว่างจังหวัด Interprovincial Taxi | B13: =SUM(C13:J13) -> 0 | C13: ='[13]2560'!$B$10 -> 0 | D13: ='[14]2560'!$B$10 -> 0 | E13: ='[15]2560'!$B$10 -> 0 | F13: ='[16]2560'!$B$10 -> 0 | G13: ='[17]2560'!$B$10 -> 0 | H13: ='[18]2560'!$B$10 -> 0 | I13: ='[19]2560'!$B$10 -> 0 | J13: ='[20]2560'!$B$10 -> 0
A14: รย. 6 รถยนต์รับจ้างบรรทุกคนโดยสารไม่เกิน 7 คน Urban Taxi | B14: =SUM(C14:J14) -> 88 | C14: ='[13]2560'!$B$11 -> 0 | D14: ='[14]2560'!$B$11 -> 0 | E14: ='[15]2560'!$B$11 -> 0 | F14: ='[16]2560'!$B$11 -> 88 | G14: ='[17]2560'!$B$11 -> 0 | H14: ='[18]2560'!$B$11 -> 0 | I14: ='[19]2560'!$B$11 -> 0 | J14: ='[20]2560'!$B$11 -> 0
A15: รย. 7 รถยนต์สี่ล้อเล็กรับจ้าง Fixed Route Taxi | B15: =SUM(C15:J15) -> 0 | C15: ='[13]2560'!$B$12 -> 0 | D15: ='[14]2560'!$B$12 -> 0 | E15: ='[15]2560'!$B$12 -> 0 | F15: ='[16]2560'!$B$12 -> 0 | G15: ='[17]2560'!$B$12 -> 0 | H15: ='[18]2560'!$B$12 -> 0 | I15: ='[19]2560'!$B$12 -> 0 | J15: ='[20]2560'!$B$12 -> 0
A16: รย. 8 รถยนต์รับจ้างสามล้อ Motortricycle Taxi (Tuk Tuk) | B16: =SUM(C16:J16) -> 161 | C16: ='[13]2560'!$B$13 -> 0 | D16: ='[14]2560'!$B$13 -> 2 | E16: ='[15]2560'!$B$13 -> 20 | F16: ='[16]2560'!$B$13 -> 14 | G16: ='[17]2560'!$B$13 -> 0 | H16: ='[18]2560'!$B$13 -> 0 | I16: ='[19]2560'!$B$13 -> 0 | J16: ='[20]2560'!$B$13 -> 125
A17: รย. 9 รถยนต์บริการธุรกิจ Hotel Taxi | B17: =SUM(C17:J17) -> 1 | C17: ='[13]2560'!$B$14 -> 0 | D17: ='[14]2560'!$B$14 -> 0 | E17: ='[15]2560'!$B$14 -> 0 | F17: ='[16]2560'!$B$14 -> 1 | G17: ='[17]2560'!$B$14 -> 0 | H17: ='[18]2560'!$B$14 -> 0 | I17: ='[19]2560'!$B$14 -> 0 | J17: ='[20]2560'!$B$14 -> 0
A18: รย.10 รถยนต์บริการทัศนาจร Tour Taxi | B18: =SUM(C18:J18) -> 0 | C18: ='[13]2560'!$B$15 -> 0 | D18: ='[14]2560'!$B$15 -> 0 | E18: ='[15]2560'!$B$15 -> 0 | F18: ='[16]2560'!$B$15 -> 0 | G18: ='[17]2560'!$B$15 -> 0 | H18: ='[18]2560'!$B$15 -> 0 | I18: ='[19]2560'!$B$15 -> 0 | J18: ='[20]2560'!$B$15 -> 0
A19: รย.11 รถยนต์บริการให้เช่า Car For Hire | B19: =SUM(C19:J19) -> 3 | C19: ='[13]2560'!$B$16 -> 0 | D19: ='[14]2560'!$B$16 -> 0 | E19: ='[15]2560'!$B$16 -> 0 | F19: ='[16]2560'!$B$16 -> 0 | G19: ='[17]2560'!$B$16 -> 0 | H19: ='[18]2560'!$B$16 -> 0 | I19: ='[19]2560'!$B$16 -> 3 | J19: ='[20]2560'!$B$16 -> 0
A20: รย.12 รถจักรยานยนต์ Motorcycle | B20: =SUM(C20:J20) -> 230034 | C20: ='[13]2560'!$B$17 -> 5366 | D20: ='[14]2560'!$B$17 -> 14108 | E20: ='[15]2560'!$B$17 -> 24420 | F20: ='[16]2560'!$B$17 -> 102876 | G20: ='[17]2560'!$B$17 -> 47042 | H20: ='[18]2560'!$B$17 -> 18597 | I20: ='[19]2560'!$B$17 -> 5766 | J20: ='[20]2560'!$B$17 -> 11859
A21: รย.13 รถแทรกเตอร์ Tractor | B21: =SUM(C21:J21) -> 2650 | C21: ='[13]2560'!$B$18 -> 71 | D21: ='[14]2560'!$B$18 -> 261 | E21: ='[15]2560'!$B$18 -> 222 | F21: ='[16]2560'!$B$18 -> 554 | G21: ='[17]2560'!$B$18 -> 319 | H21: ='[18]2560'!$B$18 -> 336 | I21: ='[19]2560'!$B$18 -> 11 | J21: ='[20]2560'!$B$18 -> 876
A22: รย.14 รถบดถนน Road Roller | B22: =SUM(C22:J22) -> 77 | C22: ='[13]2560'!$B$19 -> 3 | D22: ='[14]2560'!$B$19 -> 13 | E22: ='[15]2560'!$B$19 -> 6 | F22: ='[16]2560'!$B$19 -> 23 | G22: ='[17]2560'!$B$19 -> 9 | H22: ='[18]2560'!$B$19 -> 7 | I22: ='[19]2560'!$B$19 -> 3 | J22: ='[20]2560'!$B$19 -> 13
A23: รย.15 รถใช้งานเกษตรกรรม Farm Vehicle | B23: =SUM(C23:J23) -> 0 | C23: ='[13]2560'!$B$20 -> 0 | D23: ='[14]2560'!$B$20 -> 0 | E23: ='[15]2560'!$B$20 -> 0 | F23: ='[16]2560'!$B$20 -> 0 | G23: ='[17]2560'!$B$20 -> 0 | H23: ='[18]2560'!$B$20 -> 0 | I23: ='[19]2560'!$B$20 -> 0 | J23: ='[20]2560'!$B$20 -> 0
A24: รย.16 รถพ่วง Automobile Trailer | B24: =SUM(C24:J24) -> 95 | C24: ='[13]2560'!$B$21 -> 3 | D24: ='[14]2560'!$B$21 -> 3 | E24: ='[15]2560'!$B$21 -> 1 | F24: ='[16]2560'!$B$21 -> 86 | G24: ='[17]2560'!$B$21 -> 0 | H24: ='[18]2560'!$B$21 -> 2 | I24: ='[19]2560'!$B$21 -> 0 | J24: ='[20]2560'!$B$21 -> 0
A25: รย.17 รถจักรยานยนต์สาธารณะ Public Motorcycle | B25: =SUM(C25:J25) -> 257 | C25: ='[13]2560'!$B$22 -> 2 | D25: ='[14]2560'!$B$22 -> 7 | E25: ='[15]2560'!$B$22 -> 49 | F25: ='[16]2560'!$B$22 -> 144 | G25: ='[17]2560'!$B$22 -> 33 | H25: ='[18]2560'!$B$22 -> 15 | I25: ='[19]2560'!$B$22 -> 5 | J25: ='[20]2560'!$B$22 -> 2
A26: ข. รวมรถตามกฎหมายว่าด้วยการขนส่งทางบก | B26: =B28+B32+B35 -> 9392 | C26: =C28+C32+C35 -> 222 | D26: =D28+D32+D35 -> 601 | E26: =E28+E32+E35 -> 1285 | F26: =F28+F32+F35 -> 3901 | G26: =G28+G32+G35 -> 2041 | H26: =H28+H32+H35 -> 573 | I26: =I28+I32+I35 -> 223 | J26: =J28+J32+J35 -> 546
A27: Total Vehicle under Land Transport Act
A28: รวมรถโดยสาร Bus : Total | B28: =SUM(B29:B31) -> 1509 | C28: =SUM(C29:C31) -> 20 | D28: =SUM(D29:D31) -> 86 | E28: =SUM(E29:E31) -> 145 | F28: =SUM(F29:F31) -> 796 | G28: =SUM(G29:G31) -> 278 | H28: =SUM(H29:H31) -> 65 | I28: =SUM(I29:I31) -> 73 | J28: =SUM(J29:J31) -> 46
A29: แยกเป็น - ประจำทาง Fixed Route Bus | B29: =SUM(C29:J29) -> 252 | C29: ='[13]2560'!$B$25 -> 8 | D29: ='[14]2560'!$B$25 -> 6 | E29: ='[15]2560'!$B$25 -> 12 | F29: ='[16]2560'!$B$25 -> 148 | G29: ='[17]2560'!$B$25 -> 23 | H29: ='[18]2560'!$B$25 -> 6 | I29: ='[19]2560'!$B$25 -> 41 | J29: ='[20]2560'!$B$25 -> 8
A30: - ไม่ประจำทาง Non Fixed Route Bus | B30: =SUM(C30:J30) -> 1175 | C30: ='[13]2560'!$B$26 -> 11 | D30: ='[14]2560'!$B$26 -> 77 | E30: ='[15]2560'!$B$26 -> 127 | F30: ='[16]2560'!$B$26 -> 605 | G30: ='[17]2560'!$B$26 -> 238 | H30: ='[18]2560'!$B$26 -> 56 | I30: ='[19]2560'!$B$26 -> 28 | J30: ='[20]2560'!$B$26 -> 33
A31: - ส่วนบุคคล Private Bus | B31: =SUM(C31:J31) -> 82 | C31: ='[13]2560'!$B$27 -> 1 | D31: ='[14]2560'!$B$27 -> 3 | E31: ='[15]2560'!$B$27 -> 6 | F31: ='[16]2560'!$B$27 -> 43 | G31: ='[17]2560'!$B$27 -> 17 | H31: ='[18]2560'!$B$27 -> 3 | I31: ='[19]2560'!$B$27 -> 4 | J31: ='[20]2560'!$B$27 -> 5
A32: รวมรถบรรทุก Truck : Total | B32: =SUM(B33:B34) -> 7883 | C32: =SUM(C33:C34) -> 202 | D32: =SUM(D33:D34) -> 515 | E32: =SUM(E33:E34) -> 1140 | F32: =SUM(F33:F34) -> 3105 | G32: =SUM(G33:G34) -> 1763 | H32: =SUM(H33:H34) -> 508 | I32: =SUM(I33:I34) -> 150 | J32: =SUM(J33:J34) -> 500
A33: แยกเป็น - ไม่ประจำทาง Non Fixed Route Truck | B33: =SUM(C33:J33) -> 4340 | C33: ='[13]2560'!$B$29 -> 68 | D33: ='[14]2560'!$B$29 -> 95 | E33: ='[15]2560'!$B$29 -> 609 | F33: ='[16]2560'!$B$29 -> 2031 | G33: ='[17]2560'!$B$29 -> 1196 | H33: ='[18]2560'!$B$29 -> 229 | I33: ='[19]2560'!$B$29 -> 18 | J33: ='[20]2560'!$B$29 -> 94
A34: - ส่วนบุคคล Private Truck | B34: =SUM(C34:J34) -> 3543 | C34: ='[13]2560'!$B$30 -> 134 | D34: ='[14]2560'!$B$30 -> 420 | E34: ='[15]2560'!$B$30 -> 531 | F34: ='[16]2560'!$B$30 -> 1074 | G34: ='[17]2560'!$B$30 -> 567 | H34: ='[18]2560'!$B$30 -> 279 | I34: ='[19]2560'!$B$30 -> 132 | J34: ='[20]2560'!$B$30 -> 406
A35: รถขนาดเล็ก Small Rural Bus | B35: =SUM(C35:J35) -> 0 | C35: ='[13]2560'!$B$31 -> 0 | D35: ='[14]2560'!$B$31 -> 0 | E35: ='[15]2560'!$B$31 -> 0 | F35: ='[16]2560'!$B$31 -> 0 | G35: ='[17]2560'!$B$31 -> 0 | H35: ='[18]2560'!$B$31 -> 0 | I35: ='[19]2560'!$B$31 -> 0 | J35: ='[20]2560'!$B$31 -> 0
A36: =Central!A36 -> กลุ่มสถิติการขนส่ง กองแผนงาน กรมการขนส่งทางบก

Sheet NE
A1: จำนวนรถที่จดทะเบียนใหม่ตั้งแต่วันที่ 1 มกราคม - 31 ธันวาคม 2560
V2: (คัน : Unit)
A3: ประเภทรถ | B3: รวมภาคตะวันออกเฉียงเหนือ | C3: ชัยภูมิ | D3: ยโสธร | E3: อุบลราชธานี | F3: ศรีสะเกษ | G3: บุรีรัมย์ | H3: นครราชสีมา | I3: สุรินทร์ | J3: อำนาจเจริญ | K3: หนองบัวลำภู | L3: บึงกาฬ | M3: หนองคาย | N3: เลย | O3: อุดรธานี | P3: นครพนม | Q3: สกลนคร | R3: ขอนแก่น | S3: กาฬสินธุ์ | T3: มหาสารคาม | U3: ร้อยเอ็ด | V3: มุกดาหาร
A4: (Type of Vehicle) | B4: North Eastern | C4: Chaiyaphum | D4: Yasothon | E4: Ubon Ratchathani | F4: Si Sa Ket | G4: Buri Rum | H4: Nakhon Ratchasima | I4: Surin | J4: Amnat Charoen | K4: Nong Bua Lamphu | L4: Bueng Kan | M4: Nong Khai | N4: Loei | O4: Udon Thani | P4: Nakhon Phanom | Q4: Sakon Nakhon | R4: Khon Kaen | S4: Kalasin | T4: Maha Sarakham | U4: Roi Et | V4: Mukdahan
A5: รวมทั้งสิ้น | B5: =B7+B26 -> 670409 | C5: =C7+C26 -> 25646 | D5: =D7+D26 -> 16315 | E5: =E7+E26 -> 57054 | F5: =F7+F26 -> 30105 | G5: =G7+G26 -> 41063 | H5: =H7+H26 -> 78935 | I5: =I7+I26 -> 37781 | ... V5: =V7+V26 -> 14828
A6: Grand Total
A7: ก. รวมรถตามกฎหมายว่าด้วยรถยนต์ | B7: =SUM(B9:B25) -> 654353 | C7: =SUM(C9:C25) -> 24687 | D7: =SUM(D9:D25) -> 15947 | E7: =SUM(E9:E25) -> 56079 | F7: =SUM(F9:F25) -> 29248 | G7: =SUM(G9:G25) -> 39685 | H7: =SUM(H9:H25) -> 76304 | I7: =SUM(I9:I25) -> 36906 | ... V7: =SUM(V9:V25) -> 14521
A8: Total Vehicle under Motor Vehicle Act
A9: รย. 1 รถยนต์นั่งส่วนบุคคลไม่เกิน 7 คน Sedan (Not more than 7 Pass.) | B9: =SUM(C9:V9) -> 83861 | C9: ='[21]2560'!$B$6 -> 2771 | D9: ='[22]2560'!$B$6 -> 1786 | E9: ='[23]2560'!$B$6 -> 7116 | F9: ='[24]2560'!$B$6 -> 3366 | G9: ='[25]2560'!$B$6 -> 4007 | H9: ='[26]2560'!$B$6 -> 15443 | I9: ='[27]2560'!$B$6 -> 2964 | J9: ='[28]2560'!$B$6 -> 1173 | K9: ='[29]2560'!$B$6 -> 1821 | L9: ='[30]2560'!$B$6 -> 1194 | M9: ='[31]2560'!$B$6 -> 1875 | N9: ='[32]2560'!$B$6 -> 2900 | O9: ='[33]2560'!$B$6 -> 8126 | P9: ='[34]2560'!$B$6 -> 1569 | Q9: ='[35]2560'!$B$6 -> 3203 | R9: ='[36]2560'!$B$6 -> 13571 | S9: ='[37]2560'!$B$6 -> 2285 | T9: ='[38]2560'!$B$6 -> 3221 | U9: ='[39]2560'!$B$6 -> 3697 | V9: ='[40]2560'!$B$6 -> 1773
A10: รย. 2 รถยนต์นั่งส่วนบุคคลเกิน 7 คน Microbus & Passenger Van | B10: =SUM(C10:V10) -> 1236 | C10: ='[21]2560'!$B$7 -> 36 | D10: ='[22]2560'!$B$7 -> 23 | E10: ='[23]2560'!$B$7 -> 140 | F10: ='[24]2560'!$B$7 -> 51 | G10: ='[25]2560'!$B$7 -> 53 | H10: ='[26]2560'!$B$7 -> 224 | I10: ='[27]2560'!$B$7 -> 38 | J10: ='[28]2560'!$B$7 -> 14 | K10: ='[29]2560'!$B$7 -> 14 | L10: ='[30]2560'!$B$7 -> 20 | M10: ='[31]2560'!$B$7 -> 35 | N10: ='[32]2560'!$B$7 -> 31 | O10: ='[33]2560'!$B$7 -> 158 | P10: ='[34]2560'!$B$7 -> 20 | Q10: ='[35]2560'!$B$7 -> 64 | R10: ='[36]2560'!$B$7 -> 169 | S10: ='[37]2560'!$B$7 -> 34 | T10: ='[38]2560'!$B$7 -> 46 | U10: ='[39]2560'!$B$7 -> 38 | V10: ='[40]2560'!$B$7 -> 28
A11: รย. 3 รถยนต์บรรทุกส่วนบุคคล Van & Pick Up | B11: =SUM(C11:V11) -> 56175 | C11: ='[21]2560'!$B$8 -> 1661 | D11: ='[22]2560'!$B$8 -> 1443 | E11: ='[23]2560'!$B$8 -> 5916 | F11: ='[24]2560'!$B$8 -> 2863 | G11: ='[25]2560'!$B$8 -> 2649 | H11: ='[26]2560'!$B$8 -> 7939 | I11: ='[27]2560'!$B$8 -> 2127 | J11: ='[28]2560'!$B$8 -> 969 | K11: ='[29]2560'!$B$8 -> 1644 | L11: ='[30]2560'!$B$8 -> 1141 | M11: ='[31]2560'!$B$8 -> 1098 | N11: ='[32]2560'!$B$8 -> 2619 | O11: ='[33]2560'!$B$8 -> 4519 | P11: ='[34]2560'!$B$8 -> 1090 | Q11: ='[35]2560'!$B$8 -> 2536 | R11: ='[36]2560'!$B$8 -> 7958 | S11: ='[37]2560'!$B$8 -> 1738 | T11: ='[38]2560'!$B$8 -> 2319 | U11: ='[39]2560'!$B$8 -> 2681 | V11: ='[40]2560'!$B$8 -> 1265
A12: รย. 4 รถยนต์สามล้อส่วนบุคคล Motortricycle | B12: =SUM(C12:V12) -> 0 | C12: ='[21]2560'!$B$9 -> 0 | D12: ='[22]2560'!$B$9 -> 0 | E12: ='[23]2560'!$B$9 -> 0 | F12: ='[24]2560'!$B$9 -> 0 | G12: ='[25]2560'!$B$9 -> 0 | H12: ='[26]2560'!$B$9 -> 0 | I12: ='[27]2560'!$B$9 -> 0 | J12: ='[28]2560'!$B$9 -> 0 | K12: ='[29]2560'!$B$9 -> 0 | L12: ='[30]2560'!$B$9 -> 0 | M12: ='[31]2560'!$B$9 -> 0 | N12: ='[32]2560'!$B$9 -> 0 | O12: ='[33]2560'!$B$9 -> 0 | P12: ='[34]2560'!$B$9 -> 0 | Q12: ='[35]2560'!$B$9 -> 0 | R12: ='[36]2560'!$B$9 -> 0 | S12: ='[37]2560'!$B$9 -> 0 | T12: ='[38]2560'!$B$9 -> 0 | U12: ='[39]2560'!$B$9 -> 0 | V12: ='[40]2560'!$B$9 -> 0
A13: รย. 5 รถยนต์รับจ้างระหว่างจังหวัด Interprovincial Taxi | B13: =SUM(C13:V13) -> 0 | C13: ='[21]2560'!$B$10 -> 0 | D13: ='[22]2560'!$B$10 -> 0 | E13: ='[23]2560'!$B$10 -> 0 | F13: ='[24]2560'!$B$10 -> 0 | G13: ='[25]2560'!$B$10 -> 0 | H13: ='[26]2560'!$B$10 -> 0 | I13: ='[27]2560'!$B$10 -> 0 | J13: ='[28]2560'!$B$10 -> 0 | K13: ='[29]2560'!$B$10 -> 0 | L13: ='[30]2560'!$B$10 -> 0 | M13: ='[31]2560'!$B$10 -> 0 | N13: ='[32]2560'!$B$10 -> 0 | O13: ='[33]2560'!$B$10 -> 0 | P13: ='[34]2560'!$B$10 -> 0 | Q13: ='[35]2560'!$B$10 -> 0 | R13: ='[36]2560'!$B$10 -> 0 | S13: ='[37]2560'!$B$10 -> 0 | T13: ='[38]2560'!$B$10 -> 0 | U13: ='[39]2560'!$B$10 -> 0 | V13: ='[40]2560'!$B$10 -> 0
A14: รย. 6 รถยนต์รับจ้างบรรทุกคนโดยสารไม่เกิน 7 คน Urban Taxi | B14: =SUM(C14:V14) -> 108 | C14: ='[21]2560'!$B$11 -> 0 | D14: ='[22]2560'!$B$11 -> 0 | E14: ='[23]2560'!$B$11 -> 16 | F14: ='[24]2560'!$B$11 -> 5 | G14: ='[25]2560'!$B$11 -> 2 | H14: ='[26]2560'!$B$11 -> 22 | I14: ='[27]2560'!$B$11 -> 0 | J14: ='[28]2560'!$B$11 -> 0 | K14: ='[29]2560'!$B$11 -> 0 | L14: ='[30]2560'!$B$11 -> 0 | M14: ='[31]2560'!$B$11 -> 0 | N14: ='[32]2560'!$B$11 -> 0 | O14: ='[33]2560'!$B$11 -> 0 | P14: ='[34]2560'!$B$11 -> 0 | Q14: ='[35]2560'!$B$11 -> 1 | R14: ='[36]2560'!$B$11 -> 60 | S14: ='[37]2560'!$B$11 -> 0 | T14: ='[38]2560'!$B$11 -> 1 | U14: ='[39]2560'!$B$11 -> 1 | V14: ='[40]2560'!$B$11 -> 0
A15: รย. 7 รถยนต์สี่ล้อเล็กรับจ้าง Fixed Route Taxi | B15: =SUM(C15:V15) -> 0 | C15: ='[21]2560'!$B$12 -> 0 | D15: ='[22]2560'!$B$12 -> 0 | E15: ='[23]2560'!$B$12 -> 0 | F15: ='[24]2560'!$B$12 -> 0 | G15: ='[25]2560'!$B$12 -> 0 | H15: ='[26]2560'!$B$12 -> 0 | I15: ='[27]2560'!$B$12 -> 0 | J15: ='[28]2560'!$B$12 -> 0 | K15: ='[29]2560'!$B$12 -> 0 | L15: ='[30]2560'!$B$12 -> 0 | M15: ='[31]2560'!$B$12 -> 0 | N15: ='[32]2560'!$B$12 -> 0 | O15: ='[33]2560'!$B$12 -> 0 | P15: ='[34]2560'!$B$12 -> 0 | Q15: ='[35]2560'!$B$12 -> 0 | R15: ='[36]2560'!$B$12 -> 0 | S15: ='[37]2560'!$B$12 -> 0 | T15: ='[38]2560'!$B$12 -> 0 | U15: ='[39]2560'!$B$12 -> 0 | V15: ='[40]2560'!$B$12 -> 0
A16: รย. 8 รถยนต์รับจ้างสามล้อ Motortricycle Taxi (Tuk Tuk) | B16: =SUM(C16:V16) -> 24 | C16: ='[21]2560'!$B$13 -> 0 | D16: ='[22]2560'!$B$13 -> 0 | E16: ='[23]2560'!$B$13 -> 6 | F16: ='[24]2560'!$B$13 -> 0 | G16: ='[25]2560'!$B$13 -> 0 | H16: ='[26]2560'!$B$13 -> 14 | I16: ='[27]2560'!$B$13 -> 0 | J16: ='[28]2560'!$B$13 -> 0 | K16: ='[29]2560'!$B$13 -> 0 | L16: ='[30]2560'!$B$13 -> 0 | M16: ='[31]2560'!$B$13 -> 0 | N16: ='[32]2560'!$B$13 -> 0 | O16: ='[33]2560'!$B$13 -> 0 | P16: ='[34]2560'!$B$13 -> 0 | Q16: ='[35]2560'!$B$13 -> 0 | R16: ='[36]2560'!$B$13 -> 4 | S16: ='[37]2560'!$B$13 -> 0 | T16: ='[38]2560'!$B$13 -> 0 | U16: ='[39]2560'!$B$13 -> 0 | V16: ='[40]2560'!$B$13 -> 0
A17: รย. 9 รถยนต์บริการธุรกิจ Hotel Taxi | B17: =SUM(C17:V17) -> 7 | C17: ='[21]2560'!$B$14 -> 0 | D17: ='[22]2560'!$B$14 -> 0 | E17: ='[23]2560'!$B$14 -> 0 | F17: ='[24]2560'!$B$14 -> 0 | G17: ='[25]2560'!$B$14 -> 0 | H17: ='[26]2560'!$B$14 -> 0 | I17: ='[27]2560'!$B$14 -> 0 | J17: ='[28]2560'!$B$14 -> 0 | K17: ='[29]2560'!$B$14 -> 0 | L17: ='[30]2560'!$B$14 -> 0 | M17: ='[31]2560'!$B$14 -> 0 | N17: ='[32]2560'!$B$14 -> 0 | O17: ='[33]2560'!$B$14 -> 7 | P17: ='[34]2560'!$B$14 -> 0 | Q17: ='[35]2560'!$B$14 -> 0 | R17: ='[36]2560'!$B$14 -> 0 | S17: ='[37]2560'!$B$14 -> 0 | T17: ='[38]2560'!$B$14 -> 0 | U17: ='[39]2560'!$B$14 -> 0 | V17: ='[40]2560'!$B$14 -> 0
A18: รย.10 รถยนต์บริการทัศนาจร Tour Taxi | B18: =SUM(C18:V18) -> 0 | C18: ='[21]2560'!$B$15 -> 0 | D18: ='[22]2560'!$B$15 -> 0 | E18: ='[23]2560'!$B$15 -> 0 | F18: ='[24]2560'!$B$15 -> 0 | G18: ='[25]2560'!$B$15 -> 0 | H18: ='[26]2560'!$B$15 -> 0 | I18: ='[27]2560'!$B$15 -> 0 | J18: ='[28]2560'!$B$15 -> 0 | K18: ='[29]2560'!$B$15 -> 0 | L18: ='[30]2560'!$B$15 -> 0 | M18: ='[31]2560'!$B$15 -> 0 | N18: ='[32]2560'!$B$15 -> 0 | O18: ='[33]2560'!$B$15 -> 0 | P18: ='[34]2560'!$B$15 -> 0 | Q18: ='[35]2560'!$B$15 -> 0 | R18: ='[36]2560'!$B$15 -> 0 | S18: ='[37]2560'!$B$15 -> 0 | T18: ='[38]2560'!$B$15 -> 0 | U18: ='[39]2560'!$B$15 -> 0 | V18: ='[40]2560'!$B$15 -> 0
A19: รย.11 รถยนต์บริการให้เช่า Car For Hire | B19: =SUM(C19:V19) -> 0 | C19: ='[21]2560'!$B$16 -> 0 | D19: ='[22]2560'!$B$16 -> 0 | E19: ='[23]2560'!$B$16 -> 0 | F19: ='[24]2560'!$B$16 -> 0 | G19: ='[25]2560'!$B$16 -> 0 | H19: ='[26]2560'!$B$16 -> 0 | I19: ='[27]2560'!$B$16 -> 0 | J19: ='[28]2560'!$B$16 -> 0 | K19: ='[29]2560'!$B$16 -> 0 | L19: ='[30]2560'!$B$16 -> 0 | M19: ='[31]2560'!$B$16 -> 0 | N19: ='[32]2560'!$B$16 -> 0 | O19: ='[33]2560'!$B$16 -> 0 | P19: ='[34]2560'!$B$16 -> 0 | Q19: ='[35]2560'!$B$16 -> 0 | R19: ='[36]2560'!$B$16 -> 0 | S19: ='[37]2560'!$B$16 -> 0 | T19: ='[38]2560'!$B$16 -> 0 | U19: ='[39]2560'!$B$16 -> 0 | V19: ='[40]2560'!$B$16 -> 0
A20: รย.12 รถจักรยานยนต์ Motorcycle | B20: =SUM(C20:V20) -> 489886 | C20: ='[21]2560'!$B$17 -> 18265 | D20: ='[22]2560'!$B$17 -> 12164 | E20: ='[23]2560'!$B$17 -> 41169 | F20: ='[24]2560'!$B$17 -> 21625 | G20: ='[25]2560'!$B$17 -> 31563 | H20: ='[26]2560'!$B$17 -> 48918 | I20: ='[27]2560'!$B$17 -> 30766 | J20: ='[28]2560'!$B$17 -> 6885 | K20: ='[29]2560'!$B$17 -> 9687 | L20: ='[30]2560'!$B$17 -> 10253 | M20: ='[31]2560'!$B$17 -> 16336 | N20: ='[32]2560'!$B$17 -> 16171 | O20: ='[33]2560'!$B$17 -> 49464 | P20: ='[34]2560'!$B$17 -> 14852 | Q20: ='[35]2560'!$B$17 -> 34749 | R20: ='[36]2560'!$B$17 -> 46582 | S20: ='[37]2560'!$B$17 -> 15556 | T20: ='[38]2560'!$B$17 -> 26952 | U20: ='[39]2560'!$B$17 -> 26742 | V20: ='[40]2560'!$B$17 -> 11187
A21: รย.13 รถแทรกเตอร์ Tractor | B21: =SUM(C21:V21) -> 22017 | C21: ='[21]2560'!$B$18 -> 1570 | D21: ='[22]2560'!$B$18 -> 517 | E21: ='[23]2560'!$B$18 -> 1701 | F21: ='[24]2560'!$B$18 -> 1330 | G21: ='[25]2560'!$B$18 -> 1376 | H21: ='[26]2560'!$B$18 -> 3289 | I21: ='[27]2560'!$B$18 -> 994 | J21: ='[28]2560'!$B$18 -> 351 | K21: ='[29]2560'!$B$18 -> 962 | L21: ='[30]2560'!$B$18 -> 342 | M21: ='[31]2560'!$B$18 -> 440 | N21: ='[32]2560'!$B$18 -> 904 | O21: ='[33]2560'!$B$18 -> 2318 | P21: ='[34]2560'!$B$18 -> 450 | Q21: ='[35]2560'!$B$18 -> 1171 | R21: ='[36]2560'!$B$18 -> 1367 | S21: ='[37]2560'!$B$18 -> 1018 | T21: ='[38]2560'!$B$18 -> 733 | U21: ='[39]2560'!$B$18 -> 920 | V21: ='[40]2560'!$B$18 -> 264
A22: รย.14 รถบดถนน Road Roller | B22: =SUM(C22:V22) -> 201 | C22: ='[21]2560'!$B$19 -> 14 | D22: ='[22]2560'!$B$19 -> 10 | E22: ='[23]2560'!$B$19 -> 14 | F22: ='[24]2560'!$B$19 -> 7 | G22: ='[25]2560'!$B$19 -> 30 | H22: ='[26]2560'!$B$19 -> 13 | I22: ='[27]2560'!$B$19 -> 16 | J22: ='[28]2560'!$B$19 -> 1 | K22: ='[29]2560'!$B$19 -> 10 | L22: ='[30]2560'!$B$19 -> 3 | M22: ='[31]2560'!$B$19 -> 1 | N22: ='[32]2560'!$B$19 -> 22 | O22: ='[33]2560'!$B$19 -> 5 | P22: ='[34]2560'!$B$19 -> 3 | Q22: ='[35]2560'!$B$19 -> 4 | R22: ='[36]2560'!$B$19 -> 23 | S22: ='[37]2560'!$B$19 -> 6 | T22: ='[38]2560'!$B$19 -> 7 | U22: ='[39]2560'!$B$19 -> 8 | V22: ='[40]2560'!$B$19 -> 4
A23: รย.15 รถใช้งานเกษตรกรรม Farm Vehicle | B23: =SUM(C23:V23) -> 715 | C23: ='[21]2560'!$B$20 -> 348 | D23: ='[22]2560'!$B$20 -> 0 | E23: ='[23]2560'!$B$20 -> 0 | F23: ='[24]2560'!$B$20 -> 0 | G23: ='[25]2560'!$B$20 -> 0 | H23: ='[26]2560'!$B$20 -> 361 | I23: ='[27]2560'!$B$20 -> 0 | J23: ='[28]2560'!$B$20 -> 0 | K23: ='[29]2560'!$B$20 -> 0 | L23: ='[30]2560'!$B$20 -> 0 | M23: ='[31]2560'!$B$20 -> 0 | N23: ='[32]2560'!$B$20 -> 1 | O23: ='[33]2560'!$B$20 -> 3 | P23: ='[34]2560'!$B$20 -> 0 | Q23: ='[35]2560'!$B$20 -> 1 | R23: ='[36]2560'!$B$20 -> 1 | S23: ='[37]2560'!$B$20 -> 0 | T23: ='[38]2560'!$B$20 -> 0 | U23: ='[39]2560'!$B$20 -> 0 | V23: ='[40]2560'!$B$20 -> 0
A24: รย.16 รถพ่วง Automobile Trailer | B24: =SUM(C24:V24) -> 97 | C24: ='[21]2560'!$B$21 -> 21 | D24: ='[22]2560'!$B$21 -> 0 | E24: ='[23]2560'!$B$21 -> 0 | F24: ='[24]2560'!$B$21 -> 0 | G24: ='[25]2560'!$B$21 -> 1 | H24: ='[26]2560'!$B$21 -> 71 | I24: ='[27]2560'!$B$21 -> 0 | J24: ='[28]2560'!$B$21 -> 0 | K24: ='[29]2560'!$B$21 -> 0 | L24: ='[30]2560'!$B$21 -> 0 | M24: ='[31]2560'!$B$21 -> 0 | N24: ='[32]2560'!$B$21 -> 0 | O24: ='[33]2560'!$B$21 -> 1 | P24: ='[34]2560'!$B$21 -> 0 | Q24: ='[35]2560'!$B$21 -> 0 | R24: ='[36]2560'!$B$21 -> 2 | S24: ='[37]2560'!$B$21 -> 0 | T24: ='[38]2560'!$B$21 -> 0 | U24: ='[39]2560'!$B$21 -> 1 | V24: ='[40]2560'!$B$21 -> 0
A25: รย.17 รถจักรยานยนต์สาธารณะ Public Motorcycle | B25: =SUM(C25:V25) -> 26 | C25: ='[21]2560'!$B$22 -> 1 | D25: ='[22]2560'!$B$22 -> 4 | E25: ='[23]2560'!$B$22 -> 1 | F25: ='[24]2560'!$B$22 -> 1 | G25: ='[25]2560'!$B$22 -> 4 | H25: ='[26]2560'!$B$22 -> 10 | I25: ='[27]2560'!$B$22 -> 1 | J25: ='[28]2560'!$B$22 -> 1 | K25: ='[29]2560'!$B$22 -> 0 | L25: ='[30]2560'!$B$22 -> 0 | M25: ='[31]2560'!$B$22 -> 0 | N25: ='[32]2560'!$B$22 -> 0 | O25: ='[33]2560'!$B$22 -> 0 | P25: ='[34]2560'!$B$22 -> 0 | Q25: ='[35]2560'!$B$22 -> 0 | R25: ='[36]2560'!$B$22 -> 2 | S25: ='[37]2560'!$B$22 -> 0 | T25: ='[38]2560'!$B$22 -> 1 | U25: ='[39]2560'!$B$22 -> 0 | V25: ='[40]2560'!$B$22 -> 0
A26: ข. รวมรถตามกฎหมายว่าด้วยการขนส่งทางบก | B26: =B28+B32+B35 -> 16056 | C26: =C28+C32+C35 -> 959 | D26: =D28+D32+D35 -> 368 | E26: =E28+E32+E35 -> 975 | F26: =F28+F32+F35 -> 857 | G26: =G28+G32+G35 -> 1378 | H26: =H28+H32+H35 -> 2631 | I26: =I28+I32+I35 -> 875 | ... V26: =V28+V32+V35 -> 307
A27: Total Vehicle under Land Transport Act
A28: รวมรถโดยสาร Bus : Total | B28: =SUM(C28:V28) -> 1230 | C28: =SUM(C29:C31) -> 39 | D28: =SUM(D29:D31) -> 37 | E28: =SUM(E29:E31) -> 83 | F28: =SUM(F29:F31) -> 61 | G28: =SUM(G29:G31) -> 38 | H28: =SUM(H29:H31) -> 387 | I28: =SUM(I29:I31) -> 56 | J28: =SUM(J29:J31) -> 27 | ... V28: =SUM(V29:V31) -> 11
A29: แยกเป็น - ประจำทาง Fixed Route Bus | B29: =SUM(C29:V29) -> 341 | C29: ='[21]2560'!$B$25 -> 13 | D29: ='[22]2560'!$B$25 -> 9 | E29: ='[23]2560'!$B$25 -> 30 | F29: ='[24]2560'!$B$25 -> 13 | G29: ='[25]2560'!$B$25 -> 11 | H29: ='[26]2560'!$B$25 -> 88 | I29: ='[27]2560'!$B$25 -> 8 | J29: ='[28]2560'!$B$25 -> 8 | K29: ='[29]2560'!$B$25 -> 12 | L29: ='[30]2560'!$B$25 -> 2 | M29: ='[31]2560'!$B$25 -> 2 | N29: ='[32]2560'!$B$25 -> 8 | O29: ='[33]2560'!$B$25 -> 25 | P29: ='[34]2560'!$B$25 -> 13 | Q29: ='[35]2560'!$B$25 -> 10 | R29: ='[36]2560'!$B$25 -> 47 | S29: ='[37]2560'!$B$25 -> 16 | T29: ='[38]2560'!$B$25 -> 14 | U29: ='[39]2560'!$B$25 -> 9 | V29: ='[40]2560'!$B$25 -> 3
A30: - ไม่ประจำทาง Non Fixed Route Bus | B30: =SUM(C30:V30) -> 704 | C30: ='[21]2560'!$B$26 -> 18 | D30: ='[22]2560'!$B$26 -> 24 | E30: ='[23]2560'!$B$26 -> 33 | F30: ='[24]2560'!$B$26 -> 27 | G30: ='[25]2560'!$B$26 -> 21 | H30: ='[26]2560'!$B$26 -> 276 | I30: ='[27]2560'!$B$26 -> 40 | J30: ='[28]2560'!$B$26 -> 18 | K30: ='[29]2560'!$B$26 -> 13 | L30: ='[30]2560'!$B$26 -> 15 | M30: ='[31]2560'!$B$26 -> 16 | N30: ='[32]2560'!$B$26 -> 28 | O30: ='[33]2560'!$B$26 -> 32 | P30: ='[34]2560'!$B$26 -> 24 | Q30: ='[35]2560'!$B$26 -> 11 | R30: ='[36]2560'!$B$26 -> 40 | S30: ='[37]2560'!$B$26 -> 18 | T30: ='[38]2560'!$B$26 -> 22 | U30: ='[39]2560'!$B$26 -> 20 | V30: ='[40]2560'!$B$26 -> 8
A31: - ส่วนบุคคล Private Bus | B31: =SUM(C31:V31) -> 185 | C31: ='[21]2560'!$B$27 -> 8 | D31: ='[22]2560'!$B$27 -> 4 | E31: ='[23]2560'!$B$27 -> 20 | F31: ='[24]2560'!$B$27 -> 21 | G31: ='[25]2560'!$B$27 -> 6 | H31: ='[26]2560'!$B$27 -> 23 | I31: ='[27]2560'!$B$27 -> 8 | J31: ='[28]2560'!$B$27 -> 1 | K31: ='[29]2560'!$B$27 -> 3 | L31: ='[30]2560'!$B$27 -> 6 | M31: ='[31]2560'!$B$27 -> 2 | N31: ='[32]2560'!$B$27 -> 2 | O31: ='[33]2560'!$B$27 -> 12 | P31: ='[34]2560'!$B$27 -> 9 | Q31: ='[35]2560'!$B$27 -> 8 | R31: ='[36]2560'!$B$27 -> 22 | S31: ='[37]2560'!$B$27 -> 11 | T31: ='[38]2560'!$B$27 -> 8 | U31: ='[39]2560'!$B$27 -> 11 | V31: ='[40]2560'!$B$27 -> 0
A32: รวมรถบรรทุก Truck : Total | B32: =SUM(C32:V32) -> 14826 | C32: =SUM(C33:C34) -> 920 | D32: =SUM(D33:D34) -> 331 | E32: =SUM(E33:E34) -> 892 | F32: =SUM(F33:F34) -> 796 | G32: =SUM(G33:G34) -> 1340 | H32: =SUM(H33:H34) -> 2244 | I32: =SUM(I33:I34) -> 819 | J32: =SUM(J33:J34) -> 190 | ... V32: =SUM(V33:V34) -> 296
A33: แยกเป็น - ไม่ประจำทาง Non Fixed Route Truck | B33: =SUM(C33:V33) -> 2627 | C33: ='[21]2560'!$B$29 -> 147 | D33: ='[22]2560'!$B$29 -> 56 | E33: ='[23]2560'!$B$29 -> 185 | F33: ='[24]2560'!$B$29 -> 38 | G33: ='[25]2560'!$B$29 -> 111 | H33: ='[26]2560'!$B$29 -> 368 | I33: ='[27]2560'!$B$29 -> 185 | J33: ='[28]2560'!$B$29 -> 23 | K33: ='[29]2560'!$B$29 -> 45 | L33: ='[30]2560'!$B$29 -> 48 | M33: ='[31]2560'!$B$29 -> 126 | N33: ='[32]2560'!$B$29 -> 86 | O33: ='[33]2560'!$B$29 -> 132 | P33: ='[34]2560'!$B$29 -> 131 | Q33: ='[35]2560'!$B$29 -> 117 | R33: ='[36]2560'!$B$29 -> 313 | S33: ='[37]2560'!$B$29 -> 39 | T33: ='[38]2560'!$B$29 -> 224 | U33: ='[39]2560'!$B$29 -> 122 | V33: ='[40]2560'!$B$29 -> 131
A34: - ส่วนบุคคล Private Truck | B34: =SUM(C34:V34) -> 12199 | C34: ='[21]2560'!$B$30 -> 773 | D34: ='[22]2560'!$B$30 -> 275 | E34: ='[23]2560'!$B$30 -> 707 | F34: ='[24]2560'!$B$30 -> 758 | G34: ='[25]2560'!$B$30 -> 1229 | H34: ='[26]2560'!$B$30 -> 1876 | I34: ='[27]2560'!$B$30 -> 634 | J34: ='[28]2560'!$B$30 -> 167 | K34: ='[29]2560'!$B$30 -> 468 | L34: ='[30]2560'!$B$30 -> 178 | M34: ='[31]2560'!$B$30 -> 232 | N34: ='[32]2560'!$B$30 -> 567 | O34: ='[33]2560'!$B$30 -> 798 | P34: ='[34]2560'!$B$30 -> 252 | Q34: ='[35]2560'!$B$30 -> 376 | R34: ='[36]2560'!$B$30 -> 995 | S34: ='[37]2560'!$B$30 -> 661 | T34: ='[38]2560'!$B$30 -> 406 | U34: ='[39]2560'!$B$30 -> 682 | V34: ='[40]2560'!$B$30 -> 165
A35: รถขนาดเล็ก Small Rural Bus | B35: =SUM(C35:V35) -> 0 | C35: ='[21]2560'!$B$31 -> 0 | D35: ='[22]2560'!$B$31 -> 0 | E35: ='[23]2560'!$B$31 -> 0 | F35: ='[24]2560'!$B$31 -> 0 | G35: ='[25]2560'!$B$31 -> 0 | H35: ='[26]2560'!$B$31 -> 0 | I35: ='[27]2560'!$B$31 -> 0 | J35: ='[28]2560'!$B$31 -> 0 | K35: ='[29]2560'!$B$31 -> 0 | L35: ='[30]2560'!$B$31 -> 0 | M35: ='[31]2560'!$B$31 -> 0 | N35: ='[32]2560'!$B$31 -> 0 | O35: ='[33]2560'!$B$31 -> 0 | P35: ='[34]2560'!$B$31 -> 0 | Q35: ='[35]2560'!$B$31 -> 0 | R35: ='[36]2560'!$B$31 -> 0 | S35: ='[37]2560'!$B$31 -> 0 | T35: ='[38]2560'!$B$31 -> 0 | U35: ='[39]2560'!$B$31 -> 0 | V35: ='[40]2560'!$B$31 -> 0
A36: =Central!A36 -> กลุ่มสถิติการขนส่ง กองแผนงาน กรมการขนส่งทางบก

Sheet North
A1: จำนวนรถที่จดทะเบียนใหม่ตั้งแต่วันที่ 1 มกราคม - 31 ธันวาคม 2560
S2: (คัน : Unit)
A3: ประเภทรถ | B3: รวมภาคเหนือ | C3: เชียงราย | D3: แม่ฮองสอน | E3: เชียงใหม่ | F3: พะเยา | G3: น่าน | H3: ลำพูน | I3: ลำปาง | J3: แพร่ | K3: อุตรดิตถ์ | L3: สุโขทัย | M3: ตาก | N3: พิษณุโลก | O3: กำแพงเพชร | P3: พิจิตร | Q3: เพชรบูรณ์ | R3: นครสวรรค์ | S3: อุทัยธานี
A4: (Type of Vehicle) | B4: Northern | C4: Chiang Rai | D4: Mae Hong Son | E4: Chiang Mai | F4: Phayao | G4: nan | H4: Lamphun | I4: Lampang | J4: Phrae | K4: Uttaradit | L4: Sukhothai | M4: Tak | N4: Phitsanulok | O4: Kamphaeng Phet | P4: Phichit | Q4: Phetchabun | R4: Nakhon Sawan | S4: Uthai Thani
A5: รวมทั้งสิ้น | B5: =B7+B26 -> 411841 | C5: =C7+C26 -> 46944 | D5: =D7+D26 -> 5149 | E5: =E7+E26 -> 88992 | F5: =F7+F26 -> 15542 | G5: =G7+G26 -> 10848 | H5: =H7+H26 -> 13967 | I5: =I7+I26 -> 24240 | ... S5: =S7+S26 -> 11298
A6: Grand Total
A7: ก. รวมรถตามกฎหมายว่าด้วยรถยนต์ | B7: =SUM(B9:B25) -> 401400 | C7: =SUM(C9:C25) -> 45999 | D7: =SUM(D9:D25) -> 5054 | E7: =SUM(E9:E25) -> 87194 | F7: =SUM(F9:F25) -> 15023 | G7: =SUM(G9:G25) -> 10486 | H7: =SUM(H9:H25) -> 13667 | I7: =SUM(I9:I25) -> 23636 | ... S7: =SUM(S9:S25) -> 11009
A8: Total Vehicle under Motor Vehicle Act
A9: รย. 1 รถยนต์นั่งส่วนบุคคลไม่เกิน 7 คน Sedan (Not more than 7 Pass.) | B9: =SUM(C9:S9) -> 63900 | C9: ='[41]2560'!$B$6 -> 7930 | D9: ='[42]2560'!$B$6 -> 120 | E9: ='[43]2560'!$B$6 -> 19748 | F9: ='[44]2560'!$B$6 -> 2079 | G9: ='[45]2560'!$B$6 -> 1534 | H9: ='[46]2560'!$B$6 -> 1361 | I9: ='[47]2560'!$B$6 -> 3562 | J9: ='[48]2560'!$B$6 -> 2085 | K9: ='[49]2560'!$B$6 -> 1698 | L9: ='[50]2560'!$B$6 -> 1839 | M9: ='[51]2560'!$B$6 -> 2045 | N9: ='[52]2560'!$B$6 -> 5738 | O9: ='[53]2560'!$B$6 -> 2353 | P9: ='[54]2560'!$B$6 -> 1478 | Q9: ='[55]2560'!$B$6 -> 3351 | R9: ='[56]2560'!$B$6 -> 5242 | S9: ='[57]2560'!$B$6 -> 1737
A10: รย. 2 รถยนต์นั่งส่วนบุคคลเกิน 7 คน Microbus & Passenger Van | B10: =SUM(C10:S10) -> 1036 | C10: ='[41]2560'!$B$7 -> 91 | D10: ='[42]2560'!$B$7 -> 11 | E10: ='[43]2560'!$B$7 -> 328 | F10: ='[44]2560'!$B$7 -> 20 | G10: ='[45]2560'!$B$7 -> 24 | H10: ='[46]2560'!$B$7 -> 39 | I10: ='[47]2560'!$B$7 -> 66 | J10: ='[48]2560'!$B$7 -> 32 | K10: ='[49]2560'!$B$7 -> 27 | L10: ='[50]2560'!$B$7 -> 39 | M10: ='[51]2560'!$B$7 -> 26 | N10: ='[52]2560'!$B$7 -> 137 | O10: ='[53]2560'!$B$7 -> 36 | P10: ='[54]2560'!$B$7 -> 19 | Q10: ='[55]2560'!$B$7 -> 54 | R10: ='[56]2560'!$B$7 -> 63 | S10: ='[57]2560'!$B$7 -> 24
A11: รย. 3 รถยนต์บรรทุกส่วนบุคคล Van & Pick Up | B11: =SUM(C11:S11) -> 38870 | C11: ='[41]2560'!$B$8 -> 4706 | D11: ='[42]2560'!$B$8 -> 365 | E11: ='[43]2560'!$B$8 -> 10105 | F11: ='[44]2560'!$B$8 -> 1229 | G11: ='[45]2560'!$B$8 -> 1056 | H11: ='[46]2560'!$B$8 -> 1222 | I11: ='[47]2560'!$B$8 -> 2366 | J11: ='[48]2560'!$B$8 -> 1260 | K11: ='[49]2560'!$B$8 -> 1149 | L11: ='[50]2560'!$B$8 -> 1197 | M11: ='[51]2560'!$B$8 -> 1875 | N11: ='[52]2560'!$B$8 -> 2831 | O11: ='[53]2560'!$B$8 -> 1634 | P11: ='[54]2560'!$B$8 -> 1151 | Q11: ='[55]2560'!$B$8 -> 2835 | R11: ='[56]2560'!$B$8 -> 2653 | S11: ='[57]2560'!$B$8 -> 1236
A12: รย. 4 รถยนต์สามล้อส่วนบุคคล Motortricycle | B12: =SUM(C12:S12) -> 7 | C12: ='[41]2560'!$B$9 -> 0 | D12: ='[42]2560'!$B$9 -> 0 | E12: ='[43]2560'!$B$9 -> 1 | F12: ='[44]2560'!$B$9 -> 0 | G12: ='[45]2560'!$B$9 -> 0 | H12: ='[46]2560'!$B$9 -> 0 | I12: ='[47]2560'!$B$9 -> 0 | J12: ='[48]2560'!$B$9 -> 0 | K12: ='[49]2560'!$B$9 -> 1 | L12: ='[50]2560'!$B$9 -> 0 | M12: ='[51]2560'!$B$9 -> 0 | N12: ='[52]2560'!$B$9 -> 2 | O12: ='[53]2560'!$B$9 -> 1 | P12: ='[54]2560'!$B$9 -> 0 | Q12: ='[55]2560'!$B$9 -> 2 | R12: ='[56]2560'!$B$9 -> 0 | S12: ='[57]2560'!$B$9 -> 0
A13: รย. 5 รถยนต์รับจ้างระหว่างจังหวัด Interprovincial Taxi | B13: =SUM(C13:S13) -> 0 | C13: ='[41]2560'!$B$10 -> 0 | D13: ='[42]2560'!$B$10 -> 0 | E13: ='[43]2560'!$B$10 -> 0 | F13: ='[44]2560'!$B$10 -> 0 | G13: ='[45]2560'!$B$10 -> 0 | H13: ='[46]2560'!$B$10 -> 0 | I13: ='[47]2560'!$B$10 -> 0 | J13: ='[48]2560'!$B$10 -> 0 | K13: ='[49]2560'!$B$10 -> 0 | L13: ='[50]2560'!$B$10 -> 0 | M13: ='[51]2560'!$B$10 -> 0 | N13: ='[52]2560'!$B$10 -> 0 | O13: ='[53]2560'!$B$10 -> 0 | P13: ='[54]2560'!$B$10 -> 0 | Q13: ='[55]2560'!$B$10 -> 0 | R13: ='[56]2560'!$B$10 -> 0 | S13: ='[57]2560'!$B$10 -> 0
A14: รย. 6 รถยนต์รับจ้างบรรทุกคนโดยสารไม่เกิน 7 คน Urban Taxi | B14: =SUM(C14:S14) -> 34 | C14: ='[41]2560'!$B$11 -> 17 | D14: ='[42]2560'!$B$11 -> 0 | E14: ='[43]2560'!$B$11 -> 5 | F14: ='[44]2560'!$B$11 -> 0 | G14: ='[45]2560'!$B$11 -> 0 | H14: ='[46]2560'!$B$11 -> 0 | I14: ='[47]2560'!$B$11 -> 1 | J14: ='[48]2560'!$B$11 -> 0 | K14: ='[49]2560'!$B$11 -> 0 | L14: ='[50]2560'!$B$11 -> 0 | M14: ='[51]2560'!$B$11 -> 0 | N14: ='[52]2560'!$B$11 -> 9 | O14: ='[53]2560'!$B$11 -> 0 | P14: ='[54]2560'!$B$11 -> 0 | Q14: ='[55]2560'!$B$11 -> 2 | R14: ='[56]2560'!$B$11 -> 0 | S14: ='[57]2560'!$B$11 -> 0
A15: รย. 7 รถยนต์สี่ล้อเล็กรับจ้าง Fixed Route Taxi | B15: =SUM(C15:S15) -> 0 | C15: ='[41]2560'!$B$12 -> 0 | D15: ='[42]2560'!$B$12 -> 0 | E15: ='[43]2560'!$B$12 -> 0 | F15: ='[44]2560'!$B$12 -> 0 | G15: ='[45]2560'!$B$12 -> 0 | H15: ='[46]2560'!$B$12 -> 0 | I15: ='[47]2560'!$B$12 -> 0 | J15: ='[48]2560'!$B$12 -> 0 | K15: ='[49]2560'!$B$12 -> 0 | L15: ='[50]2560'!$B$12 -> 0 | M15: ='[51]2560'!$B$12 -> 0 | N15: ='[52]2560'!$B$12 -> 0 | O15: ='[53]2560'!$B$12 -> 0 | P15: ='[54]2560'!$B$12 -> 0 | Q15: ='[55]2560'!$B$12 -> 0 | R15: ='[56]2560'!$B$12 -> 0 | S15: ='[57]2560'!$B$12 -> 0
A16: รย. 8 รถยนต์รับจ้างสามล้อ Motortricycle Taxi (Tuk Tuk) | B16: =SUM(C16:S16) -> 15 | C16: ='[41]2560'!$B$13 -> 2 | D16: ='[42]2560'!$B$13 -> 0 | E16: ='[43]2560'!$B$13 -> 7 | F16: ='[44]2560'!$B$13 -> 0 | G16: ='[45]2560'!$B$13 -> 0 | H16: ='[46]2560'!$B$13 -> 0 | I16: ='[47]2560'!$B$13 -> 0 | J16: ='[48]2560'!$B$13 -> 0 | K16: ='[49]2560'!$B$13 -> 0 | L16: ='[50]2560'!$B$13 -> 0 | M16: ='[51]2560'!$B$13 -> 0 | N16: ='[52]2560'!$B$13 -> 1 | O16: ='[53]2560'!$B$13 -> 0 | P16: ='[54]2560'!$B$13 -> 0 | Q16: ='[55]2560'!$B$13 -> 5 | R16: ='[56]2560'!$B$13 -> 0 | S16: ='[57]2560'!$B$13 -> 0
A17: รย. 9 รถยนต์บริการธุรกิจ Hotel Taxi | B17: =SUM(C17:S17) -> 11 | C17: ='[41]2560'!$B$14 -> 0 | D17: ='[42]2560'!$B$14 -> 0 | E17: ='[43]2560'!$B$14 -> 11 | F17: ='[44]2560'!$B$14 -> 0 | G17: ='[45]2560'!$B$14 -> 0 | H17: ='[46]2560'!$B$14 -> 0 | I17: ='[47]2560'!$B$14 -> 0 | J17: ='[48]2560'!$B$14 -> 0 | K17: ='[49]2560'!$B$14 -> 0 | L17: ='[50]2560'!$B$14 -> 0 | M17: ='[51]2560'!$B$14 -> 0 | N17: ='[52]2560'!$B$14 -> 0 | O17: ='[53]2560'!$B$14 -> 0 | P17: ='[54]2560'!$B$14 -> 0 | Q17: ='[55]2560'!$B$14 -> 0 | R17: ='[56]2560'!$B$14 -> 0 | S17: ='[57]2560'!$B$14 -> 0
A18: รย.10 รถยนต์บริการทัศนาจร Tour Taxi | B18: =SUM(C18:S18) -> 1 | C18: ='[41]2560'!$B$15 -> 0 | D18: ='[42]2560'!$B$15 -> 0 | E18: ='[43]2560'!$B$15 -> 1 | F18: ='[44]2560'!$B$15 -> 0 | G18: ='[45]2560'!$B$15 -> 0 | H18: ='[46]2560'!$B$15 -> 0 | I18: ='[47]2560'!$B$15 -> 0 | J18: ='[48]2560'!$B$15 -> 0 | K18: ='[49]2560'!$B$15 -> 0 | L18: ='[50]2560'!$B$15 -> 0 | M18: ='[51]2560'!$B$15 -> 0 | N18: ='[52]2560'!$B$15 -> 0 | O18: ='[53]2560'!$B$15 -> 0 | P18: ='[54]2560'!$B$15 -> 0 | Q18: ='[55]2560'!$B$15 -> 0 | R18: ='[56]2560'!$B$15 -> 0 | S18: ='[57]2560'!$B$15 -> 0
A19: รย.11 รถยนต์บริการให้เช่า Car For Hire | B19: =SUM(C19:S19) -> 0 | C19: ='[41]2560'!$B$16 -> 0 | D19: ='[42]2560'!$B$16 -> 0 | E19: ='[43]2560'!$B$16 -> 0 | F19: ='[44]2560'!$B$16 -> 0 | G19: ='[45]2560'!$B$16 -> 0 | H19: ='[46]2560'!$B$16 -> 0 | I19: ='[47]2560'!$B$16 -> 0 | J19: ='[48]2560'!$B$16 -> 0 | K19: ='[49]2560'!$B$16 -> 0 | L19: ='[50]2560'!$B$16 -> 0 | M19: ='[51]2560'!$B$16 -> 0 | N19: ='[52]2560'!$B$16 -> 0 | O19: ='[53]2560'!$B$16 -> 0 | P19: ='[54]2560'!$B$16 -> 0 | Q19: ='[55]2560'!$B$16 -> 0 | R19: ='[56]2560'!$B$16 -> 0 | S19: ='[57]2560'!$B$16 -> 0
A20: รย.12 รถจักรยานยนต์ Motorcycle | B20: =SUM(C20:S20) -> 286854 | C20: ='[41]2560'!$B$17 -> 32616 | D20: ='[42]2560'!$B$17 -> 4551 | E20: ='[43]2560'!$B$17 -> 56503 | F20: ='[44]2560'!$B$17 -> 11386 | G20: ='[45]2560'!$B$17 -> 7489 | H20: ='[46]2560'!$B$17 -> 10907 | I20: ='[47]2560'!$B$17 -> 17528 | J20: ='[48]2560'!$B$17 -> 10139 | K20: ='[49]2560'!$B$17 -> 9674 | L20: ='[50]2560'!$B$17 -> 16712 | M20: ='[51]2560'!$B$17 -> 15121 | N20: ='[52]2560'!$B$17 -> 19746 | O20: ='[53]2560'!$B$17 -> 15465 | P20: ='[54]2560'!$B$17 -> 11236 | Q20: ='[55]2560'!$B$17 -> 18780 | R20: ='[56]2560'!$B$17 -> 21421 | S20: ='[57]2560'!$B$17 -> 7580
A21: รย.13 รถแทรกเตอร์ Tractor | B21: =SUM(C21:S21) -> 10222 | C21: ='[41]2560'!$B$18 -> 599 | D21: ='[42]2560'!$B$18 -> 4 | E21: ='[43]2560'!$B$18 -> 433 | F21: ='[44]2560'!$B$18 -> 309 | G21: ='[45]2560'!$B$18 -> 362 | H21: ='[46]2560'!$B$18 -> 117 | I21: ='[47]2560'!$B$18 -> 105 | J21: ='[48]2560'!$B$18 -> 198 | K21: ='[49]2560'!$B$18 -> 532 | L21: ='[50]2560'!$B$18 -> 1015 | M21: ='[51]2560'!$B$18 -> 239 | N21: ='[52]2560'!$B$18 -> 801 | O21: ='[53]2560'!$B$18 -> 1250 | P21: ='[54]2560'!$B$18 -> 540 | Q21: ='[55]2560'!$B$18 -> 1488 | R21: ='[56]2560'!$B$18 -> 1800 | S21: ='[57]2560'!$B$18 -> 430
A22: รย.14 รถบดถนน Road Roller | B22: =SUM(C22:S22) -> 195 | C22: ='[41]2560'!$B$19 -> 12 | D22: ='[42]2560'!$B$19 -> 1 | E22: ='[43]2560'!$B$19 -> 42 | F22: ='[44]2560'!$B$19 -> 0 | G22: ='[45]2560'!$B$19 -> 13 | H22: ='[46]2560'!$B$19 -> 6 | I22: ='[47]2560'!$B$19 -> 8 | J22: ='[48]2560'!$B$19 -> 14 | K22: ='[49]2560'!$B$19 -> 9 | L22: ='[50]2560'!$B$19 -> 15 | M22: ='[51]2560'!$B$19 -> 7 | N22: ='[52]2560'!$B$19 -> 12 | O22: ='[53]2560'!$B$19 -> 11 | P22: ='[54]2560'!$B$19 -> 15 | Q22: ='[55]2560'!$B$19 -> 7 | R22: ='[56]2560'!$B$19 -> 21 | S22: ='[57]2560'!$B$19 -> 2
A23: รย.15 รถใช้งานเกษตรกรรม Farm Vehicle | B23: =SUM(C23:S23) -> 175 | C23: ='[41]2560'!$B$20 -> 0 | D23: ='[42]2560'!$B$20 -> 0 | E23: ='[43]2560'!$B$20 -> 0 | F23: ='[44]2560'!$B$20 -> 0 | G23: ='[45]2560'!$B$20 -> 0 | H23: ='[46]2560'!$B$20 -> 3 | I23: ='[47]2560'!$B$20 -> 0 | J23: ='[48]2560'!$B$20 -> 0 | K23: ='[49]2560'!$B$20 -> 102 | L23: ='[50]2560'!$B$20 -> 9 | M23: ='[51]2560'!$B$20 -> 0 | N23: ='[52]2560'!$B$20 -> 16 | O23: ='[53]2560'!$B$20 -> 4 | P23: ='[54]2560'!$B$20 -> 2 | Q23: ='[55]2560'!$B$20 -> 4 | R23: ='[56]2560'!$B$20 -> 35 | S23: ='[57]2560'!$B$20 -> 0
A24: รย.16 รถพ่วง Automobile Trailer | B24: =SUM(C24:S24) -> 5 | C24: ='[41]2560'!$B$21 -> 3 | D24: ='[42]2560'!$B$21 -> 0 | E24: ='[43]2560'!$B$21 -> 0 | F24: ='[44]2560'!$B$21 -> 0 | G24: ='[45]2560'!$B$21 -> 0 | H24: ='[46]2560'!$B$21 -> 0 | I24: ='[47]2560'!$B$21 -> 0 | J24: ='[48]2560'!$B$21 -> 0 | K24: ='[49]2560'!$B$21 -> 0 | L24: ='[50]2560'!$B$21 -> 0 | M24: ='[51]2560'!$B$21 -> 0 | N24: ='[52]2560'!$B$21 -> 1 | O24: ='[53]2560'!$B$21 -> 0 | P24: ='[54]2560'!$B$21 -> 0 | Q24: ='[55]2560'!$B$21 -> 0 | R24: ='[56]2560'!$B$21 -> 1 | S24: ='[57]2560'!$B$21 -> 0
A25: รย.17 รถจักรยานยนต์สาธารณะ Public Motorcycle | B25: =SUM(C25:S25) -> 75 | C25: ='[41]2560'!$B$22 -> 23 | D25: ='[42]2560'!$B$22 -> 2 | E25: ='[43]2560'!$B$22 -> 10 | F25: ='[44]2560'!$B$22 -> 0 | G25: ='[45]2560'!$B$22 -> 8 | H25: ='[46]2560'!$B$22 -> 12 | I25: ='[47]2560'!$B$22 -> 0 | J25: ='[48]2560'!$B$22 -> 3 | K25: ='[49]2560'!$B$22 -> 4 | L25: ='[50]2560'!$B$22 -> 0 | M25: ='[51]2560'!$B$22 -> 0 | N25: ='[52]2560'!$B$22 -> 4 | O25: ='[53]2560'!$B$22 -> 1 | P25: ='[54]2560'!$B$22 -> 0 | Q25: ='[55]2560'!$B$22 -> 2 | R25: ='[56]2560'!$B$22 -> 6 | S25: ='[57]2560'!$B$22 -> 0
A26: ข. รวมรถตามกฎหมายว่าด้วยการขนส่งทางบก | B26: =B28+B32+B35 -> 10441 | C26: =C28+C32+C35 -> 945 | D26: =D28+D32+D35 -> 95 | E26: =E28+E32+E35 -> 1798 | F26: =F28+F32+F35 -> 519 | G26: =G28+G32+G35 -> 362 | H26: =H28+H32+H35 -> 300 | I26: =I28+I32+I35 -> 604 | ... S26: =S28+S32+S35 -> 289
A27: Total Vehicle under Land Transport Act
A28: รวมรถโดยสาร Bus : Total | B28: =SUM(C28:S28) -> 1200 | C28: =SUM(C29:C31) -> 108 | D28: =SUM(D29:D31) -> 16 | E28: =SUM(E29:E31) -> 555 | F28: =SUM(F29:F31) -> 27 | G28: =SUM(G29:G31) -> 21 | H28: =SUM(H29:H31) -> 26 | I28: =SUM(I29:I31) -> 54 | J28: =SUM(J29:J31) -> 16 | ... S28: =SUM(S29:S31) -> 35
A29: แยกเป็น - ประจำทาง Fixed Route Bus | B29: =SUM(C29:S29) -> 259 | C29: ='[41]2560'!$B$25 -> 26 | D29: ='[42]2560'!$B$25 -> 6 | E29: ='[43]2560'!$B$25 -> 103 | F29: ='[44]2560'!$B$25 -> 4 | G29: ='[45]2560'!$B$25 -> 6 | H29: ='[46]2560'!$B$25 -> 8 | I29: ='[47]2560'!$B$25 -> 18 | J29: ='[48]2560'!$B$25 -> 1 | K29: ='[49]2560'!$B$25 -> 1 | L29: ='[50]2560'!$B$25 -> 4 | M29: ='[51]2560'!$B$25 -> 26 | N29: ='[52]2560'!$B$25 -> 9 | O29: ='[53]2560'!$B$25 -> 13 | P29: ='[54]2560'!$B$25 -> 2 | Q29: ='[55]2560'!$B$25 -> 11 | R29: ='[56]2560'!$B$25 -> 14 | S29: ='[57]2560'!$B$25 -> 7
A30: - ไม่ประจำทาง Non Fixed Route Bus | B30: =SUM(C30:S30) -> 849 | C30: ='[41]2560'!$B$26 -> 74 | D30: ='[42]2560'!$B$26 -> 10 | E30: ='[43]2560'!$B$26 -> 432 | F30: ='[44]2560'!$B$26 -> 19 | G30: ='[45]2560'!$B$26 -> 15 | H30: ='[46]2560'!$B$26 -> 17 | I30: ='[47]2560'!$B$26 -> 29 | J30: ='[48]2560'!$B$26 -> 12 | K30: ='[49]2560'!$B$26 -> 10 | L30: ='[50]2560'!$B$26 -> 19 | M30: ='[51]2560'!$B$26 -> 20 | N30: ='[52]2560'!$B$26 -> 22 | O30: ='[53]2560'!$B$26 -> 14 | P30: ='[54]2560'!$B$26 -> 12 | Q30: ='[55]2560'!$B$26 -> 89 | R30: ='[56]2560'!$B$26 -> 31 | S30: ='[57]2560'!$B$26 -> 24
A31: - ส่วนบุคคล Private Bus | B31: =SUM(C31:S31) -> 92 | C31: ='[41]2560'!$B$27 -> 8 | D31: ='[42]2560'!$B$27 -> 0 | E31: ='[43]2560'!$B$27 -> 20 | F31: ='[44]2560'!$B$27 -> 4 | G31: ='[45]2560'!$B$27 -> 0 | H31: ='[46]2560'!$B$27 -> 1 | I31: ='[47]2560'!$B$27 -> 7 | J31: ='[48]2560'!$B$27 -> 3 | K31: ='[49]2560'!$B$27 -> 1 | L31: ='[50]2560'!$B$27 -> 10 | M31: ='[51]2560'!$B$27 -> 1 | N31: ='[52]2560'!$B$27 -> 6 | O31: ='[53]2560'!$B$27 -> 5 | P31: ='[54]2560'!$B$27 -> 5 | Q31: ='[55]2560'!$B$27 -> 10 | R31: ='[56]2560'!$B$27 -> 7 | S31: ='[57]2560'!$B$27 -> 4
A32: รวมรถบรรทุก Truck : Total | B32: =SUM(C32:S32) -> 9240 | C32: =SUM(C33:C34) -> 837 | D32: =SUM(D33:D34) -> 79 | E32: =SUM(E33:E34) -> 1243 | F32: =SUM(F33:F34) -> 492 | G32: =SUM(G33:G34) -> 341 | H32: =SUM(H33:H34) -> 274 | I32: =SUM(I33:I34) -> 550 | J32: =SUM(J33:J34) -> 324 | ... S32: =SUM(S33:S34) -> 254
A33: แยกเป็น - ไม่ประจำทาง Non Fixed Route Truck | B33: =SUM(C33:S33) -> 2344 | C33: ='[41]2560'!$B$29 -> 318 | D33: ='[42]2560'!$B$29 -> 0 | E33: ='[43]2560'!$B$29 -> 435 | F33: ='[44]2560'!$B$29 -> 160 | G33: ='[45]2560'!$B$29 -> 61 | H33: ='[46]2560'!$B$29 -> 49 | I33: ='[47]2560'!$B$29 -> 292 | J33: ='[48]2560'!$B$29 -> 35 | K33: ='[49]2560'!$B$29 -> 75 | L33: ='[50]2560'!$B$29 -> 57 | M33: ='[51]2560'!$B$29 -> 286 | N33: ='[52]2560'!$B$29 -> 109 | O33: ='[53]2560'!$B$29 -> 177 | P33: ='[54]2560'!$B$29 -> 26 | Q33: ='[55]2560'!$B$29 -> 34 | R33: ='[56]2560'!$B$29 -> 228 | S33: ='[57]2560'!$B$29 -> 2
A34: - ส่วนบุคคล Private Truck | B34: =SUM(C34:S34) -> 6896 | C34: ='[41]2560'!$B$30 -> 519 | D34: ='[42]2560'!$B$30 -> 79 | E34: ='[43]2560'!$B$30 -> 808 | F34: ='[44]2560'!$B$30 -> 332 | G34: ='[45]2560'!$B$30 -> 280 | H34: ='[46]2560'!$B$30 -> 225 | I34: ='[47]2560'!$B$30 -> 258 | J34: ='[48]2560'!$B$30 -> 289 | K34: ='[49]2560'!$B$30 -> 198 | L34: ='[50]2560'!$B$30 -> 411 | M34: ='[51]2560'!$B$30 -> 288 | N34: ='[52]2560'!$B$30 -> 563 | O34: ='[53]2560'!$B$30 -> 653 | P34: ='[54]2560'!$B$30 -> 328 | Q34: ='[55]2560'!$B$30 -> 668 | R34: ='[56]2560'!$B$30 -> 745 | S34: ='[57]2560'!$B$30 -> 252
A35: รถขนาดเล็ก Small Rural Bus | B35: =SUM(C35:S35) -> 1 | C35: ='[41]2560'!$B$31 -> 0 | D35: ='[42]2560'!$B$31 -> 0 | E35: ='[43]2560'!$B$31 -> 0 | F35: ='[44]2560'!$B$31 -> 0 | G35: ='[45]2560'!$B$31 -> 0 | H35: ='[46]2560'!$B$31 -> 0 | I35: ='[47]2560'!$B$31 -> 0 | J35: ='[48]2560'!$B$31 -> 0 | K35: ='[49]2560'!$B$31 -> 0 | L35: ='[50]2560'!$B$31 -> 0 | M35: ='[51]2560'!$B$31 -> 0 | N35: ='[52]2560'!$B$31 -> 0 | O35: ='[53]2560'!$B$31 -> 0 | P35: ='[54]2560'!$B$31 -> 0 | Q35: ='[55]2560'!$B$31 -> 1 | R35: ='[56]2560'!$B$31 -> 0 | S35: ='[57]2560'!$B$31 -> 0
A36: =Central!A36 -> กลุ่มสถิติการขนส่ง กองแผนงาน กรมการขนส่งทางบก

Sheet West
A1: จำนวนรถที่จดทะเบียนใหม่ตั้งแต่วันที่ 1 มกราคม - 31 ธันวาคม 2560
J2: (คัน : Unit)
A3: ประเภทรถ | B3: รวมภาคตะวันตก | C3: สุพรรณบุรี | D3: กาญจนบุรี | E3: นครปฐม | F3: ราชบุรี | G3: สมุทรสาคร | H3: สมุทรสงคราม | I3: เพชรบุรี | J3: ประจวบคีรีขันธ์
A4: (Type of Vehicle) | B4: Western | C4: Suphan Buri | D4: Khanchanaburi | E4: Nakhon Pathom | F4: Ratchaburi | G4: Samut Sakorn | H4: Samut Songkram | I4: Petchaburi | J4: Prachuap Kiri Khan
A5: รวมทั้งสิ้น | B5: =B7+B26 -> 187079 | C5: =C7+C26 -> 22095 | D5: =D7+D26 -> 22417 | E5: =E7+E26 -> 29595 | F5: =F7+F26 -> 38144 | G5: =G7+G26 -> 21307 | H5: =H7+H26 -> 4702 | I5: =I7+I26 -> 26136 | J5: =J7+J26 -> 22683
A6: Grand Total
A7: ก. รวมรถตามกฎหมายว่าด้วยรถยนต์ | B7: =SUM(B9:B25) -> 179431 | C7: =SUM(C9:C25) -> 20924 | D7: =SUM(D9:D25) -> 21634 | E7: =SUM(E9:E25) -> 27160 | F7: =SUM(F9:F25) -> 37152 | G7: =SUM(G9:G25) -> 20373 | H7: =SUM(H9:H25) -> 4474 | I7: =SUM(I9:I25) -> 25505 | J7: =SUM(J9:J25) -> 22209
A8: Total Vehicle under Motor Vehicle Act
A9: รย. 1 รถยนต์นั่งส่วนบุคคลไม่เกิน 7 คน Sedan (Not more than 7 Pass.) | B9: =SUM(C9:J9) -> 24076 | C9: ='[58]2560'!$B$6 -> 3165 | D9: ='[59]2560'!$B$6 -> 4146 | E9: ='[60]2560'!$B$6 -> 4161 | F9: ='[61]2560'!$B$6 -> 4390 | G9: ='[62]2560'!$B$6 -> 336 | H9: ='[63]2560'!$B$6 -> 692 | I9: ='[64]2560'!$B$6 -> 4055 | J9: ='[65]2560'!$B$6 -> 3131
A10: รย. 2 รถยนต์นั่งส่วนบุคคลเกิน 7 คน Microbus & Passenger Van | B10: =SUM(C10:J10) -> 432 | C10: ='[58]2560'!$B$7 -> 47 | D10: ='[59]2560'!$B$7 -> 48 | E10: ='[60]2560'!$B$7 -> 88 | F10: ='[61]2560'!$B$7 -> 63 | G10: ='[62]2560'!$B$7 -> 59 | H10: ='[63]2560'!$B$7 -> 49 | I10: ='[64]2560'!$B$7 -> 39 | J10: ='[65]2560'!$B$7 -> 39
A11: รย. 3 รถยนต์บรรทุกส่วนบุคคล Van & Pick Up | B11: =SUM(C11:J11) -> 15642 | C11: ='[58]2560'!$B$8 -> 2031 | D11: ='[59]2560'!$B$8 -> 2386 | E11: ='[60]2560'!$B$8 -> 3292 | F11: ='[61]2560'!$B$8 -> 2595 | G11: ='[62]2560'!$B$8 -> 253 | H11: ='[63]2560'!$B$8 -> 605 | I11: ='[64]2560'!$B$8 -> 2398 | J11: ='[65]2560'!$B$8 -> 2082
