Workbook

Sheet ยุทธศาสตร์ที่ 1
D1: แผนปฏิบัติการตามแผนแม่บทเมืองอุตสาหกรรมเชิงนิเวศ จังหวัดระยอง
D2: ยุทธศาสตร์ที่ 1 การจัดทำผังเมืองที่เหมาะสมกับศักยภาพพื้นที่
D3: เป้าหมาย | E3: (1) มีการปรับปรุงและจัดทำผังเมืองที่สอดคล้องกับการพัฒนาอุตสาหกรรมและการใช้ประโยชน์อื่นที่สอดคล้องกับศักยภาพการพัฒนาเชิงพื้นที่
D4: ตัวชี้วัด | E4: (1) ผังเมืองรวมที่สอดคล้องกับการพัฒนาอุตสาหกรรมและการจัดการสิ่งแวดล้อม
E5: (2) แนวป้องกันโดยรอบ (Protection Strip) และแนวพื้นที่กันชน (Buffer) ระหว่างพื้นที่อุตสาหกรรม พื้นที่ชุมชน และพื้นที่ท่องเที่ยวเพิ่มขึ้น
D6: กลยุทธ์ | E6: ตัวชี้วัดโครงการ/กิจกรรม | F6: โครงการ/กิจกรรม | G6: พื้นที่เป้าหมาย | H6: แหล่งงบประมาณ | I6: งบประมาณรวม (บาท) | J6: ระยะเวลาดำเนินโครงการ | V6: หน่วยงานรับผิดชอบ | W6: แหล่งงบประมาณ | X6: งบประมาณรวม (บาท) | Y6: หมายเหตุ
J7: ปีงบประมาณ 2565
J8: ต.ค. | K8: พ.ย. | L8: ธ.ค. | M8: ม.ค. | N8: ก.พ. | O8: มี.ค. | P8: เม.ย. | Q8: พ.ค. | R8: มิ.ย. | S8: ก.ค. | T8: ส.ค. | U8: ก.ย. | V8: หลัก/สนับสนุน
A9: 1. การจัดทำผังเมืองที่เหมาะสมกับศักยภาพพื้นที่ | B9: 1) มีการปรับปรุงและจัดทำผังเมืองที่สอดคล้องกับการพัฒนาอุตสาหกรรมและการใช้ประโยชน์อื่นที่สอดคล้องกับศักยภาพการพัฒนาเชิงพื้นที่ | C9: (1) ผังเมืองรวมที่สอดคล้องกับการพัฒนาอุตสาหกรรมและการจัดการสิ่งแวดล้อม | D9: 1.1 ปรับปรุงผังเมืองรวม และผังเมืองเฉพาะ
D10: 1.1 ปรับปรุงผังเมืองรวม ผังพื้นที่เฉพาะและวางแผนการใช้ประโยชน์ที่ดินเพื่อรองรับการพัฒนาเมืองอุตสาหกรรมเชิงนิเวศ | E10: ตัวชี้วัด 1.2.1 สัดส่วนพื้นที่สีเขียว (Green Area) ต่อพื้นที่ทั้งหมดของเมืองอุตสาหกรรมเชิงนิเวศ รวมทั้งแนวป้องกัน (Protection Strip) และพื้นที่กันชน (Eco-Buffer) | F10: กิจกรรมเพิ่ม พท.สีเขียว / protection strip | V10: บริษัท ไออาร์พีซี จำกัด (มหาชน) | W10: งบประมาณบริษัท ไออาร์พีซี จำกัด (มหาชน)
F11: โครงการอนุรักษ์และพัฒนาป่าชุมชน - จัดกิจกรรมอบรมให้ความรู้ความเข้าใจแก่ประชาชนในพื้นที่ในการอนุรักษ์และพัฒนาป่าชุมชน | V11: กองสวัสดิการสังคม เทศบาลเมืองมาบตาพุด | W11: เทศบาล ตำบลทับมา | X11: 350000 | Y11: (ได้รับงบประมาณปี 2565 จำนวน 7 หมื่นบาท)
F12: โครงการปลูกต้นไม้เพิ่มพื้นที่สีเขียว 2 ไร่ เพื่อลดภาวะโลกร้อน ประจำปีงบประมาณ 2565 พื้นที่สีเขียว | V12: เทศบาลตำบลเนินพระ | W12: เทศบาลตำบลเนินพระ
F13: โครงการปลูกป่าแห่งชาติ(ตามรอยพ่อ)และพัฒนาแหล่งน้ำในพื้นที่ของวัดทับมาจำนวน 9 ไร่ | V13: เทศบาลตำบลทับมา | W13: เทศบาลตำบลทับมา | X13: -
F14: โครงการส่งเสริมการอนุรักษ์ พัฒนา และเพิ่มพื้นที่สีเขียว ปี 2565 | V14: ทสจ.รย | W14: ทสจ.รย
F15: - กิจกรรมปลูกต้นไม้และปลูกป่าเฉลิมพระเกียรติ เนื่องในโอกาสมหามงคลพระราชพิธีบรมราชาภิเษก “รวมใจไทย ปลูกต้นไม้ เพื่อแผ่นดิน” สืบสานสู่ 100 ล้านต้น กิจกรรมประกอบด้วย การปลูกต้นไม้ (ทองอุไร) จำนวน 3,200 ต้น | V15: ทสจ.รย | W15: ทสจ.รย
F16: โครงการ10,000 ต้นกล้า หัวใจอาสาไออาร์พีซี IRPC ส่งมอบเมล็ดพันธุ์ไม้และอุปกรณ์การเพาะเมล็ดให้กับผู้ประสานงานหัวใจอาสา จำนวน 12,500 กล้าไม้ สำหรับเพาะกล้าไม้ไว้ปลูกบริเวณพื้นที่สาธารณะของชุมชนรอบเขตประกอบการอุตสาหกรรมไออาร์พีซีในปี 2565 | V16: บริษัทไออาร์พีซี จำกัด (มหาชน) | W16: บริษัทไออาร์พีซี จำกัด (มหาชน) | X16: -
F17: โครงการส่งเสริมการอนุรักษ์ พัฒนา และเพิ่มพื้นที่สีเขียว กิจกรรมปลูกต้นไม้และปลูกป่าเฉลิมพระเกียรติ เนื่องในโอกาสมหามงคลพระราชพิธีบรมราชาภิเษก “รวมใจไทย ปลูกต้นไม้ เพื่อแผ่นดิน” ปลูกต้นไม้ (ทองอุไร) จำนวน 3,200 ต้น บริเวณริมถนนสองข้างทางบนถนนสาย อบจ.รย 0307 สายไผ่ล้อม - บึงต้นชัน และถนนสายเชิงเนิน –ชากบก รวมระยะทางประมาณ 10 กิโลเมตร | V17: สำนักงานทรัพยากรธรรมชาติและสิ่งแวดล้อมจังหวัดระยอง, สำนักงานส่งเสริมการปกครองท้องถิ่นจังหวัดระยอง อบจ.ระยอง | W17: สำนักงานทรัพยากรธรรมชาติและสิ่งแวดล้อมจังหวัดระยอง | X17: -
F18: โครงการกิจกรรมปลูกป่าชุมชนและสมุนไพรกระดูกไก่ดำ จำนวน 18 ไร่ 3 งาน 50.6 ตารางวา ณ โรงเรียนบ้านก้นหนองเก่า ต.บ้านแลง อ.เมือง จ.ระยอง เพื่อเป็นการอนุรักษ์พันธุ์ไม้ และเป็นแหล่งเรียนรู้ด้านสมุนไพรของชุมชน แล้วยังเป็นการเตรียมความพร้อมในอนาคต ซึ่งจะจัดสร้างโรงพยาบาลส่งเสริมสุขภาพตำบลบ้านก้นหนอง | V18: องค์การบริหารส่วนจังหวัดระยอง และองค์การบริหารส่วนตำบลบ้านแลง | W18: องค์การบริหารส่วนจังหวัดระยอง | X18: -
F19: กิจกรรมพื้นที่สีเขียว (บำรุงรักษาต่อเนื่องถนนสาย 363) ปีที่ 9 เน้นพัฒนาร่วมมือแบบประชารัฐ | V19: สมาคมเพื่อนชุมชน | X19: 530000
F20: โครงการปลูกป่าแห่งชาติ(ตามรอยพ่อ)และพัฒนาแหล่งน้ำในพื้นที่ของวัดทับมาจำนวน 9 ไร่ | V20: เทศบาลตำบลทับมา | W20: เทศบาลตำบลทับมา | X20: 30000
F21: โครงการธนาคารต้นไม้ -จัดกิจกรรมอบรมให้ความรู้เยาวชนในพื้นที่เกี่ยวกับการดำเนินการธนาคารต้นไม้และจัดตั้งธนคารต้นไม้ในพื้นที่ | V21: เทศบาลตำบลทับมา | W21: เทศบาลตำบลทับมา | X21: 20000
F22: โครงการสร้างจิตสำนึกด้านพลังงานและสิ่งแวดล้อม - จัดอบรมและจัดกิจกรรมเพื่อสร้างความตระหนักและปลูกฝังจิตสำนึกในการอนุรักษ์พลังงานและทรัพยากรธรรมชาติและสิ่งแวดล้อมรวมถึงสร้างความรู้ความเข้าใจเรื่องการเปลี่ยนแปลงสภาพภูมิอากาศและภัยธรรมชาติและสิ่งแวดล้อมให้กับประชาชนในชุมชน | V22: เทศบาลตำบลทับมา | W22: เทศบาลตำบลทับมา | X22: 20000
F23: โครงการอนุรักษ์และพัฒนาป่าชุมชน - จัดกิจกรรมอบรมให้ความรู้ความเข้าใจแก่ประชาชนในพื้นที่ในการอนุรักษ์และพัฒนาป่าชุมชน | V23: เทศบาล ตำบลทับมา | X23: 20000 | Y23: (ได้รับงบประมาณปี 2565 จำนวน 7 หมื่นบาท)
E24: ตัวชี้วัดที่ 1.3.1 สัดส่วนพื้นที่ป่ายเลนที่เพิ่มขึ้น | F24: โครงการอนุรักษ์แม่น้ำระยองและป่าชายเลนพระสมุทรเจดีย์ | V24: บริษัท ไออาร์พีซี จำกัด (มหาชน) | W24: งบประมาณบริษัท ไออาร์พีซี จำกัด (มหาชน) | X24: 90000
F25: กิจกรรมปลูกป่า ปล่อยปู ปล่อยปลา ในพื้นที่ป่าชายเลนตำบลเนินพระ | V25: เทศบาลตำบลเนินพระ | W25: เทศบาลตำบลเนินพระ | X25: - | Y25: โครงการนี้ เริ่มต้น ปี 2562 - 2565 และเป็นกิจกรรมต่อเนื่องทุกปี
F26: ได้มีแผนงานปลูกต้นโกงกางในพื้นที่ 6 ไร่ ปลูกปีละ 3,000 ต้น | V26: สทร. | W26: สทร. | Y26: โครงการนี้ เริ่มต้น ปี 2562 -2565 และเป็นกิจกรรมต่อเนื่องทุกปี
F27: โครงการธนาคาร ปูดำ | V27: สทร. | W27: สทร. | X27: - | Y27: โครงการนี้ เริ่มต้นปี 2564 -2565 เป็นโครงการปี ต่อเนื่อง
F28: ปลูกต้นโกงเกง ในพื้นที่ป่าชายเลน 2000 ต้น | V28: เทศบาลเนินพระ/สทร /ภาคีเครือข่าย | W28: เทศบาลเนินพระ/สทร /ภาคีเครือข่าย | X28: - | Y28: -
F29: ฟื้นฟูแหล่งน้ำและป่าต้นน้ำเพิ่มที่สีเขียวจังหวัดระยอง | V29: ทสจ.รย | W29: ทสจ.รย | X29: - | Y29: กิจกรรมต่อเนื่อง ตั้งแต่ปี 2561-2565
F30: หมู่บ้านเพาะชำกล้าไม้ในจังหวัดระยอง | V30: ทสจ.รย | W30: ทสจ.รย | X30: - | Y30: กิจกรรมต่อเนื่อง ตั้งแต่ปี 2561-2565
F31: ฟื้นฟูพื้นที่ป่าชายเลนให้มีความสมบูรณ์และยังยืน | V31: ทสจ.รย | W31: ทสจ.รย | X31: - | Y31: กิจกรรมต่อเนื่อง ตั้งแต่ปี 2561-2565
D32: 1.2 เพิ่มพื้นที่สีเขียวและแนวป้องกันมลพิษเพื่อลดผลกระทบจากอุตสาหกรรม | E32: ตัวชี้วัด 1.2.1 สัดส่วนพื้นที่สีเขียว (Green Area) ต่อพื้นที่ทั้งหมดของเมืองอุตสาหกรรมเชิงนิเวศ รวมทั้งแนวป้องกัน (Protection Strip) และพื้นที่กันชน (Eco-Buffer) | F32: กิจกรรมเพิ่ม พท.สีเขียว / protection strip | V32: บริษัท ไออาร์พีซี จำกัด (มหาชน) | W32: งบประมาณบริษัท ไออาร์พีซี จำกัด (มหาชน) | X32: 50000
D33: รวมงบ | H33: รวมงบ | X33: =SUM(X10:X32) -> 1110000
D34: รวมโครงการ | H34: รวมโครงการ | X34: 18

Sheet ยุทธศาสตร์ที่ 2
C1: แผนปฏิบัติการตามแผนแม่บทเมืองอุตสาหกรรมเชิงนิเวศ จังหวัดระยอง
D2: ยุทธศาสตร์ที่ 2 การปรับปรุงระบบโครงสร้างพื้นฐานเพื่อรองรับการพัฒนาเศรษฐกิจและสังคม
D3: เป้าหมาย | E3: (1) มีระบบโครงสร้างพื้นฐานได้มาตรฐานและเพียงพอ เพื่อรองรับการพัฒนาเมืองอุตสาหกรรมเชิงนิเวศ
E4: (2) มีการจัดการสาธารณูปโภคอย่างมีประสิทธิภาพ เพื่อรองรับการใช้ประโยชน์ของทุกภาคส่วน
D5: ตัวชี้วัด | E5: (1) ระบบคมนาคมขนส่งภาคอุตสาหกรรมที่มีอยู่เดิมได้รับการปรับปรุงเพื่อรองรับอุตสาหกรรมเชิงนิเวศที่มีความปลอดภัยและรวดเร็ว
E6: (2) มีแผนการจัดสรรสาธารณูปโภคร่วมกันของหน่วยงานที่เกี่ยวข้อง
A7: ยุทธศาสตร์ | B7: เป้าประสงค์ | C7: ตัวชี้วัด | D7: กลยุทธ์ | E7: ตัวชี้วัดโครงการ/กิจกรรม | F7: โครงการ/กิจกรรม | G7: พื้นที่เป้าหมาย | H7: แหล่งงบประมาณ | I7: งบประมาณรวม (บาท) | J7: ระยะเวลาดำเนินโครงการ | V7: หน่วยงานรับผิดชอบ | W7: แหล่งงบประมาณ | X7: งบประมาณรวม (บาท) | Y7: หมายเหตุ
J8: ปีงบประมาณ 2565
J9: ต.ค. | K9: พ.ย. | L9: ธ.ค. | M9: ม.ค. | N9: ก.พ. | O9: มี.ค. | P9: เม.ย. | Q9: พ.ค. | R9: มิ.ย. | S9: ก.ค. | T9: ส.ค. | U9: ก.ย. | V9: หลัก/สนับสนุน
D10: 2.1 เพิ่มประสิทธิภาพและเชื่อมโยง ระบบโครงข่ายคมนาคมขนส่ง เพื่อยกระดับการเป็นศูนย์กลางการกระจายสินค้า | E10: ตัวชี้วัด 1.1.1 ระบบสาธารณูปโภคได้รับการพัฒนาหรือยกระดับ โดยนำแนวคิดการออกแบบเชิงนิเวศมาใช้ในการพัฒนาเมืองอุตสาหกรรมเชิงนิเวศ | F10: โครงการก่อสร้างปรับปรุงขยายถนน อบจ.รย.0113 สายตอนแยกระยอง – บ้านแลง ต.เชิงเนิน ต.บ้านแลง อ.เมืองระยอง จ.ระยอง | G10: เขตประกอบการไออาร์พีซี | I10: 217081000 | V10: องค์การบริหารส่วนจังหวัดระยอง | W10: งบอุดหนุนกรมส่งเสริมการปกครองส่วนท้องถิ่นกระทรวงมหาดไทย | X10: 217081000
F11: โครงการก่อสร้างถนนคอนกรีตเสริมเหล็กสายทางก้นทุ่ง ซอย 3 ชุมชนบ้านแหลมมะขาม หมู่ที่ 2 ตำบลทับมา อำเภอเมือง จังหวัดระยอง - ก่อสร้างถนนผิวจราจรกว้าง 4.00 เมตร ยาว 33.00 เมตร หนาเฉลี่ย 0.15 เมตร หรือมีพื้นคอนกรีตเสริมเหล็กไม่น้อยกว่า 132.00 ตารางเมตร | G11: ชุมชนบ้านแหลมมะขาม หมู่ที่ 2 ตำบลทับมา อำเภอเมือง จังหวัดระยอง | I11: 91000 | V11: กองช่างเทศบาลตำบลทับมา | W11: งบประมาณเทศบาลตำบลทับมา | X11: 91000
F12: โครงการก่อสร้างถนนคอนกรีตเสริมเหล็กสายทางซอยชูเชิดชุมชนบ้านขนาบ หมู่ที่ 1 ตำบลทับมา อำเภอเมือง จังหวัดระยอง - ก่อสร้างถนนผิวจราจรกว้าง 4.00 เมตร ยาว 166.00 เมตร หนาเฉลี่ย 0.15 เมตร หรือมีพื้นคอนกรีตเสริมเหล็กไม่น้อยกว่า 664.00 ตารางเมตร | G12: ชุมชนบ้านขนาบ หมู่ที่ 1 ตำบลทับมา อำเภอเมือง จังหวัดระยอง | I12: 485000 | V12: กองช่างเทศบาลตำบลทับมา | W12: งบประมาณเทศบาลตำบลทับมา | X12: 485000
F13: โครงการก่อสร้างถนนคอนกรีตเสริมเหล็กสายบ้านใน - น้ำคอก ซอย 1 หมู่ที่ 1 ตำบลทับมา อำเภอเมือง จังหวัดระยอง - ก่อสร้างถนนผิวจราจรกว้าง 5.00 เมตร ยาว 132.00 เมตร หนาเฉลี่ย 0.15 เมตร หรือมีพื้นคอนกรีตเสริมเหล็กไม่น้อยกว่า 660.00 ตารางเมตร | G13: ชุมชนบ้านขนาบ หมู่ที่ 1 ตำบลทับมา อำเภอเมือง จังหวัดระยอง | I13: 494000 | V13: กองช่างเทศบาลตำบลทับมา | W13: งบประมาณเทศบาลตำบลทับมา | X13: 494000
F14: โครงการก่อสร้างถนนคอนกรีตเสริมเหล็กและท่อระบายน้ำคอนกรีตเสริมเหล็กสายทาง รย.ถ.90141 (ซอย ป.ร่มไทร) ชุมชนบ้านทับมา หมู่ที่ 4 ตำบลทับมา อำเภอเมือง จังหวัดระยอง | G14: ชุมชนบ้านทับมา หมู่ที่ 4 ตำบลทับมา อำเภอเมือง จังหวัดระยอง | I14: 6610000 | V14: กองช่างเทศบาลตำบลทับมา | W14: งบประมาณเทศบาลตำบลทับมา | X14: 6610000
F15: - ก่อสร้างถนนผิวจราจรกว้าง 5.80 เมตร ยาว525.00 เมตร หนาเฉลี่ย 0.15 เมตร หรือมีพื้นคอนกรีตเสริมเหล็กไม่น้อยกว่า 3,266.66.00 ตารางเมตรและท่อระบายน้ำคอนกรีตเสริมเหล็ก ขนาดเส้นผ่าศูนย์กลาง 0.60 เมตร หรือความยาวท่อรวมบ่อพัก 1,050.00 เมตร พร้อมบ่อพักคอนกรีตเสริ
F16: โครงการก่อสร้างถนนคอนกรีตเสริมเหล็กสายทางการทุ่ง ซอย 1/4 ชุมชนบ้านแหลมมะขาม หมู่2 | V16: กองช่างเทศบาลตำบลทับมา | W16: งบประมาณเทศบาลตำบลทับมา | X16: 486000
F17: โครงการก่อสร้างถนนคอนกรีตเสริมเหล็กสายทางการทุ่ง ซอย 1 ชุมชนบ้านแหลมมะขาม หมู่2 | V17: กองช่างเทศบาลตำบลทับมา | W17: งบประมาณเทศบาลตำบลทับมา | X17: 50000
F18: โครงการก่อสร้างถนนคอนกรีตเสริมเหล็กและท่อระบายน้ำคอนกรีตเสริมเหล็กสายทาง ซอยผ่องผาด - บ้านใน ซอย 2 ชุมชนบ้านขนาบ หมู่ที่ 1 ตำบลทับมา อำเภอเมือง จังหวัดระยอง | G18: ชุมชนบ้านขนาบ หมู่ที่ 1 ตำบลทับมา อำเภอเมือง จังหวัดระยอง | I18: 390000 | V18: กองช่างเทศบาลตำบลทับมา | W18: งบประมาณเทศบาลตำบลทับมา | X18: 390000
F19: - ก่อสร้างถนนผิวจราจรกว้าง 4.30 เมตร ยาว 59.00 เมตร หนาเฉลี่ย 0.15 เมตร หรือมีพื้นคอนกรีตเสริมเหล็กไม่น้อยกว่า 253.70 ตารางเมตรและรางระบายน้ำคอนกรีตเสริมเหล็กรูปตัวอยู่ กว้างภายใน 0.40 เมตร ยาว 59.00 เมตร พร้อมฝาปิดคอนกรีตเสริมเหล็ก รางวี (ฝั่งเดียว)
F20: โครงการก่อสร้างถนนคอนกรีตเสริมเหล็กและรางระบายน้ำคอนกรีตเสริมเหล็กสายทางแหลมไผ่ ซอย 2 ชุมชนบ้านหนองมะหาด หมู่ที่ 1 ตำบลทับมา อำเภอเมือง จังหวัดระยอง | G20: ชุมชนบ้านหนองมะหาด หมู่ที่ 1 ตำบลทับมา อำเภอเมือง จังหวัดระยอง | I20: 945000 | V20: กองช่างเทศบาลตำบลทับมา | W20: งบประมาณเทศบาลตำบลทับมา | X20: 945000
F21: - ก่อสร้างถนนผิวจราจรกว้าง 3.10 - 3.60 เมตร ยาว 109.00 เมตร หนาเฉลี่ย 0.15 เมตร หรือมีพื้นคอนกรีตเสริมเหล็กไม่น้อยกว่า 374.40 ตารางเมตร และรางระบายน้ำคอนกรีตเสริมเหล็กรูปตัวอยู่ กว้างภายใน 0.40 เมตร ยาว 218.00 เมตร พร้อมฝาปิดคอนกรีตเสริมเหล็ก รางวี (สองฝั่ง)
F22: โครงการก่อสร้างรางระบายน้ำคอนกรีตเสริมเหล็กสายทาง รย.ถ.90131 (แหลมไผ่ ซอย 1 ) ชุมชนบ้านทับมา หมู่ที่ 4 ตำบลทับมา อำเภอเมือง จังหวัดระยอง - ก่อสร้างรางระบายน้ำคอนกรีตเสริมเหล็กรูปตัวยูกว้างภายใน 0.40 เมตร ยาว 125.00 เมตร พร้อมฝาปิดคอนกรีตเสริมเหล็กรางวี (ฝั่งเดียว) | G22: ชุมชนบ้านทับมา หมู่ที่ 4 ตำบลทับมา อำเภอเมือง จังหวัดระยอง | I22: 426000 | V22: กองช่างเทศบาลตำบลทับมา | W22: งบประมาณเทศบาลตำบลทับมา | X22: 426000
F23: โครงการก่อสร้างโคมไฟฟ้าส่องสว่างสายทางถนนเสม็ดแดง - หัวหญ้าคา ชุมชนบ้านเขาไผ่ หมู่ที่ 5 ตำบลทับมา อำเภอเมือง จังหวัดระยอง - ก่อสร้างเสาไฟพร้อมโคมไฟฟ้าส่องสว่างและอุปกรณ์ จำนวน 28 ต้น ยาว 995.00 เมตร | G23: ชุมชนบ้านเขาไผ่ หมู่ที่ 5 ตำบลทับมา อำเภอเมือง จังหวัดระยอง | I23: 1497000 | V23: กองช่างเทศบาลตำบลทับมา | W23: งบประมาณเทศบาลตำบลทับมา | X23: 1497000
F24: โครงการก่อสร้างโคมไฟฟ้าส่องสว่างสายทางแหลมมะขาม - การ์เด้นโฮม ชุมชนบ้านแหลมมะขาม หมู่ที่ 2 ตำบลทับมา อำเภอเมือง จังหวัดระยอง - ก่อสร้างเสาไฟพร้อมโคมไฟฟ้าส่องสว่างและอุปกรณ์ จำนวน 35 ต้น ยาว 1,215.00 เมตร | G24: ชุมชนบ้านแหลมมะขาม หมู่ที่ 2 ตำบลทับมา อำเภอเมือง จังหวัดระยอง | I24: 1834000 | V24: กองช่างเทศบาลตำบลทับมา | W24: งบประมาณเทศบาลตำบลทับมา | X24: 1834000
F25: โครงการขยายเขตระบบจำหน่ายน้ำประปาภูมิภาคสายทาง รย.ถ.900171 (ถนนซอยนายมิ่ง) ชุมชนบ้านแหลมทองหลาง หมู่ที่ 6 ตำบลทับมา อำเภอเมือง จังหวัดระยอง - วางท่อประปามีความยาว 160.00 เมตร พร้อมอุปกร์ | G25: ชุมชนบ้านแหลมทองหลาง หมู่ที่ 6 ตำบลทับมา | I25: 128000 | V25: กองช่างเทศบาลตำบลทับมา | W25: งบประมาณเทศบาลตำบลทับมา | X25: 128000
F26: โครงการขยายเขตระบบจำหน่ายน้ำประปาภูมิภาคสายทาง รย.ถ.90147 (ถนนลุงพล) ชุมชนบ้านทับมา หมู่ที่ 4 ตำบลทับมา อำเภอเมือง จังหวัดระยอง - วางท่อประปามีความยาว 620.00 เมตร พร้อมอุปกณ์ | G26: ชุมชนบ้านทับมา หมู่ที่ 4 ตำบลทับมา | I26: 496000 | V26: กองช่างเทศบาลตำบลทับมา | W26: งบประมาณเทศบาลตำบลทับมา | X26: 496000
F27: โครงการก่อสร้างโคมไฟฟ้าส่องสว่างสายทางถนนเสม็ดแดง -หัวหญ้าคา ชุมชนบ้านเขาไผ่หมู่ที่ 5 | V27: กองช่างเทศบาลตำบลทับมา | W27: งบประมาณเทศบาลตำบลทับมา
F28: โครงการก่อสร้างโคมไฟฟ้าส่อง สว่างสายทาง รย.ถ.90115 (ซอยปราโมทย์) ชุมชนบ้าน แหลมทองหลาง หมู่ที่ 6 | V28: กองช่างเทศบาลตำบลทับมา | W28: งบประมาณเทศบาลตำบลทับมา
F29: 2.1.17 โครงการก่อสร้างโคมไฟฟ้าส่องสว่างสายทางแหลมมะขาม -การ์เด้นโฮม ชุมชนบ้านแหลมมะขาม หมู่ที่ 2 | V29: กองช่างเทศบาลตำบลทับมา | W29: งบประมาณเทศบาลตำบลทับมา
F30: โครงการก่อสร้างท่อระบายน้ำคอนกรีตเสริมเหล็กสายทาง รย.ถ.90185 (ถนนยางปีนตอ ซอย 1) ชุมชนบ้านเขาโบสถ์ หมู่ที่ | G30: ถนนเส้นมาบตาพุด - หาดทรายทอง | I30: 8757000 | V30: กองช่างเทศบาลตำบลทับมา | W30: งบประมาณเทศบาลตำบลทับมา
F31: โครงการก่อสร้างท่อระบายน้ า คอนกรีตเสริมเหล็กสายทาง รย.ถ.90203 (ถนนมาบเตย - ทงุ่ นอก) ชุมชนบ้านเขาโบสถ์ หมู่ที่ 7 | V31: กองช่างเทศบาลตำบลทับมา | W31: งบประมาณเทศบาลตำบลทับมา
F32: โครงการก่อสร้างรางระบายน้ า คอนกรีตเสริมเหล็กสายทาง ซอยวัดทับมา - ตั้งเซ่ง ชุมชน บ้านขนาบ หมู่ที่ 1 | V32: กองช่างเทศบาลตำบลทับมา | W32: งบประมาณเทศบาลตำบลทับมา
F33: โครงการก่อสร้างรางระบายน้ า คอนกรีตเสริมเหล็กสายทางซอย เสริมทรัพย์ชุมชนบ้านแหลม ทองหลาง หมู่ที่ 6 | V33: กองช่างเทศบาลตำบลทับมา | W33: งบประมาณเทศบาลตำบลทับมา
F34: โครงการก่อสร้างรางระบายน้ำ คอนกรีตเสริมเหล็กสายทาง รย.ถ.90024 (เกาะพรวด ซอย 2) ชุมชนบ้านขนาบ หมู่ที่1 ต.ทับมา อ.เมือง จ.ระยอง | V34: กองช่างเทศบาลตำบลทับมา | W34: งบประมาณเทศบาลตำบลทับมา
F35: โครงการสถานประกอบการปลอดภัยจากอัคคีภัย | V35: กองช่างเทศบาลตำบลทับมา | W35: งบประมาณเทศบาลตำบลทับมา | X35: 123000
F36: โครงการจุดบริการเพื่อประชาชนเพือป้องกันและลดอุบัติเหตุทางจราจรช่วงเทศกาลปีใหม่ | V36: สภ.ระยอง | W36: งบประมาณเทศบาลตำบลทับมา | X36: 192000
F37: โครงการจุดบริการ ประชาชนเพื่อป้องกัน และลดอุบัติเหตุทางจราจรช่วงเทศกาลสงกรานต์ | V37: อปท.ทต.ทับมา | W37: งบประมาณเทศบาลตำบลทับมา | X37: 30000
F38: โครงการฝึกซ้อมแผนป้องกันและบรรเทาสาธารณภัย | V38: อปท.ทต.ทับมา | W38: งบประมาณเทศบาลตำบลทับมา | X38: 123000
F39: โครงการซ่อมแซ่มระบบกล้องวงจรปิดจุดเสี่ยงตำบลทับมา หมู่ที่1-8 | V39: กองช่างเทศบาลตำบลทับมา | W39: งบประมาณเทศบาลตำบลทับมา
F40: โครงการเฝ้าระวังคุณภาพน้ำอุปโภคบริโภคและแหล่งน้ำธรรมชาติ | V40: อปท.ทต.ทับมา | W40: งบประมาณเทศบาลตำบลทับมา | X40: 30000
...

Sheet ยุทธศาสตร์ที่ 3
D1: แผนปฏิบัติการตามแผนแม่บทเมืองอุตสาหกรรมเชิงนิเวศ จังหวัดระยอง
D2: ยุทธศาสตร์ที่ 3 การยกระดับการจัดการสิ่งแวดล้อมและความปลอดภัยในพื้นที่
D3: เป้าหมาย | E3: (1) ลดความขัดแย้ง ระหว่างภาคอุตสาหกรรมและชุมชน
E4: (2) ยกระดับการบริหารจัดการสิ่งแวดล้อมและความปลอดภัยของภาคอุตสาหกรรมเป็นที่ยอมรับของประชาชน
E5: (3) มีการยกระดับการบริหารจัดการสิ่งแวดล้อมเมืองที่สอดคล้องกับการเป็นเมืองอุตสาหกรรมเชิงนิเวศ
D6: ตัวชี้วัด | E6: (1) จำนวนเครือข่ายความร่วมมือระหว่างภาครัฐ เอกชน และภาคประชาชนที่มีศักยภาพ ที่เพิ่มขึ้น
E7: (2) การต่อต้านการลงทุนและประกอบกิจการในอุตสาหกรรมเป้าหมายหลัก (เช่น ปิโตรเคมี) ของพื้นที่ลดลง
E8: (3) จำนวนโรงงานที่มีความเสี่ยงสูง (EIA EHIA ESA และรายงานประเมินความเสี่ยง) ในการเกิดมลพิษในพื้นที่อุตสาหกรรมมีการจัดการด้านของเสียที่สูงกว่า มาตรฐาน
E9: (4) จำนวนโรงงานในพื้นที่นอกเขตพื้นที่อุตสาหกรรมเป้าหมาย มีการจัดการด้านของเสียตามมาตรฐานที่กำหนด
E10: (5) จำนวนพื้นที่ที่มีค่ามาตรฐานมลพิษทางอากาศในชั้นบรรยากาศของพื้นที่อุตสาหกรรมเป้าหมาย อยู่ในเกณฑ์เหนือกว่ามาตรฐาน ที่กำหนด
E11: (6) จำนวนธุรกิจที่มีการเชื่อมโยงการใช้วัสดุเหลือใช้ และพลังงาน
E12: (7) คุณภาพสิ่งแวดล้อมที่มีนัยสำคัญ ดีขึ้น
A13: ยุทธศาสตร์ | B13: เป้าประสงค์ | C13: ตัวชี้วัด | D13: กลยุทธ์ | E13: ตัวชี้วัดโครงการ/กิจกรรม | F13: โครงการ/กิจกรรม | G13: พื้นที่เป้าหมาย | H13: แหล่งงบประมาณ | I13: งบประมาณรวม (บาท) | V13: หน่วยงานรับผิดชอบ | W13: แหล่งงบประมาณ | X13: งบประมาณรวม (บาท) | Y13: หมายเหตุ
J14: ปีงบประมาณ 2565
J15: ต.ค. | K15: พ.ย. | L15: ธ.ค. | M15: ม.ค. | N15: ก.พ. | O15: มี.ค. | P15: เม.ย. | Q15: พ.ค. | R15: มิ.ย. | S15: ก.ค. | T15: ส.ค. | U15: ก.ย. | V15: หลัก/สนับสนุน
D16: 3.1 ส่งเสริมอุตสาหกรรมที่เป็นมิตรกับสิ่งแวดล้อม | E16: จ้างเหมาเอกชนแล้วเสร็จ คุณภาพน้ำทิ้งผ่านเกณฑ์มาตรฐาน | F16: จ้างเหมาเอกชนดำเนินการดูแลบำรุงรักษาระบบรวบรวมและระบบบำบัดน้ำเสีย - จ้างเหมาเอกชนดำเนินการดูแลบำรุงรักษาระบบรวบรวมและระบบบำบัดน้ำเสีย | G16: เทศบาลเมืองมาบตาพุด | H16: งบประมาณเทศบาลเมืองมาบตาพุด | I16: 15000000 (ปีงบประมาณ 2565 ได้รับจำนวน 3 ล้านบาท) | V16: กองช่างสุขาภิบาล'เทศบาลเมืองมาบตาพุด | W16: งบประมาณเทศบาลเมืองมาบตาพุด | X16: 15,000,000 | Y16: ได้รับงบประมาณปี 2565 จำนวน 3 ล้านบาท)
E17: ตัวชี้วัด 7.1.1 คุณภาพน้ำทิ้งเป็นไปตามเกณฑ์มาตรฐาน | F17: กิจกรรมกำกับดูแลการจัดการน้ำเสียจากโรงงานนอกนิคมอุตสาหกรรม | H17: - | V17: สอจ.ระยอง
F18: กิจกรรมควบคุมโรงงานอุตสาหกรรมนอกนิคมอุตสาหกรรมให้ดำเนินการแก้ไขปัญหาการปนเปื้อนสาร VOCs ในดินและน้ำใต้ดินตามกฎกระทรวงว่าด้วยการควบคุมการปนเปื้อนในดินและน้ำใต้ดินภายในบริเวณโรงงาน | H18: - | V18: สอจ.ระยอง
F19: กิจกรรมกำกับดูแลการจัดการน้ำเสียจากโรงงานนอกนิคมอุตสาหกรรม โดยสำนักงานอุตสาหกรรมจังหวัดระยอง | H19: - | V19: สอจ.ระยอง
F20: กิจกรรมควบคุมโรงงานอุตสาหกรรมนอกนิคมอุตสาหกรรมให้ดำเนินการแก้ไขปัญหาการปนเปื้อนสาร VOCs ในดินและน้ำใต้ดินตามกฎกระทรวงว่าด้วยการควบคุมการปนเปื้อนในดินและน้ำใต้ดินภายในบริเวณโรงงาน โดย สำนักงานอุตสาหกรรมจังหวัดระยอง | H20: - | V20: สอจ.ระยอง
F21: โครงการขับเคลื่อนกับทุกภาคส่วนในการจัดการปัญหาคุณภาพน้ำในภาพรวมของคลองสาธารณะ (เขตควบคุมมลพิษ จังหวัดระยอง) | V21: สมาคมเพื่อนชุมชน | X21: 100000
F22: โครงการบูรณาการจัดการปัญหาคุณภาพแหล้งน้ำสาธารณะ (พื้นที่นำร่อง : คลองน้ำหู) | V22: สมาคมเพื่อนชุมชน | X22: 450000
E23: ตัวชี้วัด 7.2.1 ปริมาณน้ำใช้ต่อหน่วยผลิตภัณฑ์ลดลง | F23: ดำเนินกิจกรรมตาม Eco factory | V23: บริษัท ไออาร์พีซี จำกัด (มหาชน) | W23: งบประมาณบริษัท ไออาร์พีซี จำกัด (มหาชน)
F24: โครงการลดปริมาณการใช้ boiler feed water (WB) ที่หน่วย SRU | V24: บริษัท ไออาร์พีซี จำกัด (มหาชน)
F25: โครงการเพิ่มปริมาณการใช้น้ำ strip water ที่ Desalter ADU2 | V25: บริษัท ไออาร์พีซี จำกัด (มหาชน)
F26: โครงการนำน้ำที่ผ่านการบำบัดมาใช้ในการรีดตะกอนระบบบำบัดน้ำเสีย | V26: บริษัท อินโดรามา โพลีเอสเตอร์ อินดัสตรี้ส์ จำกัด (มหาชน)
F27: โครงการนำน้ำที่ผ่านการบำบัดมาใช้ในงานสวนและทำความสะอาดถนน | V27: บริษัท อินโดรามา โพลีเอสเตอร์ อินดัสตรี้ส์ จำกัด (มหาชน)
F28: โครงการนำน้ำ Blowdown ของระบบน้ำหล่อเย็นกลับมาใช้ในเครื่อง vacuum pyrolysis | V28: บริษัท อินโดรามา โพลีเอสเตอร์ อินดัสตรี้ส์ จำกัด (มหาชน)
E29: ตัวชี้วัด 7.2.2 ปริมาณน้ำทิ้งต่อหน่วยผลิตภัณฑ์ลดลง | F29: ดำเนินกิจกรรมตาม Eco factory
E30: ตัวชี้วัดที่ 7.3.1 คุณภาพแหล่งน้ำสาธารณะ | F30: ประชารัฐร่วมใจ คืนคลองสวย น้ำใสในชุมชน | V30: เทศบาลตำบลเนินพระ | X30: 150000
F31: โครงการบูรณาการจัดการปัญหาคุณภาพแหล่งน้ำสาธารณะ(คลองน้ำหู) - เก็บข้อมูลคุณภาพน้ำและสรุปผล (Before /After ) หลังติดตั้ง model ทดสอบปรับปรุงคุณภาพน้ำในคลองน้ำหู - สรุปผลแนวทางการจัดการน้ำเสียชุมชน - ทางเลือกในการบำบัดน้ำเสียที่เหมาะสม - มาตรการต่างๆในการป้องกัน และเฝ้าระวังน้ำเสียชุมชน - จัดอบรมและถ่ายทอดให้เครือข่ายชุมชน / องค์กรปกครองส่วนท้องถิ่นในพื้นที่ อบรมให้ความรู้การจัดการน้ำเสียให้กับชุมชนและเทศบาลในพื้นที่ อบรมถังดักไขมัน / การทำจุลินทรีย์บำบัดน้ำเสียจากเศษอาหาร โดยร่วมกับภาคีเครือข่ายในพื้นที่ - ขยายผลแนวทางการจัดการน้ำเสียชุมชน ให้องค์กรปกครองส่วนท้องถิ่นและภาคีเครือข่าย | V31: อบจ.ระยอง/ทสจ., คพ., ทม.มาบตาพุด, ทต.ทับมา, ทต.เนินพระ, สมาคมเพื่อนชุมชน | X31: 450000
E32: 3.4 ติดตามเฝ้าระวัง และบริหารจัดการสิ่งแวดล้อมเมืองและชุมชน | F32: ก่อสร้างระบบบำบัดน้ำเสียพื้นที่ระบบบำบัดน้ำเสียเดิมของ ทน.ระยอง และก่อสร้างระบบรวบรวม นำเสียครอบคลุมพื้นที่ ทน.ระยอง ทต.เนินพระ ทต.ทับมา และทต.มาบข่าพัฒนา รวม 64 ตร.กม. | V32: อบจ.ระยอง/ทสจ.,สถ.จ.,สสภ.,สผ.,คพพ.,ทน.ระยอง,ทต.ทับมา,ทต.เนินพระ | X32: 804000000 | Y32: ยังใม่ได้รับงบประมาณจัดสรร
E33: สำรวจคลองสาธารณะที่มีสภาพตื้นเขินและคุณภาพน้ำ ไม่เป็นไปตามมาตรฐาน ติดตั้งเครื่องเติมอากาศโดยใช้พลังงานแสงอาทิตย์ ตามจุดต่างๆ ในคลองสายหลัก ในเขตควบคุมมลพิษ | F33: โครงการปรับปรุงคุณภาพน้ำในคลองสายหลักในเขตควบคุมมลพิษ | V33: อปท.ในเขตควบคุมมลพิษ/ ทสจ., สสภ. | X33: 140000
E34: ตรวจสอบและบังคับตามกฎหมายกับการจัดการน้ำเสียจากอาคารขนาดใหญ่ต่างๆ เช่น โรงแรม โรงพยาบาล โรงเรียน ตลาด ตามกฎหมายว่าด้วยการส่งเสริมและรักษาคุณภาพสิ่งแวดล้อมแห่งชาติ | F34: การกำกับดูแลการจัดการจัดการน้ำเสียจากอาคารขนาดใหญ่ | V34: สสภ./คพ./ทสจ. | X34: 1000000
E35: ตัวชี้วัด 10.1.1 อัตราการใช้พลังงานทดแทน | F35: โครงการ Floating solar 9.4 MW ที่บ่อเก็บน้ำดิบของเขตประกอบการฯ | V35: บริษัทไออาร์ พีซี จำกัด (มหาชน)
F36: อบรมให้ความรู้การอนุรักษ์พลังงานและการใช้พลังงานทดแทน | V36: เทศบาลเมืองมาบตาพุด | X36: 20000
F37: โครงการดพิ่มสมรรถนะด้านการบริหารและจัดการพลังงานครบวงจรในชุมชนระดับตำบล และเครื่อข่ายพลังงานชุมชน ภายใต้งบอุดหนุน ส่งเสริมเทคโนโลยีพลังงานชุมชน | V37: พลังงานจังหวัดระยอง บริษัทในเขตควบคุมมลพิษ (มาบตาพุด)
F38: โครงการส่งเสริมเทคโนโลยีรถสูบน้ำพลังงานแสงอาทิตย์แบบเคลื่อนที่ขนาดไม่น้อยกว่า 320 วัตต์ เพื่อลดรายจ่ายพลังงานให้กับกลุ่มวิสาหกิจชุมชนจังหวัดระยอง ส่งเสริมวิถีชีวิตเกษตรแบบพอเพียง
F39: โครงการส่งเสริมเทคโนโลยีพลังงานทดแทนระบบอบแห้งพลังงานแสงอาทิตย์เพื่อลดต้นทุนการผลิต ยกระดับคุณภาพและสร้างมูลค่าเพิ่มให้กับผลิตภัณฑ์ของกลุ่มวิสาหกิจชุมชนในจังหวัดระยอง
F40: โครงการส่งเสริมเทคโนโลยีพลังงานทดแทนที่เหมาะสม เพื่อลดรายจ่ายและเพิ่มคุณภาพให้ผลิตภัณฑ์กับกลุ่มวิสาหกิจชุมชนในพื้นที่เขตกองทุนพัฒนาไฟฟ้า เขตนิคมอุตสาหกรรมมาบตาพุด
...

Sheet ยุทธศาสตร์ที่ 4
D1: แผนปฏิบัติการตามแผนแม่บทเมืองอุตสาหกรรมเชิงนิเวศ จังหวัดระยอง
D2: ยุทธศาสตร์ที่ 4 การสร้างความเชื่อมโยงเศรษฐกิจชุมชนและอุตสาหกรรมในพื้นที่
D3: เป้าหมาย | E3: (1) มีการเกื้อกูลการใช้ประโยชน์จากการพัฒนาอุตสาหกรรมในพื้นที่ร่วมกัน เพื่อเพิ่มรายได้กับชุมชน
D4: ตัวชี้วัด | E4: (1) จำนวนโรงงานที่เชื่อมโยงการใช้ประโยชน์ร่วมกันชุมชนเพิ่มขึ้น
D5: กลยุทธ์ | E5: ตัวชี้วัดโครงการ/กิจกรรม | F5: โครงการ/กิจกรรม | G5: พื้นที่เป้าหมาย | H5: แหล่งงบประมาณ | I5: งบประมาณรวม (บาท) | J5: ระยะเวลาดำเนินโครงการ | V5: หน่วยงานรับผิดชอบ | X5: งบประมาณรวม (บาท) | Y5: หมายเหตุ
J6: ปีงบประมาณ 2565
J7: ต.ค. | K7: พ.ย. | L7: ธ.ค. | M7: ม.ค. | N7: ก.พ. | O7: มี.ค. | P7: เม.ย. | Q7: พ.ค. | R7: มิ.ย. | S7: ก.ค. | T7: ส.ค. | U7: ก.ย.
D8: 4.1 สร้างความเชื่อมโยงอุตสาหกรรมเป้าหมายหลักกับอุตสาหกรรมชุมชน
D9: 4.1 ส่งเสริมความเชื่อโยงอุตสาหกรรม เป้าหมายหลักกับอุตสาหกรรมชุมชน | E9: ตัวชี้วัด 5.1.1 สัดส่วนโรงงานอุตสาหกรรมที่มีการผลิตสินค้าหรือบริการที่เป็นมิตรต่อสิ่งแวดล้อม (Eco-Product /Eco-Service) หรือมีการจัดซื้อจัดจ้างสินค้าและบริการที่เป็นมิตรต่อสิ่งแวดล้อม (Green Purchasing) ต่อจำนวนผู้ประกอบการทั้งหมด | F9: ดำเนินกิจกรรมตาม Eco factory | V9: สำนักงานนิคมอุตสาหกรรม(ในพื้นที่เขตควบคุมมลพิษมาบตาพุด) บริษัท ไออาร์พีซี จำกัด (มหาชน) | W9: งบประมาณบริษัท ไออาร์พีซี จำกัด (มหาชน)
E10: ตัวชี้วัด 6.1.1 สัดส่วนโรงงานอุตสาหกรรมที่มีกิจกรรมหรือมาตรการที่ปลอดภัย ลดต้นทุน หรือเพิ่มประสิทธิภาพระบบขนส่งและโลจิสติกส์ขององค์กร | F10: ดำเนินกิจกรรมตาม Eco factory | V10: สำนักงานนิคมอุตสาหกรรม(ในพื้นที่เขตควบคุมมลพิษมาบตาพุด) บริษัท ไออาร์พีซี จำกัด (มหาชน)
F11: โครงการการจัดซื้อที่เป็นมิตรต่อสิ่งแวดล้อม - Eco Process - Eco Product by PTTGC - Eco Product by SCG | V11: สำนักงานนิคมอุตสาหกรรม(ในพื้นที่เขตควบคุมมลพิษมาบตาพุด) บริษัท ไออาร์พีซี จำกัด (มหาชน)
E12: ตัวชี้วัด 4.1.2 สัดส่วนโรงงานอุตสาหกรรมที่มีจำนวนแรงงานท้องถิ่น | F12: กิจกรรม Update ฐานข้อมูลพนักงานให้เป็นปัจจุบัน | V12: สำนักงานนิคมอุตสาหกรรม(ในพื้นที่เขตควบคุมมลพิษมาบตาพุด) บริษัท ไออาร์พีซี จำกัด (มหาชน)
E13: ตัวชี้วัด 4.1.3 สัดส่วนโรงงานอุตสาหกรรมที่มีการจัดซื้อจัดจ้างสินค้าหรือบริการจากชุมชน หรือ ส่งเสริมอาชีพให้กับชุมชน หรือสนับสนุนให้เกิดความยั่งยืนทางด้าน การตลาด หรือพัฒนาหลักสูตรส่งเสริมอาชีพหรือทักษะแรงงาน | F13: โครงการการซื้อจัดจ้างสินค้า ส่งเสริมกิจกรรมหรือกลุ่มอาชีพ และทักษะแรงงานของคนในชุมชน เช่น - สนับสนุนส่งเสริมกิจกรรมประเพณี“ บุญเดือนสาม ข้าวหลามชาวระยอง” - สนับสนุนกระเช้าสวัสดีปีใหม่ สินค้าวิสาหกิจชุมชนและงานโอกาสพิเศษต่างๆ - มีการจ้างงานของคนในชุนชน เพื่อประกอบอาชีพ หน่วยรักษาความปลอดภัย - มีการจ้างงานของคนในชุนชน เพื่อประกอบอาชีพ แม่บ้าน - การจ้างงานคนในชุมชน เพื่อประกอบอาชีพคนสวน - มีการจัดจ้างรถตู้ของชุมชน เช่น บริษัท เขมินทร์เซอร์วิสแอนซัพพลาย จำกัด ในการเดินทางของพนักงานในโรงงาน | V13: สมาคมเพื่อนชุมชน
F14: ดำเนินกิจกกรมอย่างต่อเนื่องตามกรอบการดำเนินงานของ CSR-DIW & Eco factory | V14: บริษัท ไออาร์พีซี จำกัด (มหาชน) | X14: 1504800
E15: ตัวชี้วัดที่ 3.1.1 จำนวนเงินลงทุนของผู้ประกอบการในเมืองอุตสาหกรรมเชิงนิเวศสูงขึ้นหรือมีสมรรถนะทางการเงินที่ดีขึ้น | V15: บริษัท ไออาร์พีซี จำกัด (มหาชน)
D16: 4.2 ส่งเสริมการพัฒนาศักยภาพ วิสาหกิจชุมชน และ OTOP เพื่อรองรับการพัฒาเมืองอุตสาหกรรมเชิงนิเวศ | E16: ตัวชี้วัด 4.1.1 การส่งเสริมสนับสนุนการดำเนินกิจกรรมชุมชนในบริเวณโดยรอบ | F16: โครงการธนาคารน้ำใต้ดินส่วนขยาย | V16: บริษัท ไออาร์พีซี จำกัด (มหาชน) | W16: งบประมาณบริษัท ไออาร์พีซี จำกัด (มหาชน) | X16: 90000
F17: โครงการส่งเสริมผลผลิตทางการเกษตรด้วยซิ้งค์ออกไซด์นาโน | X17: 50000
F18: โครงการน้ำดื่มเพื่อชุมชน | X18: 200000
F19: ศูนย์การเรียนรู้สวนสมุนไพร ป่าชุมชน และธนาคารน้ำใต้ดิน (รพ.สต. บ้านก้นหนอง) | X19: 74000
F20: โครงการศูนย์การเรียนรู้เครือข่ายชุมชนฯ | X20: 3493336
F21: โครงการอนุรักษ์หนังใหญ่วัดบ้านดอน | X21: 54000
F22: โครงการทุนการศึกษา | X22: 906000
F23: โครงการการส่งเสริมวิสาหกิจชุมชนเพื่อนชุมชน-ธรรมศาสตร์โมเดล ร่วมกับมหาวิทยาลัยธรรมศาสตร์ - วสช. แม่บ้านประมงเรือเล็กตากวน – อ่าวประดู่ - วสช.กลุ่มตัดเย็บเครื่องหนังชนันทน์วัชเครื่องหนัง - วสช.เกษตรอินทรีย์หอมมะหาด - วสช.ชากลูกหญ้าพัฒนา - วสช.หัตถกรรมสุขใจ - วสช.ครัวแม่ฉัน By Nana - วสช.มุมดินฟาร์มเกษตร - วสช.โคเนื้อบาร์มันบ้านแซมไฮซ์ - วสช.สวนเกษตรผสมผสาน ฐานเรียนรู้สวนคุณย่า ชุมชนหนองแฟบ | V23: สมาคมเพื่อนชุมชน ร่วมกับ มหาวิทยาลัยธรรมศาสตร์
F24: โครงการพัฒนารถเก็บขยะชายหาด (ปี 2565-2567) | V24: บริษัท ไออาร์พีซี จำกัด (มหาชน)
F25: โครงการพัฒนาทุ่นเตือนภัยลอยน้ำ (ปี 2565-2566)
F26: โครงการส่งเสริมเมืองอุตสาหกรรมเชิงนิเวศ 5 พิ้นที่
F27: โครงการพิเศษ โรงเรียนวัดปลวกเกตุ
F28: รถนิทรรศการปิโตรเคมีไออาร์พีซี
E29: ตัวชี้วัด 4.1.2 สัดส่วนโรงงานอุตสาหกรรมที่มีจำนวนแรงงานท้องถิ่น | F29: กิจกรรม Update ฐานข้อมูลพนักงานให้เป็นปัจจุบัน | V29: บริษัท ไออาร์พีซี จำกัด (มหาชน) สมาคมเพื่อนชุมชน
E30: ตัวชี้วัด 4.1.3 สัดส่วนโรงงานอุตสาหกรรมที่มีการจัดซื้อจัดจ้างสินค้าหรือบริการจากชุมชน หรือ ส่งเสริมอาชีพให้กับชุมชน หรือสนับสนุนให้เกิดความยั่งยืนทางด้าน การตลาด หรือพัฒนาหลักสูตรส่งเสริมอาชีพหรือทักษะแรงงาน | F30: ดำเนินกิจกกรมอย่างต่อเนื่องตามกรอบการดำเนินงานของ CSR-DIW & Eco factory | X30: 1504000
F31: โครงการสอนการขายสินค้าให้กลุ่มผู้สูงวัยให้กับคนในพื้นที่ - Elementary class (8-9 ต.ค. 63) - ntermediate class & Upper class (7-9 ธ.ค. 64) - Advance class ( ส.ค. 2565) | V31: สถาบันพัฒนาฝีมือแรงงาน 17
F32: โครงการตลาดนัดโรงงาน,แฟนเพจฝากร้านของชุมชน จากความร่วมมือของบริษัทต่างๆในพื้นที่ - ตลาดชอป ชิม ฟิน ถิ่นระยอง - สนับสนุนพื้นที่ขายสินค้าให้กับกลุ่มร้านค้าชุมชน - โปรโมทสินค้าชุมชนผ่านแคตตาล็อก - โปรโมทสินค้าชุมชนผ่านเพจ - Fanpage ฝากร้าน เพื่อสนับสนุนการขายสินค้า ของคนในชุมชนของจังหวัดระยอง จากบริษัทต่างๆ
E33: ตัวชี้วัด 4.1.4 อัตราการว่างงาน | F33: โครงการ ทดสอบมาตรฐานฝีมือแรงงาน " สาขาช่างไฟฟ้าภายในอาคาร ระดับ 1" ใฟ้กับแรงงานในสถานประกอบกิจการและบุคคลทั่วไป
F34: โครงการการประเมินและรับรองความรู้ความสามารถสาขาช่างไฟฟ้าภายในอาคาร Safty At Work
F35: โครงการการฝึกอบรมโครงการยกระดับแรงงานให้ได้มาตรฐานฝีมือแรงงานเพื่อรองรับการแข่งขันพัฒนาศักยภาพแรงงานเพื่อรองรับการจ่ายค่าจ้างตามาตรฐานฝีมือแรงงานสาขาช่างไฟฟ้าภายในอาคาร ระดับ 1 ให้กับพนักงานในสถานประกอบกิจการ
F36: โครงการการฝึกยกระดับเพื่อเพิ่มศักยภาพฝีมือและสมรรถนะแรงงาน หลักสูตรการฝึกยกระดับฝีมือ สาขา พนักงานควบคุมเครื่องจักรรถยก ระดับ1 (30 ชั่วโมง) ให้กับแรงงานในสถานประกอบกิจการ
F37: โครงการเพิ่มทักษะด้านอาชีพแก่เด็กนักเรียนที่ไม่ได้เรียนต่อหลังจบการศึกษาภาคบังคับ (กลุ่มคนว่างงาน) - การฝึกอบรม สาขาช่างตรวจเช็ดระยะรถยนต์ จำนวน 10 คน - การฝึกอบรม สาขาช่างเชื่อมอาร์กโลหะด้วยมือ จำนวน 6 คน - การฝึกอบรม สาขาเจ้าหน้าที่เทคโนโลยีสารสนเทศ จำนวน 1 คน
F38: โครงการเพิ่มทักษะด้านอาชีพแก่นักเรียนที่ไม่ได้เรียนต่อหลังจากจบการศึกษาภาคบังคับ - กิจกรรมปฐมนิเทศ 9 พฤษภาคม 2565 - พิธีไหว้ครู วันพฤหัสที่ 12 พฤษภาคม 2565 - ผู้รับการฝึกอบรม พร้อมเจ้าหน้าที่เข้าร่วมงาน"มหกรรม เส้นทางอาชีพและนัดพบแรงงานระยอง 2565 - วันที่ 26 พฤษภาคม 2565 นายเฉลิมพงษ์ บุญรอด รองอธิบดีกรมพัฒนาฝีมือแรงงาตรวจเยี่ยมให้กำลังใจผู้เข้ารับการฝึกอบรมหลักสูตรเตรียมเข้าทำงานตามโครงการฯ - รับมอบเสื้อประชาสัมพันธ์โครงการเพิ่มทักษะด้านอาชีพแก่นักเรียนที่ไม่ได้เรียนต่อหลังจบการศึกษาภาคบังคับ ในปีงบประมาณ พ.ศ. 2565 ที่ได้รับจากสำนักงานผู้ตรวจการแผ่นดิน
F39: กิจกรรมพาผู้เข้ารับการฝึกอบรมศึกษาดูงานก่อนออกฝึกงานสถานประกอบการ
F40: กิจกรรมพัฒนาฝีมือแรงงานสตรีเพื่อยกระดับคุณภาพชีวิต
...

Sheet ยุทธศาสตร์ที่ 5
E1: แผนปฏิบัติการตามแผนแม่บทเมืองอุตสาหกรรมเชิงนิเวศ จังหวัดระยอง
C2: แผนปฏิบัติการตามแผนแม่บทเมืองอุตสาหกรรมเชิงนิเวศ จังหวัดระยอง
C3: ยุทธศาสตร์ที่ 5 การพัฒนาสังคมและยกระดับคุณภาพชีวิต
C4: เป้าหมาย | D4: (1) พัฒนาชุมชนเป้าหมายให้รองรับความต้องการของอุตสาหกรรมในพื้นที่ และมีคุณภาพชีวิตที่ดีขึ้น
D5: (2) พัฒนาแรงงานอุตสาหกรรม ตามหลัก 3 ส. (สะอาด สุขภาวะ skill/ทักษะ) เพื่อรองรับอุตสาหกรรม
C6: ตัวชี้วัด | D6: (1) มีชุมชนเป้าหมายที่มีการเชื่อมโยงการพัฒนากับพื้นที่อุตสาหกรรมเป้าหมาย
D7: (2) มีการพัฒนาทักษะแรงงานตรงตามความต้องการภาคอุตสาหกรรม
C9: กลยุทธ์ | D9: ตัวชี้วัดโครงการ/กิจกรรม | E9: โครงการ/กิจกรรม | F9: พื้นที่เป้าหมาย | G9: แหล่งงบประมาณ | H9: งบประมาณรวม (บาท) | I9: ระยะเวลาดำเนินโครงการ | U9: หน่วยงานรับผิดชอบ | V9: งบประมาณรวม (บาท) | W9: หมายเหตุ
I10: ปีงบประมาณ 2565
I11: ต.ค. | J11: พ.ย. | K11: ธ.ค. | L11: ม.ค. | M11: ก.พ. | N11: มี.ค. | O11: เม.ย. | P11: พ.ค. | Q11: มิ.ย. | R11: ก.ค. | S11: ส.ค. | T11: ก.ย. | U11: หลัก/สนับสนุน
A12: 5. การพัฒนาสังคมและยกระดับคุณภาพชีวิต | B12: 1) พัฒนาชุมชนเป้าหมายให้รองรับความต้องการของอุตสาหกรรมในพื้นที่ และมีคุณภาพชีวิตที่ดีขึ้น | C12: 5.1 สร้างความเชื่อมโยงเศรษฐกิจชุมชน
C13: 5.1 ยกระดับการบริหารจัดการประชากรแฝงและแรงงานต่างชาติ | V13: =V13:V18 -> 0
B14: 2) พัฒนาแรงงานอุตสาหกรรม ตามหลัก 3ส (สะอาด สุขภาวะ skill/ทักษะ) เพื่อรองรับอุตสาหกรรม | C14: 5.2พัฒนาคุณภาพชีวิตและระบบสวัสดิการทางสังคมอย่างทั่วถึงและเป็นธรรม | D14: ตัวชี้วัด 17.1.1 การสร้างการมีส่วนร่วมในการพัฒนาชุมชนตามบริบทของเมืองอุตสาหกรรมเชิงนิเวศ | E14: โครงการขอรับรองมาตรฐานความรับผิดชอบต่อสังคม (CSR-DIW) จำนวน 13 โรงงาน | U14: บริษัท ไออาร์พีซี จำกัด (มหาชน) | V14: 1504800
D15: ตัวชี้วัด 16.1.1 สัดส่วนของโรงงานอุตสาหกรรมที่มีการดำเนินงาน ตามแนวทางการเป็นที่ทำงานมีความสุข (Happy Workplace) | E15: โครงการ Happy Body (สุขภาพดี) | U15: บริษัท ไออาร์พีซี จำกัด (มหาชน) และบริษัทในพื้นที่เขตควบคุมมลพิษมาบตาพุด
D16: เขตควบคุมมลพิษ มาบตาพุด | E16: Happy Heart (น้ำใจงาม)
D17: เขตประกอบ ไออาร์พีซี | E17: โครงการ Happy Relax (ผ่อนคลาย)
E18: โครงการ Happy Brain (หาความรู้)
E19: โครงการ Happy Soul (ทางสงบ)
E20: โครงการ Happy Money (ปลอดหนี้)
E21: โครงการ Happy Family (ครอบครัวดี)
E22: โครงการ Happy Society (สังคมดี)
D23: ตัวชี้วัด 17.1.2 ความพึงพอใจของชุมชน | E23: กิจกรรมประชาสัมพันธ์การซ้อมแผนฉุกเฉิน ให้ชุมชนรับทราบในวงกว้างมากขึ้น
E24: กิจกรรมประชาสัมพันธ์โครงการ CSR ผ่านสื่อโซเชี่ยลต่างๆ
E25: โครงการผู้บริหารระดับสูง ลงพื้นที่พบปะชุมชน
E26: 5.1.7 ฝึกอบรมส่งเสริมอาชีพประชาชน - จัดอบรมอาชีพระยะสั้นให้แก่ประชาชนทั่วไป/เยาวชน/กลุ่มสตรีวัยทำงาน จำนวน 30 คน (ผู้เข้ารับการฝึกอบรมเกิดทักษะความรู้ความเข้าใจเกี่ยวกับการสร้างรายได้ และใช้เวลาว่างให้เป็นประโยชน์)
D28: ตัวชี้วัดที่ 17.1.5 ระดับความสำเร็จการเร็จการดำเนินการตามแผนพัฒนาทักษะการประกอบวิชาชีพและคุณภาพชีวิต | E28: 5.2.5 อัตราการเจ็บป่วยจากโรคจากการประกอบอาชีพ | V28: 350000 (ได้รับงบประมาณปี 2565 จำนวน 70,000 บาท)
E29: โครงการส่งเสริมและพัฒนาศักยภาพผู้สูงอายุ (หลักสูตรโรงเรียนผู้สูงอายุเทศบาลตำบลเชิงเนิน รุ่นที่ 2/2) | U29: เทศบาลตำบลเชิงเนิน
E30: โครงการจิตอาสาพัฒนาสิ่งแวดล้อม | U30: เทศบาลตำบลเชิงเนิน
E31: กิจกรรมอบรมเชิงปฏิบัติการให้ความรู้ในการป้องกันโรคติดเชื้อไวรัสโคโรนา 2019 (COVID-19) และการจัดทำหน้ากากอนามัยเพื่อป้องกันตนเอง | U31: เทศบาลตำบลเชิงเนิน
E32: โครงการฟันสวย ยิ้มใส ใส่ใจสุขภาพช่องปาก | U32: เทศบาลตำบลเชิงเนิน
E33: โครงการของขวัญปีใหม่ "มท.สร้างสุข (Happy Creation) : (ปันรัก ปันสุข นั่งลุกสบาย) | U33: เทศบาลตำบลเชิงเนิน
E34: โรงเรียนผู้สูงอายุ องค์การบริหารส่วนตำบลตะพง | U34: องค์การบริหารส่วนตำบลตะพง
E35: รณรงค์ ทำความสะอาด และกำจัดแหล่งเพาะพันธุ์ยุง | U35: องค์การบริหารส่วนตำบลตะพง
E36: การสำรวจความพึงพอใจของชุมชนและข้าราชการ/ผู้นำชุมชนโดยรอบเขตประกอบการอุตสาหกรรมไออาร์พีซี | U36: บริษัท ไออาร์พีซี จำกัด (มหาชน)
E37: โครงการโรงเรียนเชิงนิเวศโรงเรียนวัดกรอกยายชา
E38: โครงการเสริมสมาธิสร้างปัญญา | U38: เทศบาลตำบลทับมา
E39: โครงการส่งเสริมและพัฒนาศักยภาพของผู้สูงอายุ | U39: เทศบาลตำบลมาบข่าพัฒนา
E40: เยี่ยมครอบครัวผู้มีรายได้น้อยที่ประสบปัญหาความเดือดร้อนทางสังคม | U40: เทศบาลตำบลมาบข่าพัฒนา
E41: โครงการอาหารปลอดภัย | U41: เทศบาลตำบลมาบข่าพัฒนา
E42: ช่วยเหลือผู้ประสบอัคคีภัย | U42: เทศบาลตำบลบ้านฉาง
...

Sheet ยุทธศาสตร์ที่ 6
D1: แผนปฏิบัติการตามแผนแม่บทเมืองอุตสาหกรรมเชิงนิเวศ จังหวัดระยอง
D2: ยุทธศาสตร์ที่ 6 การพัฒนาระบบการบริหารจัดการองค์ความรู้และบุคลากร
D3: เป้าหมาย | E3: (1) มีการบริหารจัดการของภาคส่วนที่เกี่ยวข้องในเชิงบูรณาการเพื่อรองรับเมืองอุตสาหกรรมเชิงนิเวศ
D4: ตัวชี้วัด | E4: (1) มีโครงสร้างบุคลากรและงบประมาณในการดำเนินงานที่ชัดเจน
E5: (2) มีฐานข้อมูลเมืองอุตสาหกรรมเชิงนิเวศ
E6: (3) กฎระเบียบและมาตรการที่เอื้อต่อการพัฒนาในเชิงบูรณาการที่ได้รับการปรับปรุง
A7: ยุทธศาสตร์ | B7: เป้าประสงค์ | C7: ตัวชี้วัด | D7: กลยุทธ์ | E7: ตัวชี้วัดโครงการ/กิจกรรม | F7: โครงการ/กิจกรรม | G7: พื้นที่เป้าหมาย | H7: แหล่งงบประมาณ | I7: งบประมาณรวม (บาท) | J7: ระยะเวลาดำเนินโครงการ | V7: หน่วยงานรับผิดชอบ | W7: แหล่งงบประมาณ | X7: งบประมาณรวม (บาท) | Y7: หมายเหตุ
J8: ปีงบประมาณ 2565
J9: ต.ค. | K9: พ.ย. | L9: ธ.ค. | M9: ม.ค. | N9: ก.พ. | O9: มี.ค. | P9: เม.ย. | Q9: พ.ค. | R9: มิ.ย. | S9: ก.ค. | T9: ส.ค. | U9: ก.ย. | V9: หลัก/สนับสนุน
A10: 6. การพัฒนาระบบการบริหารจัดการองค์ความรู้และบุคลากร | B10: 1) มีการบริหารจัดการของภาคส่วนที่เกี่ยวข้องในเชิงบูรณาการเพื่อรองรับเมืองอุตสาหกรรมเชิงนิเวศ | C10: (1) มีโครงสร้างบุคลากรและงบประมาณในการดำเนินงานที่ชัดเจน | D10: 6.1 วางระบบการบริหารจัดการเชิงบูรณาการทั้งด้านระบบการจัดการ การพัฒนาบุคลากรและการจัดการความรู้
D11: 6.1 วางระบบการบริหารจัดการเชิงบูรณาการทั้งด้านระบบการจัดการ การพัฒนาบุคลากรและการจัดการความรู้ | E11: ตัวชี้วัด 20.1.1 การสื่อสารและการเปิดเผยข้อมูลของเมืองอุตสาหกรรมเชิงนิเวศ ในรูปแบบ ช่องทาง และความถี่ในการสื่อสารในลักษณะต่าง ๆ อย่างมีประสิทธิผล | F11: การสื่อสารภายในบริษัท ผ่าน Envi. news | V11: บริษัท ไออาร์พีซี จำกัด (มหาชน) | W11: งบประมาณบริษัท ไออาร์พีซี จำกัด (มหาชน)
F12: การสื่อสารผ่านคณะกรรมการพหุภาคี
F13: กิจกรรมปรับปรุง เพิ่มเติมฟังค์ชั่นการทำงานของ Mobile application IRPC Air
F14: โครงการ open house เปิดบ้านสานสัมพันธ์ของ CSR | X14: 338000
E15: ตัวชี้วัดที่ 18.1.1 แผนและผลการดำเนินงานของคณะทำงานเมืองอุตสาหกรรมเชิงนิเวศ | F15: กิจกรรมประชุมคณะกรรมการพัฒนาเมืองอุตสาหกรรมเชิงนิเวศจังหวัดระยอง/คณะทำงานขับเคลื่อนการพัฒนาเมืองอุตสาหกรรมเชิงนิเวศ และเครือข่ายอุตสาหกรรมเชิงนิเวศ (Eco Network) | V15: บริษัท ไออาร์พีซี จำกัด (มหาชน), สอจ.ระยอง, สมาคมเพื่อนชุมชน, โยธาธิการและผังเมือง, ทสจ.
F16: จัดตั้งคณะทำงานกลุ่มย่อยการพัฒนาเมืองอุตสาหกรรมเชิงนิเวศ เพื่อขับเคลื่อนงานร่วมกับจังหวัดระยอง และผลัส่งเสริมให้เกิด Eco Factory ทั้งในและนอกกลุ่มเพื่อนชุมชน เช่น เป็นพี่เลี้ยง แบ่งปันประสบการณ์ สู่ Eco Industry Town โดยเพื่อนช่วยเพื่อน - Show&Share | V16: สมาคมเพื่อนชุมชน | X16: 140000
E17: ตัวชี้วัดที่ 18.1.1 แผนและผลการดำเนินงานของคณะทำงานเมืองอุตสาหกรรมเชิงนิเวศ | F17: กิจกรรม Eco Innovation สร้างความเชื่อมั่น : เผยแพร่ต้นแบบเมืองอุตสาหกรรมเชิงนิเวศ ร่วมกับ กรมโรงงาน/สอจ./IEAT/จังหวัด/อปท. | V17: สมาคมเพื่อนชุมชน | X17: 200000
F18: กิจกรรมประชาสัมพันธ์โครงการ CSR ผ่านสื่อโซเชี่ยลต่างๆ
F19: โครงการผู้บริหารระดับสูง ลงพื้นที่พบปะชุมชน
E20: ตัวชี้วัด 18.1.1 การจัดตั้งคณะทำงานในการพัฒนาอุตสาหกรรมเชิงนิเวศของสำนักงานอุตสาหกรรมจังหวัดระยอง | F20: จัดทำคำสั่งคณะทำงานฯ 5 มิติ | V20: สอจ.ระยอง
D21: 6.2 พัฒนาฐานข้อมูลเมืองอุตสาหกรรมเชิงนิเวศ | E21: 1. ฐานข้อมูลระบบการจัดการมลพิษ 2. ข้อมูลข้อคิดเห็น ข้อเสนอแนะ แนวทาง และข้อจำกัดต่างๆ 3. แนวทางในการพัฒนาระบบจัดการมลพิษที่เหมาะสม 4.องค์ความรู้การจัดการระบบการจัดการมลพิษ | F21: โครงการวิจัยและพัฒนานวัตกรรมการจัดการมลพิษอุตสาหกรรม เพื่อสนับสนุนเมืองอุตสาหกรรมเชิงนิเวศ | G21: 2 พื้นที่เป้าหมายจังหวัดระยอง | H21: งบกระทรวง (กระทรวงอุตสาหกรรม) | I21: 2500000 (ไม่ได้รับงบประมาณ ปี 2565) | V21: กรมโรงงานอุตสาหกรรม | W21: งบกระทรวง (กระทรวงอุตสาหกรรม) | X21: 2,500,000 | Y21: (ไม่ได้รับงบประมาณ ปี 2565)
F22: - จัดทำแผนการดำเนินโครงการ - ศึกษาสถานการณ์ปัญหามลพิษ ระบบการจัดการมลพิษ - ศึกษาและวิเคราะห์เทคโนโลยีการจัดการมลพิษ และมาตรการในการจัดการมลพิษอุตสาหกรรม - ประเมินศักยภาพของพื้นที่ เพื่อกำหนดแนวทางในการพัฒนาระบบการจัดการมลพิษ
F23: - ศึกษาดูงานระบบการจัดการมลพิษด้านน้ำ อากาศ กากอุตสาหกรรม ที่เหมาะสมกับพื้นที่อุตสาหกรรม เขตประกอบการอุตสาหกรรม/นิคมอุตสาหกรรม - จัดสัมมนาและเผยแพร่ผลการดำเนินโครงการ
C24: (3) กฎระเบียบและมาตรการที่เอื้อต่อการพัฒนาในเชิงบูรณาการที่ได้รับการปรับปรุง | D24: 6.3 ปรับปรุงกฎระเบียบและสร้างแรงจูงใจที่เอื้อต่อการพัฒนาเมืองอุตสาหกรรมเชิงนิเวศ | E24: 1.ต้นแบบการปรับปรุงกฏหมาย กฎระเบียบ และข้อกำหนดที่เกี่ยวข้อง 2.ฐานข้อมูลกฎหมาย กฎระเบียบ ข้อกำหนดที่เกี่ยวข้องสำหรับการดำเนินการพัฒนาเมืองอุตสาหกรรมเชิงนิเวศ | F24: โครงการศึกษาเพื่อปรับปรุงกฎระเบียบให้เอื้อต่อการพัฒนาเมืองอุตสาหกรรมเชิงนิเวศ - ศึกษาเพื่อปรับปรุงกฎระเบียบที่เกี่ยวข้องให้เอื้อต่อการส่งเสริมและพัฒนาเมืองอุตสาหกรรมเชิงนิเวศ | G24: เขตอุตสาหกรรมหนาแน่น | H24: งบกรมโรงงานอุตสาหกรรม กระทรวงอุตสาหกรรม | I24: 3000000 (ไม่ได้รับงบประมาณ ปี 2565) | V24: กรมโรงงานอุตสาหกรรม และสำนักงานอุตสาหกรรมจังหวัด | W24: งบกรมโรงงานอุตสาหกรรม กระทรวงอุตสาหกรรม | X24: 3,000,000 | Y24: (ไม่ได้รับงบประมาณ ปี 2565)
D25: 6.4 เพิ่มศักยภาพบุคลากรและพัฒนาระบบการทำงานแบบมีส่วนร่วม | E25: ตัวชี้วัด 18.1.1 การจัดตั้งคณะทำงานในการพัฒนาอุตสาหกรรมเชิงนิเวศของสำนักงานอุตสาหกรรมจังหวัดระยอง | F25: กิจกรรมประชุมคณะกรรมการพัฒนาเมืองอุตสาหกรรมเชิงนิเวศจังหวัดระยอง/ คณะทำงานการขับเคลื่อนอุตสาหกรรมเชิงนิเวศ และเครือข่ายอุตสาหกรรมเชิงนิเวศ (Eco Network) พื้นที่เขตควบคุมมลพิษจังหวัดระยอง และพื้นที่เขตประกอบการไออาร์พีซี | V25: บริษัท ไออาร์พีซี จำกัด (มหาชน) | W25: งบประมาณบริษัท ไออาร์พีซี จำกัด (มหาชน)
D26: 6.4 เพิ่มศักยภาพบุคลากรและพัฒนาระบบการทำงานแบบมีส่วนร่วม | F26: โครงการยกระดับการพัฒนาเมืองอุตสาหกรรมเชิงนิเวศที่มีคุณค่าต่อสังคม (Eco Social plus Social Value : Eco Factory+sv) และขับเคลื่อนแผนธุรกิจ (Business Model) ในพื้นที่เป้าหมายการพัฒนาเมืองอุตสาหกรรมเชิงนิเวศ | X26: 1624800
E27: ตัวชี้วัด 19.1.1 สัดส่วนโรงงานอุตสาหกรรมที่ได้รับการรับรองอุตสาหกรรมสีเขียว (Green Industry) ตั้งแต่ระดับที่ 2 ขึ้นไป หรือ CSR Beginner หรือระบบการจัดการอื่นที่เทียบเท่า | F27: ต่ออายุการรับรองโรงงานอุตสาหกรรมเชิงนิเวศ (Eco factory) 11 โรงงาน - แผนการตรวจประเมิน ISO 14001 (โดยสถาบันรับรองมาตรฐาน ISO) - โครงการขอรับรองมาตรฐานความรับผิดชอบต่อสังคม (CSR-DIW) จำนวน 13 โรงงาน | V27: บริษัท ไออาร์พีซี จำกัด (มหาชน) | W27: งบประมาณบริษัท ไออาร์พีซี จำกัด (มหาชน)
F28: ขอการรับรอง GI5 เพิ่มเติมจำนวน 6 โรงงาน
F29: กิจกรรมตรวจประเมิน ISO 14001 (ภายใน)
F30: กิจกรรมตรวจประเมิน ISO 14001 (โดยสถาบันรับรองมาตรฐาน ISO)
F31: โครงการขอรับรองมาตรฐานความรับผิดชอบต่อสังคม (CSR-DIW) จำนวน 13 โรงงาน
E32: ตัวชี้วัดที่ 17.1.5 ระดับความสำเร็จการเร็จการดำเนินการตามแผนพัฒนาทักษะการประกอบวิชาชีพและคุณภาพชีวิต | F32: ฝึกอบรมส่งเสริมอาชีพประชาชน - จัดอบรมอาชีพระยะสั้นให้แก่ประชาชนทั่วไป/เยาวชน/กลุ่มสตรีวัยทำงาน จำนวน 30 คน (ผู้เข้ารับการฝึกอบรมเกิดทักษะความรู้ความเข้าใจเกี่ยวกับการสร้างรายได้ และใช้เวลาว่างให้เป็นประโยชน์) | V32: กองสวัสดิการสังคม เทศบาลเมืองมาบตาพุด | W32: เทศบาล ตำบลทับมา | X32: 350,000 | Y32: (ได้รับงบประมาณปี 2565 จำนวน 70,000 บาท)
E33: ตัวชี้วัดที่ 20.2.1 การสื่อสารและเผยแพร่ข้อมูล การจัดการด้านความปลอดภัย สิ่งแวดล้อม และสารเคมี ของโรงงานต่อสาธารณะ | F33: กิจกรรมทบทวนและซ้อมแผนฉุกเฉินชุมชน รวมทั้ง อบรมให้ความรู้ด้านความปลอดภัย และสารเคมี | V33: สมาคมเพื่อนชุมชน | X33: 200000
F34: โครงการอบรมให้ความรู้เรื่องความปลอดภัยและสารเคมีให้กับทางประชาชนในพื้นที่ | V34: อปท.ทม.มาบตาพุด
F35: จัดทำรายงานผลการปฏิบัติตามมาตรการป้องกันและลดผลกระทบสิ่งแวดล้อม และมาตรการติดตามตรวจสอบคุณภาพสิ่งแวดล้อม | V35: โรงงาน (เขตควบคุมมลพิษ มาตาพุด) ดำเนินการ ตามคำสั่ง กนอ. สทร.
F36: การเผยแพร่ และนำเสนอผลการตรวจวัด
F37: การวัดระดับความพึงพอใจในการเข้าถึงข้อมูลของชุมชนโดยรอบนิคมอุตสาหกรรมในรัศมีอย่างน้อย 5 กิโลเมตร
F38: กิจกรรมการสื่อสารข้อมูลเมืองอุตสาหกรรมเชิงนิเวศผ่านระบบจอแสดงผลขนาดใหญ่
F39: กิจกรรมการสื่อสารข้อมูลผ่านระบบ Line/Facebook
F40: โครงการพัฒนาระบบสื่อสารรายงานคุณภาพอากาศ ออนไลน์
...

Sheet แยกงบประมาณ
A1: โครงการจังหวัด/ท้องถิ่น | B1: ย.1 | D1: ย.2 | F1: ย.3 | H1: ย.4 | J1: ย.5 | L1: ย.6 | N1: รวม
B2: จน.โครงการ | C2: งบ | D2: จน.โครงการ | E2: งบ | F2: จน.โครงการ | G2: งบ | H2: จน.โครงการ | I2: งบ | J2: จน.โครงการ | K2: งบ | L2: จน.โครงการ | M2: งบ | N2: จน.โครงการ | O2: งบ
A3: งบจังหวัด | B3: 0 | C3: 0 | D3: 2 | E3: =#REF!+#REF! -> #REF! | F3: 8 | G3: =#REF!+#REF!+#REF!+#REF!+#REF!+#REF!+#REF!+#REF! -> #REF! | H3: 4 | I3: =#REF!+#REF!+#REF!+#REF! -> #REF! | J3: 6 | K3: ='ยุทธศาสตร์ที่ 5'!#REF!+'ยุทธศาสตร์ที่ 5'!#REF!+'ยุทธศาสตร์ที่ 5'!#REF!+'ยุทธศาสตร์ที่ 5'!#REF!+'ยุทธศาสตร์ที่ 5'!#REF! -> #REF! | L3: 0 | M3: 0 | N3: =B3+D3+F3+H3+J3+L3 -> 20 | O3: =C3+E3+G3+I3+K3+M3 -> #REF!
A4: งบกระทรวง | B4: 0 | C4: 0 | D4: 10 | E4: =#REF!+#REF!+#REF!+#REF!+#REF!+#REF!+#REF!+#REF!+#REF!+#REF! -> #REF! | F4: 2 | G4: =#REF!+#REF! -> #REF! | H4: 1 | I4: =#REF! -> #REF! | J4: 7 | K4: ='ยุทธศาสตร์ที่ 5'!#REF!+'ยุทธศาสตร์ที่ 5'!#REF!+'ยุทธศาสตร์ที่ 5'!#REF!+'ยุทธศาสตร์ที่ 5'!#REF!+'ยุทธศาสตร์ที่ 5'!#REF!+'ยุทธศาสตร์ที่ 5'!#REF!+'ยุทธศาสตร์ที่ 5'!#REF! -> #REF! | L4: 0 | M4: 0 | N4: =B4+D4+F4+H4+J4+L4 -> 20 | O4: =C4+E4+G4+I4+K4+M4 -> #REF!
A5: งบท้องถิ่น | B5: 3 | C5: ='ยุทธศาสตร์ที่ 1'!#REF!+'ยุทธศาสตร์ที่ 1'!#REF!+'ยุทธศาสตร์ที่ 1'!#REF! -> #REF! | D5: 0 | E5: 0 | F5: 9 | G5: =#REF!+#REF!+#REF!+#REF!+#REF!+#REF!+#REF!+#REF!+#REF! -> #REF! | H5: 0 | I5: 0 | J5: 2 | K5: ='ยุทธศาสตร์ที่ 5'!#REF!+'ยุทธศาสตร์ที่ 5'!#REF! -> #REF! | L5: 0 | M5: 0 | N5: =B5+D5+F5+H5+J5+L5 -> 14 | O5: =C5+E5+G5+I5+K5+M5 -> #REF!
A6: งบเอกชน | B6: 0 | C6: 0 | D6: 0 | E6: 0 | F6: 1 | G6: 0 | H6: 0 | I6: 0 | J6: 0 | K6: 0 | L6: 0 | M6: 0 | N6: =B6+D6+F6+H6+J6+L6 -> 1 | O6: =C6+E6+G6+I6+K6+M6 -> 0
A7: งบ กนอ. | B7: 0 | C7: 0 | D7: 1 | E7: =#REF! -> #REF! | F7: 3 | G7: =#REF!+#REF!+#REF! -> #REF! | H7: 0 | I7: 0 | J7: 0 | K7: 0 | L7: 3 | M7: ='ยุทธศาสตร์ที่ 6'!#REF!+'ยุทธศาสตร์ที่ 6'!#REF!+'ยุทธศาสตร์ที่ 6'!#REF! -> #REF! | N7: =B7+D7+F7+H7+J7+L7 -> 7 | O7: =C7+E7+G7+I7+K7+M7 -> #REF!
B8: =SUM(B3:B7) -> 3 | C8: =SUM(C3:C7) -> #REF! | D8: =SUM(D3:D7) -> 13 | E8: =SUM(E3:E7) -> #REF! | F8: =SUM(F3:F7) -> 23 | G8: =SUM(G3:G7) -> #REF! | H8: =SUM(H3:H7) -> 5 | I8: =SUM(I3:I7) -> #REF! | ... O8: =SUM(O3:O7) -> #REF!
A10: โครงการเพิ่มเติม | B10: ย.1 | D10: ย.2 | F10: ย.3 | H10: ย.4 | J10: ย.5 | L10: ย.6 | N10: รวม
B11: จน.โครงการ | C11: งบ | D11: จน.โครงการ | E11: งบ | F11: จน.โครงการ | G11: งบ | H11: จน.โครงการ | I11: งบ | J11: จน.โครงการ | K11: งบ | L11: จน.โครงการ | M11: งบ | N11: จน.โครงการ | O11: งบ
A12: งบจังหวัด | B12: 0 | C12: 0 | D12: 1 | E12: =#REF! -> #REF! | F12: 0 | G12: 0 | H12: 0 | I12: 0 | J12: 0 | K12: 0 | L12: 0 | M12: 0 | N12: =B12+D12+F12+H12+J12+L12 -> 1 | O12: =C12+E12+G12+I12+K12+M12 -> #REF!
A13: งบกระทรวง | B13: 2 | C13: ='ยุทธศาสตร์ที่ 1'!I9+'ยุทธศาสตร์ที่ 1'!#REF! -> #REF! | D13: 1 | E13: =#REF! -> #REF! | F13: 10 | G13: =#REF!+#REF!+#REF!+#REF!+#REF!+#REF!+#REF!+#REF!+#REF!+#REF! -> #REF! | H13: 2 | I13: =#REF!+#REF! -> #REF! | J13: 1 | K13: ='ยุทธศาสตร์ที่ 5'!#REF! -> #REF! | L13: 4 | M13: ='ยุทธศาสตร์ที่ 6'!#REF!+'ยุทธศาสตร์ที่ 6'!#REF!+'ยุทธศาสตร์ที่ 6'!#REF!+'ยุทธศาสตร์ที่ 6'!#REF! -> #REF! | N13: =B13+D13+F13+H13+J13+L13 -> 20 | O13: =C13+E13+G13+I13+K13+M13 -> #REF!
A14: งบอุดหนุน | B14: 0 | C14: 0 | D14: 2 | E14: =#REF!+#REF! -> #REF! | F14: 7 | G14: =#REF!+#REF!+#REF!+#REF!+#REF!+#REF!+#REF! -> #REF! | H14: 1 | I14: =#REF! -> #REF! | J14: 2 | K14: ='ยุทธศาสตร์ที่ 5'!#REF!+'ยุทธศาสตร์ที่ 5'!#REF! -> #REF! | L14: 0 | M14: 0 | N14: =B14+D14+F14+H14+J14+L14 -> 12 | O14: =C14+E14+G14+I14+K14+M14 -> #REF!
A15: งบเอกชน | B15: 1 | C15: 0 | D15: 2 | E15: 0 | F15: 5 | G15: =#REF!+#REF!+#REF! -> #REF! | H15: 3 | I15: =#REF! -> #REF! | J15: 15 | K15: ='ยุทธศาสตร์ที่ 5'!#REF!+'ยุทธศาสตร์ที่ 5'!#REF!+'ยุทธศาสตร์ที่ 5'!#REF!+'ยุทธศาสตร์ที่ 5'!#REF!+'ยุทธศาสตร์ที่ 5'!#REF!+'ยุทธศาสตร์ที่ 5'!#REF!+'ยุทธศาสตร์ที่ 5'!#REF!+'ยุทธศาสตร์ที่ 5'!#REF!+'ยุทธศาสตร์ที่ 5'!#REF! -> #REF! | L15: 1 | M15: 0 | N15: =B15+D15+F15+H15+J15+L15 -> 27 | O15: =C15+E15+G15+I15+K15+M15 -> #REF!
A16: งบ กนอ. | B16: 0 | C16: 0 | D16: 0 | E16: 0 | F16: 0 | G16: 0 | H16: 0 | I16: 0 | J16: 0 | K16: 0 | L16: 0 | M16: 0 | N16: =B16+D16+F16+H16+J16+L16 -> 0 | O16: =C16+E16+G16+I16+K16+M16 -> 0
B17: =SUM(B12:B16) -> 3 | C17: =SUM(C12:C16) -> #REF! | D17: =SUM(D12:D16) -> 6 | E17: =SUM(E12:E16) -> #REF! | F17: =SUM(F12:F16) -> 22 | G17: =SUM(G12:G16) -> #REF! | H17: =SUM(H12:H16) -> 6 | I17: =SUM(I12:I16) -> #REF! | ... O17: =SUM(O12:O16) -> #REF!
A20: เพิ่มเติม/บูรณาการ | B20: ย.1 | D20: ย.2 | F20: ย.3 | H20: ย.4 | J20: ย.5 | L20: ย.6 | N20: รวม
B21: จน.โครงการ | C21: งบ | D21: จน.โครงการ | E21: งบ | F21: จน.โครงการ | G21: งบ | H21: จน.โครงการ | I21: งบ | J21: จน.โครงการ | K21: งบ | L21: จน.โครงการ | M21: งบ | N21: จน.โครงการ | O21: งบ
L22: 6 | M22: ='ยุทธศาสตร์ที่ 6'!I10+'ยุทธศาสตร์ที่ 6'!#REF!+'ยุทธศาสตร์ที่ 6'!#REF!+'ยุทธศาสตร์ที่ 6'!#REF!+'ยุทธศาสตร์ที่ 6'!#REF!+'ยุทธศาสตร์ที่ 6'!#REF! -> #REF! | N22: =L22 -> 6 | O22: =M22 -> #REF!
D23: *งบขนส่งทางบก
B25: =B8+B17 -> 6 | C25: =C8+C17 -> #REF! | D25: =D8+D17 -> 19 | E25: =E8+E17 -> #REF! | F25: =F8+F17 -> 45 | G25: =G8+G17 -> #REF! | H25: =H8+H17 -> 11 | I25: =I8+I17 -> #REF! | ... M25: =M8+M17 -> #REF! | N25: =N8+N17+N22 -> 128 | O25: =O8+O17+O22 -> #REF!

Sheet งบประมาณเพิ่มเติม (หนาแน่น)
A1: ลำดับที่ | B1: โครงการ | C1: แหล่งงบประมาณ | D1: งบประมาณรวม (ล้านบาท) | E1: ระยะเวลาดำเนินโครงการ | J1: หน่วยงานรับผิดชอบ
E2: 60 | F2: 61 | G2: 62 | H2: 63 | I2: 64 | J2: หลัก | K2: สนับสนุน
C4: =B8+B14+B36+B47+B58+B64 -> 29 | D4: =D8+D14+D36+D47+D58+D64 -> #REF! | E4: =E8+E14+E36+E47+E58+E64 -> #REF! | F4: =F8+F14+F36+F47+F58+F64 -> #REF! | G4: =G8+G14+G36+G47+G58+G64 -> #REF! | H4: =H8+H14+H36+H47+H58+H64 -> #REF! | I4: =I8+I14+I36+I47+I58+I64 -> #REF!
A5: ยุทธศาสตร์ที่ 1 การจัดทำผังเมืองที่เหมาะสมกับศักยภาพพื้นที่
A6: 1 | B6: ='ยุทธศาสตร์ที่ 1'!#REF! -> #REF! | C6: ='ยุทธศาสตร์ที่ 1'!#REF! -> #REF! | D6: ='ยุทธศาสตร์ที่ 1'!#REF! -> #REF! | E6: ='ยุทธศาสตร์ที่ 1'!#REF! -> #REF! | F6: ='ยุทธศาสตร์ที่ 1'!#REF! -> #REF! | G6: ='ยุทธศาสตร์ที่ 1'!#REF! -> #REF! | H6: ='ยุทธศาสตร์ที่ 1'!#REF! -> #REF! | I6: ='ยุทธศาสตร์ที่ 1'!#REF! -> #REF! | ... N6: ='ยุทธศาสตร์ที่ 1'!#REF! -> #REF!
A8: รวม | B8: =COUNT(A6:A7) -> 1 | C8: โครงการ | D8: =SUM(D6:D7) -> #REF! | E8: =SUM(E6:E7) -> #REF! | F8: =SUM(F6:F7) -> #REF! | G8: =SUM(G6:G7) -> #REF! | H8: =SUM(H6:H7) -> #REF! | I8: =SUM(I6:I7) -> #REF!
A9: ยุทธศาสตร์ที่ 2 การปรับปรุงระบบโครงสร้างพื้นฐานเพื่อรองรับการพัฒนาเศรษฐกิจและสังคม
A10: 1 | B10: =#REF! -> #REF! | C10: =#REF! -> #REF! | D10: =#REF! -> #REF! | E10: =#REF! -> #REF! | F10: =#REF! -> #REF! | G10: =#REF! -> #REF! | H10: =#REF! -> #REF! | I10: =#REF! -> #REF! | ... M10: =#REF! -> #REF!
A11: 2 | B11: =#REF! -> #REF! | C11: =#REF! -> #REF! | D11: =#REF! -> #REF! | E11: =#REF! -> #REF! | F11: =#REF! -> #REF! | G11: =#REF! -> #REF! | H11: =#REF! -> #REF! | I11: =#REF! -> #REF! | ... N11: =#REF! -> #REF!
A12: 3 | B12: =#REF! -> #REF! | C12: =#REF! -> #REF! | D12: =#REF! -> #REF! | E12: =#REF! -> #REF! | F12: =#REF! -> #REF! | G12: =#REF! -> #REF! | H12: =#REF! -> #REF! | I12: =#REF! -> #REF! | ... N12: =#REF! -> #REF!
A14: รวม | B14: =COUNT(A10:A13) -> 3 | C14: โครงการ | D14: =SUM(D10:D13) -> #REF! | E14: =SUM(E10:E13) -> #REF! | F14: =SUM(F10:F13) -> #REF! | G14: =SUM(G10:G13) -> #REF! | H14: =SUM(H10:H13) -> #REF! | I14: =SUM(I10:I13) -> #REF!
A15: ยุทธศาสตร์ที่ 3 การยกระดับการจัดการสิ่งแวดล้อมและความปลอดภัยในพื้นที่
A16: 1 | B16: =#REF! -> #REF! | C16: =#REF! -> #REF! | D16: =#REF! -> #REF! | E16: =#REF! -> #REF! | F16: =#REF! -> #REF! | G16: =#REF! -> #REF! | H16: =#REF! -> #REF! | I16: =#REF! -> #REF! | ... N16: =#REF! -> #REF!
A17: 2 | B17: =#REF! -> #REF! | C17: =#REF! -> #REF! | D17: =#REF! -> #REF! | E17: =#REF! -> #REF! | F17: =#REF! -> #REF! | G17: =#REF! -> #REF! | H17: =#REF! -> #REF! | I17: =#REF! -> #REF! | ... N17: =#REF! -> #REF!
A18: 3 | B18: =#REF! -> #REF! | C18: =#REF! -> #REF! | D18: =#REF! -> #REF! | E18: =#REF! -> #REF! | F18: =#REF! -> #REF! | G18: =#REF! -> #REF! | H18: =#REF! -> #REF! | I18: =#REF! -> #REF! | ... N18: =#REF! -> #REF!
A19: 4 | B19: =#REF! -> #REF! | C19: =#REF! -> #REF! | D19: =#REF! -> #REF! | E19: =#REF! -> #REF! | F19: =#REF! -> #REF! | G19: =#REF! -> #REF! | H19: =#REF! -> #REF! | I19: =#REF! -> #REF! | ... N19: =#REF! -> #REF!
A20: 5 | B20: =#REF! -> #REF! | C20: =#REF! -> #REF! | D20: =#REF! -> #REF! | E20: =#REF! -> #REF! | F20: =#REF! -> #REF! | G20: =#REF! -> #REF! | H20: =#REF! -> #REF! | I20: =#REF! -> #REF! | ... N20: =#REF! -> #REF!
A21: 6 | B21: =#REF! -> #REF! | C21: =#REF! -> #REF! | D21: =#REF! -> #REF! | E21: =#REF! -> #REF! | F21: =#REF! -> #REF! | G21: =#REF! -> #REF! | H21: =#REF! -> #REF! | I21: =#REF! -> #REF! | ... N21: =#REF! -> #REF!
A22: 7 | B22: =#REF! -> #REF! | C22: =#REF! -> #REF! | D22: =#REF! -> #REF! | E22: =#REF! -> #REF! | F22: =#REF! -> #REF! | G22: =#REF! -> #REF! | H22: =#REF! -> #REF! | I22: =#REF! -> #REF! | ... N22: =#REF! -> #REF!
A23: 8 | B23: =#REF! -> #REF! | C23: =#REF! -> #REF! | D23: =#REF! -> #REF! | E23: =#REF! -> #REF! | F23: =#REF! -> #REF! | G23: =#REF! -> #REF! | H23: =#REF! -> #REF! | I23: =#REF! -> #REF! | ... N23: =#REF! -> #REF!
A24: 9 | B24: =#REF! -> #REF! | C24: =#REF! -> #REF! | D24: =#REF! -> #REF! | E24: =#REF! -> #REF! | F24: =#REF! -> #REF! | G24: =#REF! -> #REF! | H24: =#REF! -> #REF! | I24: =#REF! -> #REF! | ... N24: =#REF! -> #REF!
A25: 10 | B25: =#REF! -> #REF! | C25: =#REF! -> #REF! | D25: =#REF! -> #REF! | E25: =#REF! -> #REF! | F25: =#REF! -> #REF! | G25: =#REF! -> #REF! | H25: =#REF! -> #REF! | I25: =#REF! -> #REF! | ... N25: =#REF! -> #REF!
A26: 11 | B26: =#REF! -> #REF! | C26: =#REF! -> #REF! | D26: =#REF! -> #REF! | E26: =#REF! -> #REF! | F26: =#REF! -> #REF! | G26: =#REF! -> #REF! | H26: =#REF! -> #REF! | I26: =#REF! -> #REF! | ... N26: =#REF! -> #REF!
A27: 12 | B27: =#REF! -> #REF! | C27: =#REF! -> #REF! | D27: =#REF! -> #REF! | E27: =#REF! -> #REF! | F27: =#REF! -> #REF! | G27: =#REF! -> #REF! | H27: =#REF! -> #REF! | I27: =#REF! -> #REF! | ... N27: =#REF! -> #REF!
... A34: 19 | B34: =#REF! -> #REF! | C34: =#REF! -> #REF! | D34: =#REF! -> #REF! | E34: =#REF! -> #REF! | F34: =#REF! -> #REF! | G34: =#REF! -> #REF! | H34: =#REF! -> #REF! | I34: =#REF! -> #REF! | ... N34: =#REF! -> #REF!
A36: รวม | B36: =COUNT(A16:A35) -> 19 | C36: โครงการ | D36: =SUM(D16:D35) -> #REF! | E36: =SUM(E16:E35) -> #REF! | F36: =SUM(F16:F35) -> #REF! | G36: =SUM(G16:G35) -> #REF! | H36: =SUM(H16:H35) -> #REF! | I36: =SUM(I16:I35) -> #REF!
B37: ยุทธศาสตร์ที่ 4 การสร้างความเชื่อมโยงเศรษฐกิจชุมชนและอุตสาหกรรมในพื้นที่
B39: งบประมาณรวมยุทธศาสตร์ที่ 4 ( 0 โครงการ) | D39: =SUM(D38:D38) -> 0 | E39: =SUM(E38:E38) -> 0 | F39: =SUM(F38:F38) -> 0 | G39: =SUM(G38:G38) -> 0 | H39: =SUM(H38:H38) -> 0 | I39: =SUM(I38:I38) -> 0
B40: ยุทธศาสตร์ที่ 5 การพัฒนาสังคมและยกระดับคุณภาพชีวิต
B42: งบประมาณรวมยุทธศาสตร์ที่ 5 ( 0 โครงการ) | D42: =SUM(D41:D41) -> 0 | E42: =SUM(E41:E41) -> 0 | F42: =SUM(F41:F41) -> 0 | G42: =SUM(G41:G41) -> 0 | H42: =SUM(H41:H41) -> 0 | I42: =SUM(I41:I41) -> 0
A43: ยุทธศาสตร์ที่ 4 การสร้างความเชื่อมโยงเศรษฐกิจชุมชนและอุตสาหกรรมในพื้นที่
A44: 1 | B44: =#REF! -> #REF! | C44: =#REF! -> #REF! | D44: =#REF! -> #REF! | E44: =#REF! -> #REF! | F44: =#REF! -> #REF! | G44: =#REF! -> #REF! | H44: =#REF! -> #REF! | I44: =#REF! -> #REF! | ... N44: =#REF! -> #REF!
A45: 2 | B45: =#REF! -> #REF! | C45: =#REF! -> #REF! | D45: =#REF! -> #REF! | E45: =#REF! -> #REF! | F45: =#REF! -> #REF! | G45: =#REF! -> #REF! | H45: =#REF! -> #REF! | I45: =#REF! -> #REF! | ... N45: =#REF! -> #REF!
A47: รวม | B47: =COUNT(A44:A46) -> 2 | C47: โครงการ | D47: =SUM(D44:D46) -> #REF! | E47: =SUM(E44:E46) -> #REF! | F47: =SUM(F44:F46) -> #REF! | G47: =SUM(G44:G46) -> #REF! | H47: =SUM(H44:H46) -> #REF! | I47: =SUM(I44:I46) -> #REF!
B49: งบประมาณรวมยุทธศาสตร์ที่ 1 (0 โครงการ) | D49: =SUM(D48:D48) -> 0 | E49: =SUM(E48:E48) -> 0 | F49: =SUM(F48:F48) -> 0 | G49: =SUM(G48:G48) -> 0 | H49: =SUM(H48:H48) -> 0 | I49: =SUM(I48:I48) -> 0
B52: งบประมาณรวมยุทธศาสตร์ที่ 2 (0 โครงการ) | D52: =SUM(D51:D51) -> 0 | E52: =SUM(E51:E51) -> 0 | F52: =SUM(F51:F51) -> 0 | G52: =SUM(G51:G51) -> 0 | H52: =SUM(H51:H51) -> 0 | I52: =SUM(I51:I51) -> 0
A53: ยุทธศาสตร์ที่ 5 การพัฒนาสังคมและยกระดับคุณภาพชีวิต
A54: 1 | B54: ='ยุทธศาสตร์ที่ 5'!#REF! -> #REF! | C54: ='ยุทธศาสตร์ที่ 5'!#REF! -> #REF! | D54: ='ยุทธศาสตร์ที่ 5'!#REF! -> #REF! | E54: ='ยุทธศาสตร์ที่ 5'!#REF! -> #REF! | F54: ='ยุทธศาสตร์ที่ 5'!#REF! -> #REF! | G54: ='ยุทธศาสตร์ที่ 5'!#REF! -> #REF! | H54: ='ยุทธศาสตร์ที่ 5'!#REF! -> #REF! | I54: ='ยุทธศาสตร์ที่ 5'!#REF! -> #REF! | ... N54: ='ยุทธศาสตร์ที่ 5'!#REF! -> #REF!
A55: 2 | B55: ='ยุทธศาสตร์ที่ 5'!#REF! -> #REF! | C55: ='ยุทธศาสตร์ที่ 5'!#REF! -> #REF! | D55: ='ยุทธศาสตร์ที่ 5'!#REF! -> #REF! | E55: ='ยุทธศาสตร์ที่ 5'!#REF! -> #REF! | F55: ='ยุทธศาสตร์ที่ 5'!#REF! -> #REF! | G55: ='ยุทธศาสตร์ที่ 5'!#REF! -> #REF! | H55: ='ยุทธศาสตร์ที่ 5'!#REF! -> #REF! | I55: ='ยุทธศาสตร์ที่ 5'!#REF! -> #REF! | ... N55: ='ยุทธศาสตร์ที่ 5'!#REF! -> #REF!
A56: 3 | B56: ='ยุทธศาสตร์ที่ 5'!#REF! -> #REF! | C56: ='ยุทธศาสตร์ที่ 5'!#REF! -> #REF! | D56: ='ยุทธศาสตร์ที่ 5'!#REF! -> #REF! | E56: ='ยุทธศาสตร์ที่ 5'!#REF! -> #REF! | F56: ='ยุทธศาสตร์ที่ 5'!#REF! -> #REF! | G56: ='ยุทธศาสตร์ที่ 5'!#REF! -> #REF! | H56: ='ยุทธศาสตร์ที่ 5'!#REF! -> #REF! | I56: ='ยุทธศาสตร์ที่ 5'!#REF! -> #REF! | ... N56: ='ยุทธศาสตร์ที่ 5'!#REF! -> #REF!
...

Sheet งบประมาณเพิ่มเติม (มาบตาพุด)
A1: ลำดับที่ | B1: โครงการ | C1: แหล่งงบประมาณ | D1: งบประมาณรวม (ล้านบาท) | E1: ระยะเวลาดำเนินโครงการ | J1: หน่วยงานรับผิดชอบ
E2: 60 | F2: 61 | G2: 62 | H2: 63 | I2: 64 | J2: หลัก | K2: สนับสนุน
C4: =B7+B10+B17+B26+B35+B40 -> 4 | D4: =D7+D10+D17+D26+D35+D40 -> #REF! | E4: =E7+E10+E17+E26+E35+E40 -> #REF! | F4: =F7+F10+F17+F26+F35+F40 -> #REF! | G4: =G7+G10+G17+G26+G35+G40 -> #REF! | H4: =H7+H10+H17+H26+H35+H40 -> #REF! | I4: =I7+I10+I17+I26+I35+I40 -> #REF!
A5: ยุทธศาสตร์ที่ 1 การจัดทำผังเมืองที่เหมาะสมกับศักยภาพพื้นที่
A7: รวม | B7: =COUNT(A6:A6) -> 0 | C7: โครงการ | D7: =SUM(D6:D6) -> 0 | E7: =SUM(E6:E6) -> 0 | F7: =SUM(F6:F6) -> 0 | G7: =SUM(G6:G6) -> 0 | H7: =SUM(H6:H6) -> 0 | I7: =SUM(I6:I6) -> 0
A8: ยุทธศาสตร์ที่ 2 การปรับปรุงระบบโครงสร้างพื้นฐานเพื่อรองรับการพัฒนาเศรษฐกิจและสังคม
A10: รวม | B10: =COUNT(A9:A9) -> 0 | C10: โครงการ | D10: =SUM(D9:D9) -> 0 | E10: =SUM(E9:E9) -> 0 | F10: =SUM(F9:F9) -> 0 | G10: =SUM(G9:G9) -> 0 | H10: =SUM(H9:H9) -> 0 | I10: =SUM(I9:I9) -> 0
A11: ยุทธศาสตร์ที่ 3 การยกระดับการจัดการสิ่งแวดล้อมและความปลอดภัยในพื้นที่
A12: 1 | B12: =#REF! -> #REF! | C12: =#REF! -> #REF! | D12: =#REF! -> #REF! | E12: =#REF! -> #REF! | F12: =#REF! -> #REF! | G12: =#REF! -> #REF! | H12: =#REF! -> #REF! | I12: =#REF! -> #REF! | ... N12: =#REF! -> #REF!
A13: 2 | B13: =#REF! -> #REF! | C13: =#REF! -> #REF! | D13: =#REF! -> #REF! | E13: =#REF! -> #REF! | F13: =#REF! -> #REF! | G13: =#REF! -> #REF! | H13: =#REF! -> #REF! | I13: =#REF! -> #REF! | ... N13: =#REF! -> #REF!
A14: 3 | B14: =#REF! -> #REF! | C14: =#REF! -> #REF! | D14: =#REF! -> #REF! | E14: =#REF! -> #REF! | F14: =#REF! -> #REF! | G14: =#REF! -> #REF! | H14: =#REF! -> #REF! | I14: =#REF! -> #REF! | ... N14: =#REF! -> #REF!
A17: รวม | B17: =COUNT(A12:A16) -> 3 | C17: โครงการ | D17: =SUM(D12:D16) -> #REF! | E17: =SUM(E12:E16) -> #REF! | F17: =SUM(F12:F16) -> #REF! | G17: =SUM(G12:G16) -> #REF! | H17: =SUM(H12:H16) -> #REF! | I17: =SUM(I12:I16) -> #REF!
B18: ยุทธศาสตร์ที่ 4 การสร้างความเชื่อมโยงเศรษฐกิจชุมชนและอุตสาหกรรมในพื้นที่
B20: งบประมาณรวมยุทธศาสตร์ที่ 4 ( 0 โครงการ) | D20: =SUM(D19:D19) -> 0 | E20: =SUM(E19:E19) -> 0 | F20: =SUM(F19:F19) -> 0 | G20: =SUM(G19:G19) -> 0 | H20: =SUM(H19:H19) -> 0 | I20: =SUM(I19:I19) -> 0
B21: ยุทธศาสตร์ที่ 5 การพัฒนาสังคมและยกระดับคุณภาพชีวิต
B23: งบประมาณรวมยุทธศาสตร์ที่ 5 ( 0 โครงการ) | D23: =SUM(D22:D22) -> 0 | E23: =SUM(E22:E22) -> 0 | F23: =SUM(F22:F22) -> 0 | G23: =SUM(G22:G22) -> 0 | H23: =SUM(H22:H22) -> 0 | I23: =SUM(I22:I22) -> 0
A24: ยุทธศาสตร์ที่ 4 การสร้างความเชื่อมโยงเศรษฐกิจชุมชนและอุตสาหกรรมในพื้นที่
A26: รวม | B26: =COUNT(A25:A25) -> 0 | C26: โครงการ | D26: =SUM(D25:D25) -> 0 | E26: =SUM(E25:E25) -> 0 | F26: =SUM(F25:F25) -> 0 | G26: =SUM(G25:G25) -> 0 | H26: =SUM(H25:H25) -> 0 | I26: =SUM(I25:I25) -> 0
B28: งบประมาณรวมยุทธศาสตร์ที่ 1 (0 โครงการ) | D28: =SUM(D27:D27) -> 0 | E28: =SUM(E27:E27) -> 0 | F28: =SUM(F27:F27) -> 0 | G28: =SUM(G27:G27) -> 0 | H28: =SUM(H27:H27) -> 0 | I28: =SUM(I27:I27) -> 0
B31: งบประมาณรวมยุทธศาสตร์ที่ 2 (0 โครงการ) | D31: =SUM(D30:D30) -> 0 | E31: =SUM(E30:E30) -> 0 | F31: =SUM(F30:F30) -> 0 | G31: =SUM(G30:G30) -> 0 | H31: =SUM(H30:H30) -> 0 | I31: =SUM(I30:I30) -> 0
A32: ยุทธศาสตร์ที่ 5 การพัฒนาสังคมและยกระดับคุณภาพชีวิต
A33: 1 | B33: ='ยุทธศาสตร์ที่ 5'!#REF! -> #REF! | C33: ='ยุทธศาสตร์ที่ 5'!#REF! -> #REF! | D33: ='ยุทธศาสตร์ที่ 5'!#REF! -> #REF! | E33: ='ยุทธศาสตร์ที่ 5'!#REF! -> #REF! | F33: ='ยุทธศาสตร์ที่ 5'!#REF! -> #REF! | G33: ='ยุทธศาสตร์ที่ 5'!#REF! -> #REF! | H33: ='ยุทธศาสตร์ที่ 5'!#REF! -> #REF! | I33: ='ยุทธศาสตร์ที่ 5'!#REF! -> #REF! | ... N33: ='ยุทธศาสตร์ที่ 5'!#REF! -> #REF!
A35: รวม | B35: =COUNT(A33:A34) -> 1 | C35: โครงการ | D35: =SUM(D33:D34) -> #REF! | E35: =SUM(E33:E34) -> #REF! | F35: =SUM(F33:F34) -> #REF! | G35: =SUM(G33:G34) -> #REF! | H35: =SUM(H33:H34) -> #REF! | I35: =SUM(I33:I34) -> #REF!
B37: งบประมาณรวมยุทธศาสตร์ที่ 6 (0 โครงการ) | D37: =SUM(D36:D36) -> 0 | E37: =SUM(E36:E36) -> 0 | F37: =SUM(F36:F36) -> 0 | G37: =SUM(G36:G36) -> 0 | H37: =SUM(H36:H36) -> 0 | I37: =SUM(I36:I36) -> 0
A38: ยุทธศาสตร์ที่ 6 การพัฒนาระบบการบริหารจัดการ องค์ความรู้ และบุคลากร
A40: รวม | B40: =COUNT(A39:A39) -> 0 | C40: โครงการ | D40: =SUM(D39:D39) -> 0 | E40: =SUM(E39:E39) -> 0 | F40: =SUM(F39:F39) -> 0 | G40: =SUM(G39:G39) -> 0 | H40: =SUM(H39:H39) -> 0 | I40: =SUM(I39:I39) -> 0

Sheet งบประมาณเพิ่มเติม (irpc)
A1: ลำดับที่ | B1: โครงการ | C1: แหล่งงบประมาณ | D1: งบประมาณรวม (ล้านบาท) | E1: ระยะเวลาดำเนินโครงการ | J1: หน่วยงานรับผิดชอบ
E2: 60 | F2: 61 | G2: 62 | H2: 63 | I2: 64 | J2: หลัก | K2: สนับสนุน
C4: =B9+B15+B23+B36+B58+B64 -> 29 | D4: =D9+D15+D23+D36+D58+D64 -> #REF! | E4: =E9+E15+E23+E36+E58+E64 -> #REF! | F4: =F9+F15+F23+F36+F58+F64 -> #REF! | G4: =G9+G15+G23+G36+G58+G64 -> #REF! | H4: =H9+H15+H23+H36+H58+H64 -> #REF! | I4: =I9+I15+I23+I36+I58+I64 -> #REF!
A5: ยุทธศาสตร์ที่ 1 การจัดทำผังเมืองที่เหมาะสมกับศักยภาพพื้นที่
A6: 1 | B6: ='ยุทธศาสตร์ที่ 1'!F9 -> 0 | C6: ='ยุทธศาสตร์ที่ 1'!H9 -> 0 | D6: ='ยุทธศาสตร์ที่ 1'!I9 -> 0 | E6: ='ยุทธศาสตร์ที่ 1'!#REF! -> #REF! | F6: ='ยุทธศาสตร์ที่ 1'!Q9 -> 0 | G6: ='ยุทธศาสตร์ที่ 1'!R9 -> 0 | H6: ='ยุทธศาสตร์ที่ 1'!S9 -> 0 | I6: ='ยุทธศาสตร์ที่ 1'!U9 -> 0 | J6: ='ยุทธศาสตร์ที่ 1'!V9 -> 0 | K6: ='ยุทธศาสตร์ที่ 1'!W9 -> 0 | L6: ='ยุทธศาสตร์ที่ 1'!#REF! -> #REF! | M6: ='ยุทธศาสตร์ที่ 1'!#REF! -> #REF! | N6: ='ยุทธศาสตร์ที่ 1'!G9 -> 0
A7: 2 | B7: ='ยุทธศาสตร์ที่ 1'!#REF! -> #REF! | C7: ='ยุทธศาสตร์ที่ 1'!#REF! -> #REF! | D7: ='ยุทธศาสตร์ที่ 1'!#REF! -> #REF! | E7: ='ยุทธศาสตร์ที่ 1'!#REF! -> #REF! | F7: ='ยุทธศาสตร์ที่ 1'!#REF! -> #REF! | G7: ='ยุทธศาสตร์ที่ 1'!#REF! -> #REF! | H7: ='ยุทธศาสตร์ที่ 1'!#REF! -> #REF! | I7: ='ยุทธศาสตร์ที่ 1'!#REF! -> #REF! | ... N7: ='ยุทธศาสตร์ที่ 1'!#REF! -> #REF!
A9: รวม | B9: =COUNT(A6:A8) -> 2 | C9: โครงการ | D9: =SUM(D6:D8) -> #REF! | E9: =SUM(E6:E8) -> #REF! | F9: =SUM(F6:F8) -> #REF! | G9: =SUM(G6:G8) -> #REF! | H9: =SUM(H6:H8) -> #REF! | I9: =SUM(I6:I8) -> #REF!
