Workbook

Sheet ยุทธศาสตร์ที่ 1
D1: แผนปฏิบัติการตามแผนแม่บทเมืองอุตสาหกรรมเชิงนิเวศ จังหวัดระยอง
D2: ยุทธศาสตร์ที่ 1 การจัดทำผังเมืองที่เหมาะสมกับศักยภาพพื้นที่
D3: เป้าหมาย | E3: (1) มีการปรับปรุงและจัดทำผังเมืองที่สอดคล้องกับการพัฒนาอุตสาหกรรมและการใช้ประโยชน์อื่นที่สอดคล้องกับศักยภาพการพัฒนาเชิงพื้นที่
D4: ตัวชี้วัด | E4: (1) ผังเมืองรวมที่สอดคล้องกับการพัฒนาอุตสาหกรรมและการจัดการสิ่งแวดล้อม
E5: (2) แนวป้องกันโดยรอบ (Protection Strip) และแนวพื้นที่กันชน (Buffer) ระหว่างพื้นที่อุตสาหกรรม พื้นที่ชุมชน และพื้นที่ท่องเที่ยวเพิ่มขึ้น
D6: กลยุทธ์ | E6: ตัวชี้วัดโครงการ/กิจกรรม | F6: โครงการ/กิจกรรม | G6: พื้นที่เป้าหมาย | H6: แหล่งงบประมาณ | I6: งบประมาณรวม (บาท) | J6: ระยะเวลาดำเนินโครงการ | V6: หน่วยงานรับผิดชอบ | W6: แหล่งงบประมาณ | X6: งบประมาณรวม (บาท) | Y6: หมายเหตุ
J7: ปีงบประมาณ 2565
J8: ต.ค. | K8: พ.ย. | L8: ธ.ค. | M8: ม.ค. | N8: ก.พ. | O8: มี.ค. | P8: เม.ย. | Q8: พ.ค. | R8: มิ.ย. | S8: ก.ค. | T8: ส.ค. | U8: ก.ย. | V8: หลัก/สนับสนุน
A9: 1. การจัดทำผังเมืองที่เหมาะสมกับศักยภาพพื้นที่ | B9: 1) มีการปรับปรุงและจัดทำผังเมืองที่สอดคล้องกับการพัฒนาอุตสาหกรรมและการใช้ประโยชน์อื่นที่สอดคล้องกับศักยภาพการพัฒนาเชิงพื้นที่ | C9: (1) ผังเมืองรวมที่สอดคล้องกับการพัฒนาอุตสาหกรรมและการจัดการสิ่งแวดล้อม | D9: 1.1 ปรับปรุงผังเมืองรวม และผังเมืองเฉพาะ
D10: 1.1 ปรับปรุงผังเมืองรวม ผังพื้นที่เฉพาะและวางแผนการใช้ประโยชน์ที่ดินเพื่อรองรับการพัฒนาเมืองอุตสาหกรรมเชิงนิเวศ | E10: ตัวชี้วัด 1.2.1 สัดส่วนพื้นที่สีเขียว (Green Area) ต่อพื้นที่ทั้งหมดของเมืองอุตสาหกรรมเชิงนิเวศ รวมทั้งแนวป้องกัน (Protection Strip) และพื้นที่กันชน (Eco-Buffer) | F10: กิจกรรมเพิ่ม พท.สีเขียว / protection strip | V10: บริษัท ไออาร์พีซี จำกัด (มหาชน) | W10: งบประมาณบริษัท ไออาร์พีซี จำกัด (มหาชน)
F11: โครงการอนุรักษ์และพัฒนาป่าชุมชน - จัดกิจกรรมอบรมให้ความรู้ความเข้าใจแก่ประชาชนในพื้นที่ในการอนุรักษ์และพัฒนาป่าชุมชน | V11: กองสวัสดิการสังคม เทศบาลเมืองมาบตาพุด | W11: เทศบาล ตำบลทับมา | X11: 350000 | Y11: (ได้รับงบประมาณปี 2565 จำนวน 7 หมื่นบาท)
F12: โครงการปลูกต้นไม้เพิ่มพื้นที่สีเขียว 2 ไร่ เพื่อลดภาวะโลกร้อน ประจำปีงบประมาณ 2565 พื้นที่สีเขียว | V12: เทศบาลตำบลเนินพระ | W12: เทศบาลตำบลเนินพระ
F13: โครงการปลูกป่าแห่งชาติ(ตามรอยพ่อ)และพัฒนาแหล่งน้ำในพื้นที่ของวัดทับมาจำนวน 9 ไร่ | V13: เทศบาลตำบลทับมา | W13: เทศบาลตำบลทับมา | X13: -
F14: โครงการส่งเสริมการอนุรักษ์ พัฒนา และเพิ่มพื้นที่สีเขียว ปี 2565 | V14: ทสจ.รย | W14: ทสจ.รย
F15: - กิจกรรมปลูกต้นไม้และปลูกป่าเฉลิมพระเกียรติ เนื่องในโอกาสมหามงคลพระราชพิธีบรมราชาภิเษก “รวมใจไทย ปลูกต้นไม้ เพื่อแผ่นดิน” สืบสานสู่ 100 ล้านต้น กิจกรรมประกอบด้วย การปลูกต้นไม้ (ทองอุไร) จำนวน 3,200 ต้น | V15: ทสจ.รย | W15: ทสจ.รย
F16: โครงการ10,000 ต้นกล้า หัวใจอาสาไออาร์พีซี IRPC ส่งมอบเมล็ดพันธุ์ไม้และอุปกรณ์การเพาะเมล็ดให้กับผู้ประสานงานหัวใจอาสา จำนวน 12,500 กล้าไม้ สำหรับเพาะกล้าไม้ไว้ปลูกบริเวณพื้นที่สาธารณะของชุมชนรอบเขตประกอบการอุตสาหกรรมไออาร์พีซีในปี 2565 | V16: บริษัทไออาร์พีซี จำกัด (มหาชน) | W16: บริษัทไออาร์พีซี จำกัด (มหาชน) | X16: -
F17: โครงการส่งเสริมการอนุรักษ์ พัฒนา และเพิ่มพื้นที่สีเขียว กิจกรรมปลูกต้นไม้และปลูกป่าเฉลิมพระเกียรติ เนื่องในโอกาสมหามงคลพระราชพิธีบรมราชาภิเษก “รวมใจไทย ปลูกต้นไม้ เพื่อแผ่นดิน” ปลูกต้นไม้ (ทองอุไร) จำนวน 3,200 ต้น บริเวณริมถนนสองข้างทางบนถนนสาย อบจ.รย 0307 สายไผ่ล้อม - บึงต้นชัน และถนนสายเชิงเนิน –ชากบก รวมระยะทางประมาณ 10 กิโลเมตร | V17: สำนักงานทรัพยากรธรรมชาติและสิ่งแวดล้อมจังหวัดระยอง, สำนักงานส่งเสริมการปกครองท้องถิ่นจังหวัดระยอง อบจ.ระยอง | W17: สำนักงานทรัพยากรธรรมชาติและสิ่งแวดล้อมจังหวัดระยอง | X17: -
F18: โครงการกิจกรรมปลูกป่าชุมชนและสมุนไพรกระดูกไก่ดำ จำนวน 18 ไร่ 3 งาน 50.6 ตารางวา ณ โรงเรียนบ้านก้นหนองเก่า ต.บ้านแลง อ.เมือง จ.ระยอง เพื่อเป็นการอนุรักษ์พันธุ์ไม้ และเป็นแหล่งเรียนรู้ด้านสมุนไพรของชุมชน แล้วยังเป็นการเตรียมความพร้อมในอนาคต ซึ่งจะจัดสร้างโรงพยาบาลส่งเสริมสุขภาพตำบลบ้านก้นหนอง | V18: องค์การบริหารส่วนจังหวัดระยอง และองค์การบริหารส่วนตำบลบ้านแลง | W18: องค์การบริหารส่วนจังหวัดระยอง | X18: -
F19: กิจกรรมพื้นที่สีเขียว (บำรุงรักษาต่อเนื่องถนนสาย 363) ปีที่ 9 เน้นพัฒนาร่วมมือแบบประชารัฐ | V19: สมาคมเพื่อนชุมชน | X19: 530000
F20: โครงการปลูกป่าแห่งชาติ(ตามรอยพ่อ)และพัฒนาแหล่งน้ำในพื้นที่ของวัดทับมาจำนวน 9 ไร่ | V20: เทศบาลตำบลทับมา | W20: เทศบาลตำบลทับมา | X20: 30000
F21: โครงการธนาคารต้นไม้ -จัดกิจกรรมอบรมให้ความรู้เยาวชนในพื้นที่เกี่ยวกับการดำเนินการธนาคารต้นไม้และจัดตั้งธนคารต้นไม้ในพื้นที่ | V21: เทศบาลตำบลทับมา | W21: เทศบาลตำบลทับมา | X21: 20000
F22: โครงการสร้างจิตสำนึกด้านพลังงานและสิ่งแวดล้อม - จัดอบรมและจัดกิจกรรมเพื่อสร้างความตระหนักและปลูกฝังจิตสำนึกในการอนุรักษ์พลังงานและทรัพยากรธรรมชาติและสิ่งแวดล้อมรวมถึงสร้างความรู้ความเข้าใจเรื่องการเปลี่ยนแปลงสภาพภูมิอากาศและภัยธรรมชาติและสิ่งแวดล้อมให้กับประชาชนในชุมชน | V22: เทศบาลตำบลทับมา | W22: เทศบาลตำบลทับมา | X22: 20000
F23: โครงการอนุรักษ์และพัฒนาป่าชุมชน - จัดกิจกรรมอบรมให้ความรู้ความเข้าใจแก่ประชาชนในพื้นที่ในการอนุรักษ์และพัฒนาป่าชุมชน | V23: เทศบาล ตำบลทับมา | X23: 20000 | Y23: (ได้รับงบประมาณปี 2565 จำนวน 7 หมื่นบาท)
E24: ตัวชี้วัดที่ 1.3.1 สัดส่วนพื้นที่ป่ายเลนที่เพิ่มขึ้น | F24: โครงการอนุรักษ์แม่น้ำระยองและป่าชายเลนพระสมุทรเจดีย์ | V24: บริษัท ไออาร์พีซี จำกัด (มหาชน) | W24: งบประมาณบริษัท ไออาร์พีซี จำกัด (มหาชน) | X24: 90000
F25: กิจกรรมปลูกป่า ปล่อยปู ปล่อยปลา ในพื้นที่ป่าชายเลนตำบลเนินพระ | V25: เทศบาลตำบลเนินพระ | W25: เทศบาลตำบลเนินพระ | X25: - | Y25: โครงการนี้ เริ่มต้น ปี 2562 - 2565 และเป็นกิจกรรมต่อเนื่องทุกปี
F26: ได้มีแผนงานปลูกต้นโกงกางในพื้นที่ 6 ไร่ ปลูกปีละ 3,000 ต้น | V26: สทร. | W26: สทร. | Y26: โครงการนี้ เริ่มต้น ปี 2562 -2565 และเป็นกิจกรรมต่อเนื่องทุกปี
F27: โครงการธนาคาร ปูดำ | V27: สทร. | W27: สทร. | X27: - | Y27: โครงการนี้ เริ่มต้นปี 2564 -2565 เป็นโครงการปี ต่อเนื่อง
F28: ปลูกต้นโกงเกง ในพื้นที่ป่าชายเลน 2000 ต้น | V28: เทศบาลเนินพระ/สทร /ภาคีเครือข่าย | W28: เทศบาลเนินพระ/สทร /ภาคีเครือข่าย | X28: - | Y28: -
F29: ฟื้นฟูแหล่งน้ำและป่าต้นน้ำเพิ่มที่สีเขียวจังหวัดระยอง | V29: ทสจ.รย | W29: ทสจ.รย | X29: - | Y29: กิจกรรมต่อเนื่อง ตั้งแต่ปี 2561-2565
F30: หมู่บ้านเพาะชำกล้าไม้ในจังหวัดระยอง | V30: ทสจ.รย | W30: ทสจ.รย | X30: - | Y30: กิจกรรมต่อเนื่อง ตั้งแต่ปี 2561-2565
F31: ฟื้นฟูพื้นที่ป่าชายเลนให้มีความสมบูรณ์และยังยืน | V31: ทสจ.รย | W31: ทสจ.รย | X31: - | Y31: กิจกรรมต่อเนื่อง ตั้งแต่ปี 2561-2565
D32: 1.2 เพิ่มพื้นที่สีเขียวและแนวป้องกันมลพิษเพื่อลดผลกระทบจากอุตสาหกรรม | E32: ตัวชี้วัด 1.2.1 สัดส่วนพื้นที่สีเขียว (Green Area) ต่อพื้นที่ทั้งหมดของเมืองอุตสาหกรรมเชิงนิเวศ รวมทั้งแนวป้องกัน (Protection Strip) และพื้นที่กันชน (Eco-Buffer) | F32: กิจกรรมเพิ่ม พท.สีเขียว / protection strip | V32: บริษัท ไออาร์พีซี จำกัด (มหาชน) | W32: งบประมาณบริษัท ไออาร์พีซี จำกัด (มหาชน) | X32: 50000
D33: รวมงบ | H33: รวมงบ | X33: =SUM(X10:X32) -> 1110000
D34: รวมโครงการ | H34: รวมโครงการ | X34: 18

Sheet ยุทธศาสตร์ที่ 2
C1: แผนปฏิบัติการตามแผนแม่บทเมืองอุตสาหกรรมเชิงนิเวศ จังหวัดระยอง
D2: ยุทธศาสตร์ที่ 2 การปรับปรุงระบบโครงสร้างพื้นฐานเพื่อรองรับการพัฒนาเศรษฐกิจและสังคม
D3: เป้าหมาย | E3: (1) มีระบบโครงสร้างพื้นฐานได้มาตรฐานและเพียงพอ เพื่อรองรับการพัฒนาเมืองอุตสาหกรรมเชิงนิเวศ
E4: (2) มีการจัดการสาธารณูปโภคอย่างมีประสิทธิภาพ เพื่อรองรับการใช้ประโยชน์ของทุกภาคส่วน
D5: ตัวชี้วัด | E5: (1) ระบบคมนาคมขนส่งภาคอุตสาหกรรมที่มีอยู่เดิมได้รับการปรับปรุงเพื่อรองรับอุตสาหกรรมเชิงนิเวศที่มีความปลอดภัยและรวดเร็ว
E6: (2) มีแผนการจัดสรรสาธารณูปโภคร่วมกันของหน่วยงานที่เกี่ยวข้อง
A7: ยุทธศาสตร์ | B7: เป้าประสงค์ | C7: ตัวชี้วัด | D7: กลยุทธ์ | E7: ตัวชี้วัดโครงการ/กิจกรรม | F7: โครงการ/กิจกรรม | G7: พื้นที่เป้าหมาย | H7: แหล่งงบประมาณ | I7: งบประมาณรวม (บาท) | J7: ระยะเวลาดำเนินโครงการ | V7: หน่วยงานรับผิดชอบ | W7: แหล่งงบประมาณ | X7: งบประมาณรวม (บาท) | Y7: หมายเหตุ
J8: ปีงบประมาณ 2565
J9: ต.ค. | K9: พ.ย. | L9: ธ.ค. | M9: ม.ค. | N9: ก.พ. | O9: มี.ค. | P9: เม.ย. | Q9: พ.ค. | R9: มิ.ย. | S9: ก.ค. | T9: ส.ค. | U9: ก.ย. | V9: หลัก/สนับสนุน
D10: 2.1 เพิ่มประสิทธิภาพและเชื่อมโยง ระบบโครงข่ายคมนาคมขนส่ง เพื่อยกระดับการเป็นศูนย์กลางการกระจายสินค้า | E10: ตัวชี้วัด 1.1.1 ระบบสาธารณูปโภคได้รับการพัฒนาหรือยกระดับ โดยนำแนวคิดการออกแบบเชิงนิเวศมาใช้ในการพัฒนาเมืองอุตสาหกรรมเชิงนิเวศ | F10: โครงการก่อสร้างปรับปรุงขยายถนน อบจ.รย.0113 สายตอนแยกระยอง – บ้านแลง ต.เชิงเนิน ต.บ้านแลง อ.เมืองระยอง จ.ระยอง | G10: เขตประกอบการไออาร์พีซี | I10: 217081000 | V10: องค์การบริหารส่วนจังหวัดระยอง | W10: งบอุดหนุนกรมส่งเสริมการปกครองส่วนท้องถิ่นกระทรวงมหาดไทย | X10: 217081000
F11: โครงการก่อสร้างถนนคอนกรีตเสริมเหล็กสายทางก้นทุ่ง ซอย 3 ชุมชนบ้านแหลมมะขาม หมู่ที่ 2 ตำบลทับมา อำเภอเมือง จังหวัดระยอง - ก่อสร้างถนนผิวจราจรกว้าง 4.00 เมตร ยาว 33.00 เมตร หนาเฉลี่ย 0.15 เมตร หรือมีพื้นคอนกรีตเสริมเหล็กไม่น้อยกว่า 132.00 ตารางเมตร | G11: ชุมชนบ้านแหลมมะขาม หมู่ที่ 2 ตำบลทับมา อำเภอเมือง จังหวัดระยอง | I11: 91000 | V11: กองช่างเทศบาลตำบลทับมา | W11: งบประมาณเทศบาลตำบลทับมา | X11: 91000
F12: โครงการก่อสร้างถนนคอนกรีตเสริมเหล็กสายทางซอยชูเชิดชุมชนบ้านขนาบ หมู่ที่ 1 ตำบลทับมา อำเภอเมือง จังหวัดระยอง - ก่อสร้างถนนผิวจราจรกว้าง 4.00 เมตร ยาว 166.00 เมตร หนาเฉลี่ย 0.15 เมตร หรือมีพื้นคอนกรีตเสริมเหล็กไม่น้อยกว่า 664.00 ตารางเมตร | G12: ชุมชนบ้านขนาบ หมู่ที่ 1 ตำบลทับมา อำเภอเมือง จังหวัดระยอง | I12: 485000 | V12: กองช่างเทศบาลตำบลทับมา | W12: งบประมาณเทศบาลตำบลทับมา | X12: 485000
F13: โครงการก่อสร้างถนนคอนกรีตเสริมเหล็กสายบ้านใน - น้ำคอก ซอย 1 หมู่ที่ 1 ตำบลทับมา อำเภอเมือง จังหวัดระยอง - ก่อสร้างถนนผิวจราจรกว้าง 5.00 เมตร ยาว 132.00 เมตร หนาเฉลี่ย 0.15 เมตร หรือมีพื้นคอนกรีตเสริมเหล็กไม่น้อยกว่า 660.00 ตารางเมตร | G13: ชุมชนบ้านขนาบ หมู่ที่ 1 ตำบลทับมา อำเภอเมือง จังหวัดระยอง | I13: 494000 | V13: กองช่างเทศบาลตำบลทับมา | W13: งบประมาณเทศบาลตำบลทับมา | X13: 494000
F14: โครงการก่อสร้างถนนคอนกรีตเสริมเหล็กและท่อระบายน้ำคอนกรีตเสริมเหล็กสายทาง รย.ถ.90141 (ซอย ป.ร่มไทร) ชุมชนบ้านทับมา หมู่ที่ 4 ตำบลทับมา อำเภอเมือง จังหวัดระยอง | G14: ชุมชนบ้านทับมา หมู่ที่ 4 ตำบลทับมา อำเภอเมือง จังหวัดระยอง | I14: 6610000 | V14: กองช่างเทศบาลตำบลทับมา | W14: งบประมาณเทศบาลตำบลทับมา | X14: 6610000
F15: - ก่อสร้างถนนผิวจราจรกว้าง 5.80 เมตร ยาว525.00 เมตร หนาเฉลี่ย 0.15 เมตร หรือมีพื้นคอนกรีตเสริมเหล็กไม่น้อยกว่า 3,266.66.00 ตารางเมตรและท่อระบายน้ำคอนกรีตเสริมเหล็ก ขนาดเส้นผ่าศูนย์กลาง 0.60 เมตร หรือความยาวท่อรวมบ่อพัก 1,050.00 เมตร พร้อมบ่อพักคอนกรีตเสริ
F16: โครงการก่อสร้างถนนคอนกรีตเสริมเหล็กสายทางการทุ่ง ซอย 1/4 ชุมชนบ้านแหลมมะขาม หมู่2 | V16: กองช่างเทศบาลตำบลทับมา | W16: งบประมาณเทศบาลตำบลทับมา | X16: 486000
F17: โครงการก่อสร้างถนนคอนกรีตเสริมเหล็กสายทางการทุ่ง ซอย 1 ชุมชนบ้านแหลมมะขาม หมู่2 | V17: กองช่างเทศบาลตำบลทับมา | W17: งบประมาณเทศบาลตำบลทับมา | X17: 50000
F18: โครงการก่อสร้างถนนคอนกรีตเสริมเหล็กและท่อระบายน้ำคอนกรีตเสริมเหล็กสายทาง ซอยผ่องผาด - บ้านใน ซอย 2 ชุมชนบ้านขนาบ หมู่ที่ 1 ตำบลทับมา อำเภอเมือง จังหวัดระยอง | G18: ชุมชนบ้านขนาบ หมู่ที่ 1 ตำบลทับมา อำเภอเมือง จังหวัดระยอง | I18: 390000 | V18: กองช่างเทศบาลตำบลทับมา | W18: งบประมาณเทศบาลตำบลทับมา | X18: 390000
F19: - ก่อสร้างถนนผิวจราจรกว้าง 4.30 เมตร ยาว 59.00 เมตร หนาเฉลี่ย 0.15 เมตร หรือมีพื้นคอนกรีตเสริมเหล็กไม่น้อยกว่า 253.70 ตารางเมตรและรางระบายน้ำคอนกรีตเสริมเหล็กรูปตัวอยู่ กว้างภายใน 0.40 เมตร ยาว 59.00 เมตร พร้อมฝาปิดคอนกรีตเสริมเหล็ก รางวี (ฝั่งเดียว)
F20: โครงการก่อสร้างถนนคอนกรีตเสริมเหล็กและรางระบายน้ำคอนกรีตเสริมเหล็กสายทางแหลมไผ่ ซอย 2 ชุมชนบ้านหนองมะหาด หมู่ที่ 1 ตำบลทับมา อำเภอเมือง จังหวัดระยอง | G20: ชุมชนบ้านหนองมะหาด หมู่ที่ 1 ตำบลทับมา อำเภอเมือง จังหวัดระยอง | I20: 945000 | V20: กองช่างเทศบาลตำบลทับมา | W20: งบประมาณเทศบาลตำบลทับมา | X20: 945000
F21: - ก่อสร้างถนนผิวจราจรกว้าง 3.10 - 3.60 เมตร ยาว 109.00 เมตร หนาเฉลี่ย 0.15 เมตร หรือมีพื้นคอนกรีตเสริมเหล็กไม่น้อยกว่า 374.40 ตารางเมตร และรางระบายน้ำคอนกรีตเสริมเหล็กรูปตัวอยู่ กว้างภายใน 0.40 เมตร ยาว 218.00 เมตร พร้อมฝาปิดคอนกรีตเสริมเหล็ก รางวี (สองฝั่ง)
F22: โครงการก่อสร้างรางระบายน้ำคอนกรีตเสริมเหล็กสายทาง รย.ถ.90131 (แหลมไผ่ ซอย 1 ) ชุมชนบ้านทับมา หมู่ที่ 4 ตำบลทับมา อำเภอเมือง จังหวัดระยอง - ก่อสร้างรางระบายน้ำคอนกรีตเสริมเหล็กรูปตัวยูกว้างภายใน 0.40 เมตร ยาว 125.00 เมตร พร้อมฝาปิดคอนกรีตเสริมเหล็กรางวี (ฝั่งเดียว) | G22: ชุมชนบ้านทับมา หมู่ที่ 4 ตำบลทับมา อำเภอเมือง จังหวัดระยอง | I22: 426000 | V22: กองช่างเทศบาลตำบลทับมา | W22: งบประมาณเทศบาลตำบลทับมา | X22: 426000
F23: โครงการก่อสร้างโคมไฟฟ้าส่องสว่างสายทางถนนเสม็ดแดง - หัวหญ้าคา ชุมชนบ้านเขาไผ่ หมู่ที่ 5 ตำบลทับมา อำเภอเมือง จังหวัดระยอง - ก่อสร้างเสาไฟพร้อมโคมไฟฟ้าส่องสว่างและอุปกรณ์ จำนวน 28 ต้น ยาว 995.00 เมตร | G23: ชุมชนบ้านเขาไผ่ หมู่ที่ 5 ตำบลทับมา อำเภอเมือง จังหวัดระยอง | I23: 1497000 | V23: กองช่างเทศบาลตำบลทับมา | W23: งบประมาณเทศบาลตำบลทับมา | X23: 1497000
F24: โครงการก่อสร้างโคมไฟฟ้าส่องสว่างสายทางแหลมมะขาม - การ์เด้นโฮม ชุมชนบ้านแหลมมะขาม หมู่ที่ 2 ตำบลทับมา อำเภอเมือง จังหวัดระยอง - ก่อสร้างเสาไฟพร้อมโคมไฟฟ้าส่องสว่างและอุปกรณ์ จำนวน 35 ต้น ยาว 1,215.00 เมตร | G24: ชุมชนบ้านแหลมมะขาม หมู่ที่ 2 ตำบลทับมา อำเภอเมือง จังหวัดระยอง | I24: 1834000 | V24: กองช่างเทศบาลตำบลทับมา | W24: งบประมาณเทศบาลตำบลทับมา | X24: 1834000
F25: โครงการขยายเขตระบบจำหน่ายน้ำประปาภูมิภาคสายทาง รย.ถ.900171 (ถนนซอยนายมิ่ง) ชุมชนบ้านแหลมทองหลาง หมู่ที่ 6 ตำบลทับมา อำเภอเมือง จังหวัดระยอง - วางท่อประปามีความยาว 160.00 เมตร พร้อมอุปกร์ | G25: ชุมชนบ้านแหลมทองหลาง หมู่ที่ 6 ตำบลทับมา | I25: 128000 | V25: กองช่างเทศบาลตำบลทับมา | W25: งบประมาณเทศบาลตำบลทับมา | X25: 128000
F26: โครงการขยายเขตระบบจำหน่ายน้ำประปาภูมิภาคสายทาง รย.ถ.90147 (ถนนลุงพล) ชุมชนบ้านทับมา หมู่ที่ 4 ตำบลทับมา อำเภอเมือง จังหวัดระยอง - วางท่อประปามีความยาว 620.00 เมตร พร้อมอุปกณ์ | G26: ชุมชนบ้านทับมา หมู่ที่ 4 ตำบลทับมา | I26: 496000 | V26: กองช่างเทศบาลตำบลทับมา | W26: งบประมาณเทศบาลตำบลทับมา | X26: 496000
F27: โครงการก่อสร้างโคมไฟฟ้าส่องสว่างสายทางถนนเสม็ดแดง -หัวหญ้าคา ชุมชนบ้านเขาไผ่หมู่ที่ 5 | V27: กองช่างเทศบาลตำบลทับมา | W27: งบประมาณเทศบาลตำบลทับมา
F28: โครงการก่อสร้างโคมไฟฟ้าส่อง สว่างสายทาง รย.ถ.90115 (ซอยปราโมทย์) ชุมชนบ้าน แหลมทองหลาง หมู่ที่ 6 | V28: กองช่างเทศบาลตำบลทับมา | W28: งบประมาณเทศบาลตำบลทับมา
F29: 2.1.17 โครงการก่อสร้างโคมไฟฟ้าส่องสว่างสายทางแหลมมะขาม -การ์เด้นโฮม ชุมชนบ้านแหลมมะขาม หมู่ที่ 2 | V29: กองช่างเทศบาลตำบลทับมา | W29: งบประมาณเทศบาลตำบลทับมา
F30: โครงการก่อสร้างท่อระบายน้ำคอนกรีตเสริมเหล็กสายทาง รย.ถ.90185 (ถนนยางปีนตอ ซอย 1) ชุมชนบ้านเขาโบสถ์ หมู่ที่ | G30: ถนนเส้นมาบตาพุด - หาดทรายทอง | I30: 8757000 | V30: กองช่างเทศบาลตำบลทับมา | W30: งบประมาณเทศบาลตำบลทับมา
F31: โครงการก่อสร้างท่อระบายน้ า คอนกรีตเสริมเหล็กสายทาง รย.ถ.90203 (ถนนมาบเตย - ทงุ่ นอก) ชุมชนบ้านเขาโบสถ์ หมู่ที่ 7 | V31: กองช่างเทศบาลตำบลทับมา | W31: งบประมาณเทศบาลตำบลทับมา
F32: โครงการก่อสร้างรางระบายน้ า คอนกรีตเสริมเหล็กสายทาง ซอยวัดทับมา - ตั้งเซ่ง ชุมชน บ้านขนาบ หมู่ที่ 1 | V32: กองช่างเทศบาลตำบลทับมา | W32: งบประมาณเทศบาลตำบลทับมา
F33: โครงการก่อสร้างรางระบายน้ า คอนกรีตเสริมเหล็กสายทางซอย เสริมทรัพย์ชุมชนบ้านแหลม ทองหลาง หมู่ที่ 6 | V33: กองช่างเทศบาลตำบลทับมา | W33: งบประมาณเทศบาลตำบลทับมา
F34: โครงการก่อสร้างรางระบายน้ำ คอนกรีตเสริมเหล็กสายทาง รย.ถ.90024 (เกาะพรวด ซอย 2) ชุมชนบ้านขนาบ หมู่ที่1 ต.ทับมา อ.เมือง จ.ระยอง | V34: กองช่างเทศบาลตำบลทับมา | W34: งบประมาณเทศบาลตำบลทับมา
F35: โครงการสถานประกอบการปลอดภัยจากอัคคีภัย | V35: กองช่างเทศบาลตำบลทับมา | W35: งบประมาณเทศบาลตำบลทับมา | X35: 123000
F36: โครงการจุดบริการเพื่อประชาชนเพือป้องกันและลดอุบัติเหตุทางจราจรช่วงเทศกาลปีใหม่ | V36: สภ.ระยอง | W36: งบประมาณเทศบาลตำบลทับมา | X36: 192000
F37: โครงการจุดบริการ ประชาชนเพื่อป้องกัน และลดอุบัติเหตุทางจราจรช่วงเทศกาลสงกรานต์ | V37: อปท.ทต.ทับมา | W37: งบประมาณเทศบาลตำบลทับมา | X37: 30000
F38: โครงการฝึกซ้อมแผนป้องกันและบรรเทาสาธารณภัย | V38: อปท.ทต.ทับมา | W38: งบประมาณเทศบาลตำบลทับมา | X38: 123000
F39: โครงการซ่อมแซ่มระบบกล้องวงจรปิดจุดเสี่ยงตำบลทับมา หมู่ที่1-8 | V39: กองช่างเทศบาลตำบลทับมา | W39: งบประมาณเทศบาลตำบลทับมา
F40: โครงการเฝ้าระวังคุณภาพน้ำอุปโภคบริโภคและแหล่งน้ำธรรมชาติ | V40: อปท.ทต.ทับมา | W40: งบประมาณเทศบาลตำบลทับมา | X40: 30000
F41: โครงการปรับปรุงถนนมาบตาพุด - หาดทรายทอง - ปูยางแอสฟัสท์ติกคอนกรีต หนา 0.05 - 0.08 ม. ทับหน้าผิวทางเดิม กว้าง 10.90 - 14.50 ม. ยาว 1,608 ม. หรือพื้นที่ปูยาง ไม่น้อยกว่า 21,084 ตร.ม | G41: ถนนซอยมณีแดง ช่วงที่ 2 | I41: 1800000 | V41: สำนักงานช่าง (เขต 1) (ชุมชนซอยร่วมพัฒนา) | W41: งบประมาณเทศบาลเมืองมาบตาพุด | X41: 8757000
F42: โครงการก่อสร้างถนนซอยมณีแดง ช่วงที่ 2 - ก่อสร้างถนน ค.ส.ล. หนา 0.15 ม. กว้าง 5 ม. ยาว 180 ม. หรือพื้นที่ผิวจราจรไม่น้อยกว่า 900 ตร.ม. ก่อสร้างระบบระบายน้ำ พร้อมบ่อพัก | G42: หาดสุชาดา | I42: 4000000 | V42: สำนักงานช่าง (เขต 1) (ชุมชนน้ำตกพัฒนา) | W42: งบประมาณเทศบาลเมืองมาบตาพุด | X42: 1800000
F43: ติดตั้งระบบไฟฟ้าส่องสว่างหาดสุชาดา - ทำการติดตั้งระบบไฟฟ้าส่องสว่างบริเวณหาดสุชาดา ความยาวประมาณ 1,800ม. | G43: ถนนเจริญพัฒนา ระยะที่ 2 | I43: 1300000 | V43: สำนักช่าง (เขต 2) (ชุมชนกรอกยายชา) | W43: งบประมาณเทศบาลเมืองมาบตาพุด | X43: 4000000
F44: โครงการติดตั้งระบบไฟฟ้าส่องสว่างถนนเจริญพัฒนา ระยะที่ 2 - ทำการติดตั้งเสาเหล็กกลมปลายเรียว สูง 9.00 ม. พร้อมโคมไฟฟ้าขนาด 250 วัตต์และอุปกรณ์ครบชุดจำนวนไม่น้อยกว่า 25 ชุด | G44: ถนนเส้นหน้าวัดซากลูกหญ้าเชื่อมถนนนขุด | I44: 3500000 | V44: สำนักช่าง (เขต 3) (ชุมชนเจริญพัฒนา) | W44: งบประมาณเทศบาลเมืองมาบตาพุด | X44: 1300000
F45: โครงการก่อสร้างท่อเหลี่ยมระบายน้ำหน้าวัดซากลูกหญ้าเชื่อมถนนนขุด - ทำการก่อสร้างท่อเหลี่ยม ขนาด 2.10 x 2.10 ม. ยาวประมาณ 140 ม. | G45: เทศบาลเมืองมาบตาพุด | I45: 1961000 | V45: สำนักช่าง (เขต 3) (ชุมชนชากลูกหญ้า) | W45: งบประมาณเทศบาลเมืองมาบตาพุด | X45: 3500000
F46: ติดตั้งราวป้องกันอันตราย (Steel beam quardrail) - ติดตั้งราวป้องกันอันตราย (Steel beam quardrail) บริเวณจุดเสี่ยงที่อันตราย ยาวรวมไม่น้อยกว่า 800 ม. | V46: สำนักช่าง | W46: งบประมาณเทศบาลเมืองมาบตาพุด | X46: 1961000
F47: โครงการก่อสร้างท่อระบายน้ำคอนกรีตเสริมเหล็ก ไหล่ทางถนนซากขาม-มิตประชา วอย 2 หมู่ที่ 1 ตำบลบ้านฉาง อำเภอบ้านฉาง จังหวัดระยอง - ดำเนินการก่อสร้างท่อระบายน้ำคอนกรีตเสริมเหล้กขนาดเส้นผ่าศูนย์กลาง 0.60 x 1.00 เมตร ยาว 297.00 เมตร พร้อมบ่อพักคอน | G47: เทศบาลตำบลทับมา | I47: 30000 | V47: กองช่างเทศบาลตำบลบ้านฉาง | W47: งบประมาณเทศบาลตำบลบ้านฉาง
F48: โครงการก่อสร้างถนนคอนกรีตเสริมเหล็ก ซอยสวนความสุข | V48: กองช่างเทศบาลตำบลเนินพระ | W48: งบประมาณเทศบาลตำบลเนินพระ | X48: 500000
F49: โครงการปรับปรุงซ่อมแซมถนนลูกรัง สาย 5 ธันวาเจริญสุข (ซอยข้างบ้านช่างตุ้ม) หมู่ที่ 6 | V49: กองช่างเทศบาลตำบลเนินพระ | W49: งบประมาณเทศบาลตำบลเนินพระ | X49: 182000
F50: โครงการก่อสร้างถนนลูกรัง สายหลังวัดเขาพระบาท | V50: กองช่างเทศบาลตำบลเนินพระ | W50: งบประมาณเทศบาลตำบลเนินพระ | X50: 91000
F51: โครงการรณรงค์ลดอุบัติเหตุทางท้องถนนในช่วงเทศกาลปีใหม่ | V51: บริษัทไออาร์พีซี จำกัด (มหาชน) | W51: งบประมาณบริษัทไออาร์พีซี จำกัด (มหาชน) | X51: 29828
F52: โครงการจ้างเหมาเก็บขนขยะมูลฝอยเพื่อนำไปกำจัดตามหลักสุขาภิบาล | V52: บริษัทไออาร์พีซี จำกัด (มหาชน) | W52: งบประมาณบริษัทไออาร์พีซี จำกัด (มหาชน) | X52: 1268408.2
F53: โครงการก่อสร้างสถานีสูบน้ำบ้านแหลมมะขาม ม.2 ต.ทับมา อ.เมือง จ.ระยอง | V53: สำนักงานทรัพยากรน้ำแห่งชาติ , กองช่างเทศบาลตำบลทับมา | W53: งบประมาณเทศบาลตำบลทับมา | X53: 495000
F54: โครงการเจาะบ่อบาดาลใช้ระบบโซล่าเซลล์บริเวณพื้นที่ก่อสร้างสำนักงานเทศบาล ตำบลทับมา(ใหม่) บ้านสะพานหิน ม.8 ต.ทับมา อ.เมือง จ.ระยอง | V54: สำนักงานทรัพยากรน้ำแห่งชาติ , กองช่างเทศบาลตำบลทับมา | W54: งบประมาณเทศบาลตำบลทับมา | X54: 495000
F55: โครงการก่อสร้างหอถังสูง(ถังแชมเปญ) สำหรับระบบประปาหมู่บ้าน บ้านขนาบ ม.1 ต.ทับมา อ.เมือง จ.ระยอง | V55: สำนักงานทรัพยากรน้ำแห่งชาติ , กองช่างเทศบาลตำบลทับมา | W55: งบประมาณเทศบาลตำบลทับมา | X55: 490000
F56: โครงการขยายช่องจราจรถนนคอนกรีตเสริมเหล็กและวางท่อระบายน้ำพร้อมบ่อพักคอนกรีตเสริมเหล็ก สายทางโรงยาง-สาย36 ชุมชนบ้านเขาไผ่ ม.6 ต.ทับมา อ.เมือง จ.ระยอง | V56: กองช่างเทศบาลตำบลทับมา | W56: งบประมาณเทศบาลตำบลทับมา | X56: 3525000
F57: โครงการก่อสร้างถนนคอนกรีตเสริมเหล็กพร้อมวางท่อระบายน้ำ สายทับมา-เกาะพรวด ม.1 ต.ทับมา อ.เมือง จ.ระยอง | V57: กองช่างเทศบาลตำบลทับมา | W57: งบประมาณเทศบาลตำบลทับมา | X57: 28449000
F58: โครงการขยายเขตระบบจำหน่ายน้ำประปาภูมิภาคสายทาง รย.ถ.90114(ซอยปราโมทย์) ชุมชนบ้านหนองโพรง ม.6 ต.ทับมา อ.เมือง จ.ระยอง | V58: กองช่างเทศบาลตำบลทับมา | W58: งบประมาณเทศบาลตำบลทับมา | X58: 1216800
D59: 2.2 วางระบบบริหารจัดการ | E59: ตัวชี้วัด 1.1.1 ระบบสาธารณูปโภคได้รับการพัฒนาหรือยกระดับ โดยนำแนวคิดการออกแบบเชิงนิเวศมาใช้ในการพัฒนาเมืองอุตสาหกรรมเชิงนิเวศ | F59: โครงการเฝ้าระวังคุณภาพแหล่งน้ำอุปโภคบริโภคและแหล่งน้ำธรรมชาติ - เก็บตัวอย่างน้ำอุปโภคและแหล่งน้ำธรรมชาติในชุมชนส่งตรวจเพื่อเฝ้าระวังคุณภาพน้ำ | G59: คลองทับมา ชุมชนบ้านขนาบ หมู่ที่ 1 ชุมชนบ้านทับมา หมู่ที่ 4 ชุมชนบ้านหนองมะหาด หมู่ที่ 3 ชุมชนบ้านเขาโบสถ์ หมู่ที่ 7 ตำบลทับมา อำเภอเมือง จังหวัดระยอง | I59: 200000 | V59: กองสาธารณสุขฯ เทศบาลตำบลทับมา | W59: งบประมาณเทศบาลตำบลทับมา | X59: 30000
F60: โครงการขุดลอกและกำจัดวัชพืชคลองทับมา ชุมชนบ้านขนาบ หมู่ที่ 1 ชุมชนบ้านทับมา หมู่ที่ 4 ชุมชนบ้านหนองมะหาด หมู่ที่ 3 ชุมชนบ้านเขาโบสถ์ หมู่ที่ 7 ตำบลทับมา อำเภอเมือง จังหวัดระยอง - ขุดลอกและกำจัดวัชพืชคลองทับมา ชุมชนบ้านขนาบ หมู่ที่ 1 ชุมชนบ้านทับมา หมู่ที่ 4 ชุมชนบ้านหนองมะหาด หมู่ที่ 3 ชุมชนบ้านเขาโบสถ์ หมู่ที่ 7 ตำบลทับมา อำเภอเมือง จังหวัดระยอง | V60: กองช่างเทศบาลตำบลทับมา | W60: งบประมาณเทศบาลตำบลทับมา | X60: 200000
F61: กิจกรรมปรับปรุงระบบบำบัดน้ำเสียแห่งที่ 2 เพื่อรองรับโครงการ UCF | V61: บริษัท ไออาร์พีซี จำกัด (มหาชน) | W61: งบประมาณบริษัทไออาร์พีซี จำกัด (มหาชน) | X61: 4180000
F62: กิจกรรมปรับปรุงระบบรักษาความปลอดภัย ติดตั้งกล้อง CCTV
F63: กิจกรรมปรับปรุงระบบประปา ขยายการส่งน้ำประปาจากบ้านค่าย จาก 4,000 m3/day เป็น 5,000 m3/day
F64: กิจกรรมปรับปรุงระบบ ไฟฟ้า ติดตั้งระบบไฟแสงสว่างที่ฝั่ง IP
E65: ตัวชี้วัด 2.1.1 จำนวนโรงงานที่มีการออกแบบหรือปรับปรุงอาคารและ/หรือระบบภายในอาคารที่เป็นมิตรกับสิ่งแวดล้อม และ/หรือประหยัดพลังงาน | F65: การดำเนินกิจกรรม Eco factory | V65: บริษัท ไออาร์พีซี จำกัด (มหาชน) | W65: งบประมาณบริษัทไออาร์พีซี จำกัด (มหาชน) | X65: 550000
F66: โครงการปรับปรุงอาคารเรียนและสิ่งก่อสร้างอื่น | V66: กองการศึกษา | W66: งบประมาณเทศบาลตำบลทับมา | X66: 500000
F67: โครงการเปลี่ยนหลอดไฟในอาคาร เป็น LED สำนักงานท่าเรืออุตสาหกรรมมาบตาพุด | V67: สำนักงานท่าเรืออุตสาหกรรมมาบตาพุด
F68: โครงการสำนักงานสีเขียว | V68: เทศบาลตำบลทับมา | X68: 20000
F69: โครงการติดตั้งระบบผลิตไฟฟ้าพลังงานแสงอาทิตย์ (Solar Rooftop) ที่ GCS | V69: บริษัท จีซี สไตรีนิคส์ จำกัด
F70: โครงการ เปลี่ยนหลอดไฟฟลูออเรสเซนต์ เป็น หลอดไฟ LED | V70: บริษัท ไออาร์พีซี จำกัด (มหาชน) | W70: งบประมาณบริษัทไออาร์พีซี จำกัด (มหาชน)
D71: 2.2 วางระบบบริหารจัดการ
D72: 2.3 ส่งเสริมการแปรรูปพลังงานทดแทนเพื่อรองรับการใช้พลังงานในพื้นที่
D73: รวมงบ | I73: รวมงบ | X73: =SUM(X10:X72) -> 2.9505104e+08
D74: รวมโครงการ/กิจกรรม | I74: รวมโครงการ | X74: 61

Sheet ยุทธศาสตร์ที่ 3
D1: แผนปฏิบัติการตามแผนแม่บทเมืองอุตสาหกรรมเชิงนิเวศ จังหวัดระยอง
D2: ยุทธศาสตร์ที่ 3 การยกระดับการจัดการสิ่งแวดล้อมและความปลอดภัยในพื้นที่
D3: เป้าหมาย | E3: (1) ลดความขัดแย้ง ระหว่างภาคอุตสาหกรรมและชุมชน
E4: (2) ยกระดับการบริหารจัดการสิ่งแวดล้อมและความปลอดภัยของภาคอุตสาหกรรมเป็นที่ยอมรับของประชาชน
E5: (3) มีการยกระดับการบริหารจัดการสิ่งแวดล้อมเมืองที่สอดคล้องกับการเป็นเมืองอุตสาหกรรมเชิงนิเวศ
D6: ตัวชี้วัด | E6: (1) จำนวนเครือข่ายความร่วมมือระหว่างภาครัฐ เอกชน และภาคประชาชนที่มีศักยภาพ ที่เพิ่มขึ้น
E7: (2) การต่อต้านการลงทุนและประกอบกิจการในอุตสาหกรรมเป้าหมายหลัก (เช่น ปิโตรเคมี) ของพื้นที่ลดลง
E8: (3) จำนวนโรงงานที่มีความเสี่ยงสูง (EIA EHIA ESA และรายงานประเมินความเสี่ยง) ในการเกิดมลพิษในพื้นที่อุตสาหกรรมมีการจัดการด้านของเสียที่สูงกว่า มาตรฐาน
E9: (4) จำนวนโรงงานในพื้นที่นอกเขตพื้นที่อุตสาหกรรมเป้าหมาย มีการจัดการด้านของเสียตามมาตรฐานที่กำหนด
E10: (5) จำนวนพื้นที่ที่มีค่ามาตรฐานมลพิษทางอากาศในชั้นบรรยากาศของพื้นที่อุตสาหกรรมเป้าหมาย อยู่ในเกณฑ์เหนือกว่ามาตรฐาน ที่กำหนด
E11: (6) จำนวนธุรกิจที่มีการเชื่อมโยงการใช้วัสดุเหลือใช้ และพลังงาน
E12: (7) คุณภาพสิ่งแวดล้อมที่มีนัยสำคัญ ดีขึ้น
A13: ยุทธศาสตร์ | B13: เป้าประสงค์ | C13: ตัวชี้วัด | D13: กลยุทธ์ | E13: ตัวชี้วัดโครงการ/กิจกรรม | F13: โครงการ/กิจกรรม | G13: พื้นที่เป้าหมาย | H13: แหล่งงบประมาณ | I13: งบประมาณรวม (บาท) | V13: หน่วยงานรับผิดชอบ | W13: แหล่งงบประมาณ | X13: งบประมาณรวม (บาท) | Y13: หมายเหตุ
J14: ปีงบประมาณ 2565
J15: ต.ค. | K15: พ.ย. | L15: ธ.ค. | M15: ม.ค. | N15: ก.พ. | O15: มี.ค. | P15: เม.ย. | Q15: พ.ค. | R15: มิ.ย. | S15: ก.ค. | T15: ส.ค. | U15: ก.ย. | V15: หลัก/สนับสนุน
D16: 3.1 ส่งเสริมอุตสาหกรรมที่เป็นมิตรกับสิ่งแวดล้อม | E16: จ้างเหมาเอกชนแล้วเสร็จ คุณภาพน้ำทิ้งผ่านเกณฑ์มาตรฐาน | F16: จ้างเหมาเอกชนดำเนินการดูแลบำรุงรักษาระบบรวบรวมและระบบบำบัดน้ำเสีย - จ้างเหมาเอกชนดำเนินการดูแลบำรุงรักษาระบบรวบรวมและระบบบำบัดน้ำเสีย | G16: เทศบาลเมืองมาบตาพุด | H16: งบประมาณเทศบาลเมืองมาบตาพุด | I16: 15000000 (ปีงบประมาณ 2565 ได้รับจำนวน 3 ล้านบาท) | V16: กองช่างสุขาภิบาล'เทศบาลเมืองมาบตาพุด | W16: งบประมาณเทศบาลเมืองมาบตาพุด | X16: 15,000,000 | Y16: ได้รับงบประมาณปี 2565 จำนวน 3 ล้านบาท)
E17: ตัวชี้วัด 7.1.1 คุณภาพน้ำทิ้งเป็นไปตามเกณฑ์มาตรฐาน | F17: กิจกรรมกำกับดูแลการจัดการน้ำเสียจากโรงงานนอกนิคมอุตสาหกรรม | H17: - | V17: สอจ.ระยอง
F18: กิจกรรมควบคุมโรงงานอุตสาหกรรมนอกนิคมอุตสาหกรรมให้ดำเนินการแก้ไขปัญหาการปนเปื้อนสาร VOCs ในดินและน้ำใต้ดินตามกฎกระทรวงว่าด้วยการควบคุมการปนเปื้อนในดินและน้ำใต้ดินภายในบริเวณโรงงาน | H18: - | V18: สอจ.ระยอง
F19: กิจกรรมกำกับดูแลการจัดการน้ำเสียจากโรงงานนอกนิคมอุตสาหกรรม โดยสำนักงานอุตสาหกรรมจังหวัดระยอง | H19: - | V19: สอจ.ระยอง
F20: กิจกรรมควบคุมโรงงานอุตสาหกรรมนอกนิคมอุตสาหกรรมให้ดำเนินการแก้ไขปัญหาการปนเปื้อนสาร VOCs ในดินและน้ำใต้ดินตามกฎกระทรวงว่าด้วยการควบคุมการปนเปื้อนในดินและน้ำใต้ดินภายในบริเวณโรงงาน โดย สำนักงานอุตสาหกรรมจังหวัดระยอง | H20: - | V20: สอจ.ระยอง
F21: โครงการขับเคลื่อนกับทุกภาคส่วนในการจัดการปัญหาคุณภาพน้ำในภาพรวมของคลองสาธารณะ (เขตควบคุมมลพิษ จังหวัดระยอง) | V21: สมาคมเพื่อนชุมชน | X21: 100000
F22: โครงการบูรณาการจัดการปัญหาคุณภาพแหล้งน้ำสาธารณะ (พื้นที่นำร่อง : คลองน้ำหู) | V22: สมาคมเพื่อนชุมชน | X22: 450000
E23: ตัวชี้วัด 7.2.1 ปริมาณน้ำใช้ต่อหน่วยผลิตภัณฑ์ลดลง | F23: ดำเนินกิจกรรมตาม Eco factory | V23: บริษัท ไออาร์พีซี จำกัด (มหาชน) | W23: งบประมาณบริษัท ไออาร์พีซี จำกัด (มหาชน)
F24: โครงการลดปริมาณการใช้ boiler feed water (WB) ที่หน่วย SRU | V24: บริษัท ไออาร์พีซี จำกัด (มหาชน)
F25: โครงการเพิ่มปริมาณการใช้น้ำ strip water ที่ Desalter ADU2 | V25: บริษัท ไออาร์พีซี จำกัด (มหาชน)
F26: โครงการนำน้ำที่ผ่านการบำบัดมาใช้ในการรีดตะกอนระบบบำบัดน้ำเสีย | V26: บริษัท อินโดรามา โพลีเอสเตอร์ อินดัสตรี้ส์ จำกัด (มหาชน)
F27: โครงการนำน้ำที่ผ่านการบำบัดมาใช้ในงานสวนและทำความสะอาดถนน | V27: บริษัท อินโดรามา โพลีเอสเตอร์ อินดัสตรี้ส์ จำกัด (มหาชน)
F28: โครงการนำน้ำ Blowdown ของระบบน้ำหล่อเย็นกลับมาใช้ในเครื่อง vacuum pyrolysis | V28: บริษัท อินโดรามา โพลีเอสเตอร์ อินดัสตรี้ส์ จำกัด (มหาชน)
E29: ตัวชี้วัด 7.2.2 ปริมาณน้ำทิ้งต่อหน่วยผลิตภัณฑ์ลดลง | F29: ดำเนินกิจกรรมตาม Eco factory
E30: ตัวชี้วัดที่ 7.3.1 คุณภาพแหล่งน้ำสาธารณะ | F30: ประชารัฐร่วมใจ คืนคลองสวย น้ำใสในชุมชน | V30: เทศบาลตำบลเนินพระ | X30: 150000
F31: โครงการบูรณาการจัดการปัญหาคุณภาพแหล่งน้ำสาธารณะ(คลองน้ำหู) - เก็บข้อมูลคุณภาพน้ำและสรุปผล (Before /After ) หลังติดตั้ง model ทดสอบปรับปรุงคุณภาพน้ำในคลองน้ำหู - สรุปผลแนวทางการจัดการน้ำเสียชุมชน - ทางเลือกในการบำบัดน้ำเสียที่เหมาะสม - มาตรการต่างๆในการป้องกัน และเฝ้าระวังน้ำเสียชุมชน - จัดอบรมและถ่ายทอดให้เครือข่ายชุมชน / องค์กรปกครองส่วนท้องถิ่นในพื้นที่ อบรมให้ความรู้การจัดการน้ำเสียให้กับชุมชนและเทศบาลในพื้นที่ อบรมถังดักไขมัน / การทำจุลินทรีย์บำบัดน้ำเสียจากเศษอาหาร โดยร่วมกับภาคีเครือข่ายในพื้นที่ - ขยายผลแนวทางการจัดการน้ำเสียชุมชน ให้องค์กรปกครองส่วนท้องถิ่นและภาคีเครือข่าย | V31: อบจ.ระยอง/ทสจ., คพ., ทม.มาบตาพุด, ทต.ทับมา, ทต.เนินพระ, สมาคมเพื่อนชุมชน | X31: 450000
E32: 3.4 ติดตามเฝ้าระวัง และบริหารจัดการสิ่งแวดล้อมเมืองและชุมชน | F32: ก่อสร้างระบบบำบัดน้ำเสียพื้นที่ระบบบำบัดน้ำเสียเดิมของ ทน.ระยอง และก่อสร้างระบบรวบรวม นำเสียครอบคลุมพื้นที่ ทน.ระยอง ทต.เนินพระ ทต.ทับมา และทต.มาบข่าพัฒนา รวม 64 ตร.กม. | V32: อบจ.ระยอง/ทสจ.,สถ.จ.,สสภ.,สผ.,คพพ.,ทน.ระยอง,ทต.ทับมา,ทต.เนินพระ | X32: 804000000 | Y32: ยังใม่ได้รับงบประมาณจัดสรร
E33: สำรวจคลองสาธารณะที่มีสภาพตื้นเขินและคุณภาพน้ำ ไม่เป็นไปตามมาตรฐาน ติดตั้งเครื่องเติมอากาศโดยใช้พลังงานแสงอาทิตย์ ตามจุดต่างๆ ในคลองสายหลัก ในเขตควบคุมมลพิษ | F33: โครงการปรับปรุงคุณภาพน้ำในคลองสายหลักในเขตควบคุมมลพิษ | V33: อปท.ในเขตควบคุมมลพิษ/ ทสจ., สสภ. | X33: 140000
E34: ตรวจสอบและบังคับตามกฎหมายกับการจัดการน้ำเสียจากอาคารขนาดใหญ่ต่างๆ เช่น โรงแรม โรงพยาบาล โรงเรียน ตลาด ตามกฎหมายว่าด้วยการส่งเสริมและรักษาคุณภาพสิ่งแวดล้อมแห่งชาติ | F34: การกำกับดูแลการจัดการจัดการน้ำเสียจากอาคารขนาดใหญ่ | V34: สสภ./คพ./ทสจ. | X34: 1000000
E35: ตัวชี้วัด 10.1.1 อัตราการใช้พลังงานทดแทน | F35: โครงการ Floating solar 9.4 MW ที่บ่อเก็บน้ำดิบของเขตประกอบการฯ | V35: บริษัทไออาร์ พีซี จำกัด (มหาชน)
F36: อบรมให้ความรู้การอนุรักษ์พลังงานและการใช้พลังงานทดแทน | V36: เทศบาลเมืองมาบตาพุด | X36: 20000
F37: โครงการดพิ่มสมรรถนะด้านการบริหารและจัดการพลังงานครบวงจรในชุมชนระดับตำบล และเครื่อข่ายพลังงานชุมชน ภายใต้งบอุดหนุน ส่งเสริมเทคโนโลยีพลังงานชุมชน | V37: พลังงานจังหวัดระยอง บริษัทในเขตควบคุมมลพิษ (มาบตาพุด)
F38: โครงการส่งเสริมเทคโนโลยีรถสูบน้ำพลังงานแสงอาทิตย์แบบเคลื่อนที่ขนาดไม่น้อยกว่า 320 วัตต์ เพื่อลดรายจ่ายพลังงานให้กับกลุ่มวิสาหกิจชุมชนจังหวัดระยอง ส่งเสริมวิถีชีวิตเกษตรแบบพอเพียง
F39: โครงการส่งเสริมเทคโนโลยีพลังงานทดแทนระบบอบแห้งพลังงานแสงอาทิตย์เพื่อลดต้นทุนการผลิต ยกระดับคุณภาพและสร้างมูลค่าเพิ่มให้กับผลิตภัณฑ์ของกลุ่มวิสาหกิจชุมชนในจังหวัดระยอง
F40: โครงการส่งเสริมเทคโนโลยีพลังงานทดแทนที่เหมาะสม เพื่อลดรายจ่ายและเพิ่มคุณภาพให้ผลิตภัณฑ์กับกลุ่มวิสาหกิจชุมชนในพื้นที่เขตกองทุนพัฒนาไฟฟ้า เขตนิคมอุตสาหกรรมมาบตาพุด
F41: โครงการติดตั้ง Solar roof
F42: โครงการติดตั้ง Solar Floating
E43: ตัวชี้วัด 10.2.1 สัดส่วนโรงงานที่ดำเนินกิจกรรมหรือมาตรการลดการใช้พลังงานหรือเพิ่มประสิทธิภาพการใช้พลังงาน | F43: โครงการอนุรักษ์พลังงานของโรงงาน ตาม EII reduction roadmap ของบริษัท
F44: โครงการลดการใช้เชื้อเพลิง จากการลดระยะทางขนส่งด้วยรถโฟล์คลิฟท์
F45: โครงการลดการใช้พลังงานไฟฟ้าจากการลดจำนวน Batch Grade GA800 5229 ที่ Line 01x003
F46: โครงการลดปริมาณการใช้ไอน้ำใน Reactor 53R001
F47: โครงการ Smart Park นิคมฯ แห่งเทคโนโลยี | V47: สนพ.
F48: โครงการเพิ่มประสิทธิภาพและอนุรักษ์การใช้พลังงาน | V48: บริษัทในเขตนิคมอุตสาหกรรม | X48: 75790000
E49: ตัวชี้วัด 12.1.1 สัดส่วนโรงงานอุตสาหกรรมที่มีกระบวนการผลิตที่เป็นมิตรกับสิ่งแวดล้อม (Eco-Process) หรือได้รับการรับรองโรงงานอุตสาหกรรมเชิงนิเวศ (Eco Factory) | F49: ต่ออายุการรับรองโรงงานอุตสาหกรรมเชิงนิเวศ (Eco factory) 11 โรงงาน
F50: กิจกรรมรับรอง GIS เพิ่มอีก 6 โรงงาน (จำนวนโรงงานที่ได้รับการรับรองทั้งหมด 25 โรงงาน ปี 2564 ได้รับการรับรอง GI5 แล้ว 9 โรงงาน (GI4 = 25 โรงงาน))
F51: ดำเนินกิจกรรมตาม Eco factory | V51: บริษัท ไออาร์พีซี จำกัด (มหาชน)
F52: ต่ออายุการรับรองโรงงานอุตสาหกรรมเชิงนิเวศ (Eco factory) | V52: บริษัทในสมาคมเพื่อนชุมชน
F53: ดำเนินกิจกรรมตาม Eco factory
F54: โครงการลดการศูญเสีย Benzene product เมื่อมีหน่วย VRU | V54: บริษัท ไออาร์พีซี จำกัด (มหาชน)
F55: โครงการลดการปลดปล่อย VOCs
F56: Sent Benzene
F57: โครงการลดการสูญเสีย Mixed Xylene product ที่ 04D004 bไป Flare
E58: ตัวชี้วัด 13.1.1 สัดส่วนโรงงานอุตสาหกรรมที่มีการวิเคราะห์ข้อมูลประสิทธิภาพเชิงนิเวศ (Eco Efficiency) ใน 4 ด้าน ประกอบด้วย ด้านการใช้น้ำ ด้านพลังงาน ด้านปริมาณน้ำทิ้ง และด้านกากของเสียและวัสดุเหลือใช้ | F58: ดำเนินกิจกรรมตาม Eco factory
E59: ตัวชี้วัด 13.2.1 สัดส่วนโรงงานอุตสาหกรรมที่ดำเนินกิจกรรมหรือมาตรการเพื่อลดการปล่อยก๊าซเรือนกระจก | F59: โครงการอนุรักษ์พลังงานตาม EII reduction roadmap
F60: กิจกรรมการจัดทำ Carbon Footprint Organization (CFO) เพิ่มอีก 11 โรงงาน | V60: บริษัท ไออาร์พีซี จำกัด (มหาชน) | W60: งบประมาณบริษัท ไออาร์พีซี จำกัด (มหาชน)
F61: กิจกรรมการจัดทำ Carbon Footprint Product (CFP) ในส่วนของ Utility ประกอบด้วย ไฟฟ้า ไอน้ำ น้ำใช้
F62: โครงการลดการสูญเสียความร้อนที่ผนังเตาแตกโมเลกุล โดยการใช้สาร Emisspro | V62: บริษัท SCG | X62: 28000000
E63: ตัวชี้วัด 13.2.1 สัดส่วนโรงงานอุตสาหกรรมที่ดำเนินกิจกรรมหรือมาตรการเพื่อลดการปล่อยก๊าซเรือนกระจก | F63: กิจกรรมขอการรับรอง T-VER 1 โครงการ | V63: บริษัท ไออาร์พีซี จำกัด (มหาชน) | W63: งบประมาณบริษัท ไออาร์พีซี จำกัด (มหาชน)
E64: ตัวชี้วัด 11.1.1 การตอบสนองต่อข้อร้องเรียนด้านเหตุเดือดร้อนรำคาญ | F64: โครงการปรับปรุงเพื่อลดกลิ่นจากกระบวนการผลิตของโรงงาน
F65: ารดำเนินการเพื่อติดตั้ง Enclose ground flare
D66: 3.2 ส่งเสริมการพัฒนาศักยภาพวิสาหกิจชุมชน และ OTOP เพื่อรองรับการพัฒนาเมืองอุตสาหกรรมเชิงนิเวศ | E66: ตัวชี้วัดที่ 9.1.1 อัตราการนำสิ่งปฏิกูลหรือวัสดุไม่ใช้แล้วของภาคอุตสาหกรรมกลับมาใช้ใหม่ | F66: รับปรุงระบบระบายน้ำเสีย และติดตั้งระบบบำบัดน้ำเสียรวมตลาดสดเทศบาลเมืองมาบตาพุด - ก่อสร้างรางระบายน้ำขนาด 50x50 ซม. ยาว 235 ม. และติดตั้งถังบำบัดน้ำเสียขนาดปริมาตร 40 ลบ.ม. | G66: เทศบาลเมืองมาบตาพุด | H66: งบประมาณเทศบาลเมืองมาบตาพุด | I66: 4420000 | V66: กองช่างสุขาภิบาล'เทศบาลเมืองมาบตาพุด | W66: งบประมาณเทศบาลเมืองมาบตาพุด | X66: 4420000
F67: 3.2.2 กิจกรรมกำกับดูแลโรงงานอุตสาหกรรมนอกนิคมอุตสาหกรรมให้ส่งกากอุตสาหกรรมทั้งประเภทอันตรายและไม่อันตรายเข้าสู่โรงงานกำจัดกากอุตสาหกรรม | H67: -
F68: โครงการปรับปรุงการจัดการด้านขยะ/กากของเสียอุตสาหกรรม | V68: บริษัท จีซี ไกลคอล จำกัด
F69: โครงการส่งพลาสติกกลับบ้าน | V69: บริษัท จีซี ไกลคอล จำกัด
E70: 1. ประชาสัมพันธ์และให้ความรู้แก่ประชาชนในการคัดแยกขยะมูลฝอยในครัวเรือนแบบแยกประเภท 2. อบรมให้ความรู้แก่เจ้าหน้าที่ อปท. ในการจัดระบบเก็บรวบรวมขยะมูลฝอยแบบแยกประเภท 3. จัดกิจกรรม/ฝึกปฏิบัติ การคัดแยกขยะมูลฝอย | F70: โครงการส่งเสริมการคัดแยกขยะมูลฝอยต้นทาง | V70: อบจ.ระยอง, อปท. ในเขตควบคุมมลพิษ/ สถ.จ., ทสจ., สสภ., สส., คพ. | W70: งปม.ท้องถิ่น | X70: 2000000
B71: 3) มีการยกระดับการบริหารจัดการสิ่งแวดล้อมเมืองที่สอดคล้องกับการเป็นเมืองอุตสาหกรรมเชิงนิเวศ | C71: (7) คุณภาพสิ่งแวดล้อมที่มีนัยสำคัญ ดีขึ้น | D71: 3.3 ส่งเสริมการจัดการ การกำจัดขยะและกากอุตสาหกรรม | E71: ผู้เข้ารับการอบรมมีความรู้ในการบำบัดน้ำเสียไม่น้อยกว่าร้อยละ 80 | F71: รณรงค์การใช้ถังดักไขมันในครัวเรือน - อบรมให้ความรู้แก่ประชาชนและรณรงค์การใช้ถังดักไขมันเพื่อการบำบัดน้ำเสียในครัวเรือน | G71: เทศบาลเมืองมาบตาพุด | H71: งบประมาณเทศบาลเมืองมาบตาพุด | I71: 350000 (ปีงบประมาณ 2565 ได้รับจำนวน 7 หมื่นบาท) | V71: กองช่างสุขาภิบาล'เทศบาลเมืองมาบตาพุด | W71: งบประมาณเทศบาลเมืองมาบตาพุด | X71: 350000 | Y71: ได้รับงบประมาณปี 2565 จำนวน 7 หมื่นบาท)
E72: ตัวชี้วัดที่ 9.2.1 อัตราการจัดการมูลฝอยชุมชน | F72: โครงการฝึกอบรม "เยาวชนลดขยะพลาสติกและภาชนะโฟม" เทศบาลตำบลเนินพระ | V72: กองสาธารณสุข เทศบาลตำบลเนินพระ | W72: งบประมาณเทศบาลตำบลเนินพระ | X72: 25000
F73: โครงการชุมชนปลอดโฟมและถุงพลาสติก | V73: กองสาธารณสุข เทศบาลตำบลทับมา | W73: งบประมาณเทศบาลตำบลทับมา | X73: 20000
F74: โครงการคัดแยกขยะอันตรายและขยะติดเชื้อในชุมชน | V74: กองสาธารณสุข เทศบาลตำบลทับมา | W74: งบประมาณเทศบาลตำบลทับมา | X74: 20000
F75: โครงการบริหารจัดการขยะ | V75: กองสาธารณสุข เทศบาลตำบลบ้านฉาง | X75: 2500000
F76: โครงการจ้างเหมาเอกชนจัดเก็บขยะมูลฝอยในเขตเทศบาลตำบลบ้านฉางและขนย้ายไปกำจัด | V76: กองสาธารณสุข เทศบาลตำบลบ้านฉาง | X76: 9000000
F77: โครงการส่งเสริมการจัดการขยะอินทรีย์ในครัวเรือน | V77: กองสาธารณสุข เทศบาลตำบลบ้านแลง
F78: โครงการประสานความร่วมมือในการกำกับติดตามดำเนินงานตามแผนจัดการขยะมูลฝอยของเสียในพื้นที่จังหวัดระยอง | V78: ทสจ.ระยอง | X78: 145600
F79: โครงการส่งเสริมสนับสนุนการคัดแยกขยะมูลฝอยจังหวัดระยอง | V79: ทสจ.ระยอง
F80: โครงการรณรงค์ลดปริมาณขยะ | V80: เทศบาลเมืองมาบตาพุด | X80: 200000
F81: โครงการคัดแยกขยะก่อนทิ้ง | V81: เทศบาลตำบลมาบข่าพัฒนา | X81: 100000
F82: โครงการชุมชนต้นแบบการบริหารจัดการขยะ | V82: เทศบาลตำบลมาบข่าพัฒนา | X82: 120000
E83: 1.อบรมให้ความรู้และศึกษาดูงานการจัดการขยะมูลฝอย ให้กับเยาวชนในโรงเรียน ที่อยู่ในพื้นที่กองทุนพัฒนาไฟฟ้าเขตนิคมอุตสาหกรรมมาบตาพุดจำนวน 4 รุ่น รวม 320 คน | F83: ส่งเสริมการบริหารจัดการขยะมูลฝอยที่ต้นทางในพื้นที่กองทุนพัฒนาไฟฟ้า เขตนิค,อุตสาหกรรมมาบตาพุด จังหวัดระยอง | V83: ทสจ. | W83: งบกองทุนพัฒนาไฟฟ้า | X83: 1500000
E84: 1. ประชาสัมพันธ์และให้ความรู้แก่ประชาชนในการคัดแยกขยะมูลฝอยในครัวเรือนแบบแยกประเภท 2. อบรมให้ความรู้แก่เจ้าหน้าที่ อปท. ในการจัดระบบเก็บรวบรวมขยะมูลฝอยแบบแยกประเภท 3. จัดกิจกรรม/ฝึกปฏิบัติ การคัดแยกขยะมูลฝอย | F84: โครงการส่งเสริมการคัดแยกขยะมูลฝอยต้นทาง | V84: อบจ.ระยอง, อปท. ในเขตควบคุมมลพิษ/ สถ.จ., ทสจ., สสภ., สส., คพ. | W84: งปม.ท้องถิ่น | X84: 2000000
C85: (3) จำนวนโรงงานที่มีความเสี่ยงสูง (EIA EHIA ESA และรายงานประเมินความเสี่ยง) ในการเกิดมลพิษในพื้นที่อุตสาหกรรมมีการจัดการด้านของเสียที่สูงกว่า มาตรฐาน | E85: ในชุมชนและโรงเรียน | F85: 3.4.1 โครงการฝึกอบรมพัฒนาศักยภาพทีมกู้ชีพกู้ภัย หลักสูตรการกู้ภัยสารเคมีและวัตถุอันตราย ระดับทีมปฏิบัติการ (First response operation of hazardous material) - การฝึกซ้อมการป้องกันและบรรเทาสาธารณภัย ด้านสารเคมีและวัตถุอันตราย | G85: 2 พื้นที่เป้าหมาย ของระยอง | H85: งบกระทรวง (กระทรวงมหาดไทย) | I85: 680000 | V85: สำนักงานป้องกันและบรรเทาสาธารณภัยจังหวัดระยอง | W85: งบกระทรวง (กระทรวง มหาดไทย) | X85: 680000
F86: โครงการจ้างเหมาเก็บขนขยะมูลฝอยเพื่อนำไปกำจัดตามหลักสุขาภิบาล | V86: กองสาธารณสุขและสิ่งแวดล้อม | X86: 1268408.2 | Y86: ดำเนินการแล้วเสร็จ ใช้งบประมาณ 1,268,408.25 บาท ของ ปีงบประมาณ พ.ศ.2565
F87: โครงการจ้างเหมาเอกชนรักษาความสะอาด ซอย ทางเท้าและไหล่ทางในเขตเทศบาลตำบลเชิงเนิน | V87: กองสาธารณสุขและสิ่งแวดล้อม | X87: 6000000 | Y87: อยู่ระหว่างดำเนินการ ใช้งบประมาณปี พ.ศ.2565
F88: โครงการจ้างเหมาเอกชน เก็บขนขยะมุลฝอย ในเขตเทศบาลตำบลเชิงเนิน | V88: กองสาธารณสุขและสิ่งแวดล้อม | X88: 18200000 | Y88: อยู่ระหว่างดำเนินการ ใช้งบประมาณปี พ.ศ.2565
F89: โครงการจ้างเหมากำจัดขยะมูลฝอย | V89: กองสาธารณสุขและสิ่งแวดล้อม | X89: 8400000 | Y89: อยู่ระหว่างดำเนินการ ใช้งบประมาณปี พ.ศ.2565
F90: โครงการคัดแยกขยะก่อนทิ้งเป็นมิตรกับสิ่งแวดล้อม | V90: กองสาธารณสุขและสิ่งแวดล้อม | X90: 40000 | Y90: อยู่ระหว่างดำเนินการ ใช้งบประมาณปี พ.ศ.2565
F91: โครงการคัดแยกจยะอินทรีย์ในครัวเรือน | V91: กองสาธารณสุขและสิ่งแวดล้อม | X91: 40000 | Y91: อยู่ระหว่างดำเนินการ ใช้งบประมาณปี พ.ศ.2565
D92: 3.4 ติดตาม เฝ้าระวัง และบริหารจัดการสิ่งแวดล้อมเมืองและชุมชน | E92: ประชาชนในพื้นที่เสี่ยงภัยด้านสารเคมีและวัตถุอันตราย (รอบเขตประกอบการนิคมอุตสาหกรรมในเขตพื้นที่ตำบลมาบตาพุด และตำบลบ้านฉาง) มีความพร้อมในการจัดการสาธารณภัยของชุมชน/หมู่บ้านอย่างเป็นระบบ โดยชุมชน/หมู่บ้านคิดเอง ทำเอง และใช้ทรัพยากรของชุมชน/หมู่บ้านอย่างมีประสิทธิภาพ | F92: โครงการเสริมสร้างศักยภาพชุมชนด้านการป้องกันและบรรเทาสาธารณภัย (รอบเขตประกอบการนิคมอุตสาหกรรมในเขตพื้นที่ตำบลมาบตาพุด และตำบลบ้านฉาง) - จัดอบรม - ดำเนินการติดตามและให้คำแนะนำในการจัดทำแผนป้องกันและบรรเทาสาธารณภัยของชุมชน | G92: 2 พื้นที่เป้าหมาย ของระยอง | H92: งบกระทรวง (กระทรวงมหาดไทย) | I92: 2226000 | V92: สำนักงานป้องกันและบรรเทาสาธารณภัยจังหวัดระยอง / สำนักงานอุตสาหกรรมจังหวัดระยองสำนักงานนิคมอุตสาหกรรม (ในพื้นที่เขตควบคุมมลพิษมาบตาพุด) | X92: 2226000
F94: พัมนาเครือข่ายเฝ้าระวังสิ่งแวดล้อมเชิงรุกในมาบตาพุดคอมเพล็กซ์ โดยแบ่งปันความรู้การจัดการด้านสิ่งแวดล้อม (อากาศ เช่น VOCs และน้ำ) และซ้อมทบทวนในเครือข่ายเฝ้าระวังสิ่งแวดล้อมเชิงรุก แบ่งตามโซนพื้นที่ครอบคลุม 7 โซน | V94: สมาคมเพือนชุมชน | X94: 220000
E95: ผลวิเคราะห์น้ำหลังผ่านการบำบัดผ่านเกณฑ์ตามกรมควบคุมมลพิษกำหนด | F95: บริหารจัดการระบบบำบัดน้ำเสีย เทศบาลเมืองมาบตาพุด โดยองค์กรจัดการน้ำเสีย - บำบัดน้ำเสีย โดยมีผลวิเคราะห์ผ่านเกณฑ์มาตรฐานที่ราชการกำหนดและสูบน้ำเข้าระบบบำบัดได้ปริมาณเพิ่มขึ้น | G95: เทศบาลเมืองมาบตาพุด | H95: งบประมาณเทศบาลเมืองมาบตาพุด | I95: 24536000 (ปีงบประมาณ 2565 ได้รับจำนวน 4,907,200 บาท) | V95: กองช่างสุขาภิบาล'เทศบาลเมืองมาบตาพุด | W95: งบประมาณเทศบาลเมืองมาบตาพุด | X95: 24,536,000 | Y95: ได้รับงบประมาณปี 2565 จำนวน 4,907,200 บาท
E96: ตัวชี้วัด 7.1.1 คุณภาพน้ำทิ้งเป็นไปตามเกณฑ์มาตรฐาน | F96: กิจกรรมตรวจวัดคุณภาพน้ำตามมาตรการ EIA/EHIA | V96: บริษัท ไออาร์พีซี จำกัด (มหาชน) อปท.มาบตาพุด อปท.ทับมา อปท.เนินพระ สำนักงานจัดการน้ำเสีย (สาขาบ้านเพ) สำนักงานทรัพยากรธรรมชาติและสิ่งแวดล้อมจังหวัดระยอง โครงการชลประทานระยอง สำนักงานอุตสาหกรรมจังหวัดระยอง | W96: งบประมาณบริษัท ไออาร์พีซี จำกัด (มหาชน)
F97: การตรวจวิเคราะห์คุณภาพน้ำทิ้งตามพารามิเตอร์ต่างๆ - pH - Temperature - DO - BOD₅ - COD - Suspended Solids | V97: อปท.ทม.มาบตาพุด
F98: การตรวจวิเคราะห์คุณภาพน้ำจากระบบบำบัดน้ำเสียโรงพยาบาลเฉลิมพระเกียรติ สมเด็จพระเทพรัตนราชสุดาฯ สยามบรมราชกุมารี ระยอง - ความเป็นกรด-ด่าง - สารที่ละลายได้ทั้งหมด - สารแขวนลอย - BOD - COD | V98: รพ.เฉลิมพระเกียรติ สมเด็จพระเทพรัตนราชสุดา ฯ
E99: ตัวชี้วัด 9.1.1 อัตราการนำกากของเสียอุตสาหกรรมกลับมาใช้ใหม่ | F99: ดำเนินกิจกรรมตาม Eco factory | V99: สำนักงานนิคมอุตสาหกรรมเขตควบคุมมลพิษ /เขตประกอบการไออาร์พีซี/สอจ.ระยอง
E100: ตัวชี้วัด 8.1.1 คุณภาพอากาศในบรรยากาศทั่วไปบริเวณนิคมอุตสาหกรรมเขตประกอบการอุตสาหกรรม สวนอุตสาหกรรมชุมชน อยู่ในเกณฑ์มาตรฐาน | F100: กิจกรรมเฝ้าระวัง ตรวจวัดตามมาตรการ EIA/EHIA | V100: สำนักงานนิคมอุตสาหกรรมเขตควบคุมมลพิษ /เขตประกอบการไออาร์พีซี/สอจ.ระยอง
E101: ตัวชี้วัด 8.1.2 สัดส่วนโรงงานอุตสาหกรรมที่ดำเนินกิจกรรมการลดการปล่อยมลพิษทางอากาศที่มีนัยสำคัญได้ดีกว่าเกณฑ์มาตรฐาน | F101: กิจกรรมเฝ้าระวัง ตรวจวัดตามมาตรการ EIA/EHIA | V101: สำนักงานนิคมอุตสาหกรรมเขตควบคุมมลพิษ /เขตประกอบการไออาร์พีซี/สอจ.ระยอง
...

Sheet ยุทธศาสตร์ที่ 4
D1: แผนปฏิบัติการตามแผนแม่บทเมืองอุตสาหกรรมเชิงนิเวศ จังหวัดระยอง
D2: ยุทธศาสตร์ที่ 4 การสร้างความเชื่อมโยงเศรษฐกิจชุมชนและอุตสาหกรรมในพื้นที่
D3: เป้าหมาย | E3: (1) มีการเกื้อกูลการใช้ประโยชน์จากการพัฒนาอุตสาหกรรมในพื้นที่ร่วมกัน เพื่อเพิ่มรายได้กับชุมชน
D4: ตัวชี้วัด | E4: (1) จำนวนโรงงานที่เชื่อมโยงการใช้ประโยชน์ร่วมกันชุมชนเพิ่มขึ้น
D5: กลยุทธ์ | E5: ตัวชี้วัดโครงการ/กิจกรรม | F5: โครงการ/กิจกรรม | G5: พื้นที่เป้าหมาย | H5: แหล่งงบประมาณ | I5: งบประมาณรวม (บาท) | J5: ระยะเวลาดำเนินโครงการ | V5: หน่วยงานรับผิดชอบ | X5: งบประมาณรวม (บาท) | Y5: หมายเหตุ
J6: ปีงบประมาณ 2565
J7: ต.ค. | K7: พ.ย. | L7: ธ.ค. | M7: ม.ค. | N7: ก.พ. | O7: มี.ค. | P7: เม.ย. | Q7: พ.ค. | R7: มิ.ย. | S7: ก.ค. | T7: ส.ค. | U7: ก.ย.
D8: 4.1 สร้างความเชื่อมโยงอุตสาหกรรมเป้าหมายหลักกับอุตสาหกรรมชุมชน
D9: 4.1 ส่งเสริมความเชื่อโยงอุตสาหกรรม เป้าหมายหลักกับอุตสาหกรรมชุมชน | E9: ตัวชี้วัด 5.1.1 สัดส่วนโรงงานอุตสาหกรรมที่มีการผลิตสินค้าหรือบริการที่เป็นมิตรต่อสิ่งแวดล้อม (Eco-Product /Eco-Service) หรือมีการจัดซื้อจัดจ้างสินค้าและบริการที่เป็นมิตรต่อสิ่งแวดล้อม (Green Purchasing) ต่อจำนวนผู้ประกอบการทั้งหมด | F9: ดำเนินกิจกรรมตาม Eco factory | V9: สำนักงานนิคมอุตสาหกรรม(ในพื้นที่เขตควบคุมมลพิษมาบตาพุด) บริษัท ไออาร์พีซี จำกัด (มหาชน) | W9: งบประมาณบริษัท ไออาร์พีซี จำกัด (มหาชน)
E10: ตัวชี้วัด 6.1.1 สัดส่วนโรงงานอุตสาหกรรมที่มีกิจกรรมหรือมาตรการที่ปลอดภัย ลดต้นทุน หรือเพิ่มประสิทธิภาพระบบขนส่งและโลจิสติกส์ขององค์กร | F10: ดำเนินกิจกรรมตาม Eco factory | V10: สำนักงานนิคมอุตสาหกรรม(ในพื้นที่เขตควบคุมมลพิษมาบตาพุด) บริษัท ไออาร์พีซี จำกัด (มหาชน)
F11: โครงการการจัดซื้อที่เป็นมิตรต่อสิ่งแวดล้อม - Eco Process - Eco Product by PTTGC - Eco Product by SCG | V11: สำนักงานนิคมอุตสาหกรรม(ในพื้นที่เขตควบคุมมลพิษมาบตาพุด) บริษัท ไออาร์พีซี จำกัด (มหาชน)
E12: ตัวชี้วัด 4.1.2 สัดส่วนโรงงานอุตสาหกรรมที่มีจำนวนแรงงานท้องถิ่น | F12: กิจกรรม Update ฐานข้อมูลพนักงานให้เป็นปัจจุบัน | V12: สำนักงานนิคมอุตสาหกรรม(ในพื้นที่เขตควบคุมมลพิษมาบตาพุด) บริษัท ไออาร์พีซี จำกัด (มหาชน)
E13: ตัวชี้วัด 4.1.3 สัดส่วนโรงงานอุตสาหกรรมที่มีการจัดซื้อจัดจ้างสินค้าหรือบริการจากชุมชน หรือ ส่งเสริมอาชีพให้กับชุมชน หรือสนับสนุนให้เกิดความยั่งยืนทางด้าน การตลาด หรือพัฒนาหลักสูตรส่งเสริมอาชีพหรือทักษะแรงงาน | F13: โครงการการซื้อจัดจ้างสินค้า ส่งเสริมกิจกรรมหรือกลุ่มอาชีพ และทักษะแรงงานของคนในชุมชน เช่น - สนับสนุนส่งเสริมกิจกรรมประเพณี“ บุญเดือนสาม ข้าวหลามชาวระยอง” - สนับสนุนกระเช้าสวัสดีปีใหม่ สินค้าวิสาหกิจชุมชนและงานโอกาสพิเศษต่างๆ - มีการจ้างงานของคนในชุนชน เพื่อประกอบอาชีพ หน่วยรักษาความปลอดภัย - มีการจ้างงานของคนในชุนชน เพื่อประกอบอาชีพ แม่บ้าน - การจ้างงานคนในชุมชน เพื่อประกอบอาชีพคนสวน - มีการจัดจ้างรถตู้ของชุมชน เช่น บริษัท เขมินทร์เซอร์วิสแอนซัพพลาย จำกัด ในการเดินทางของพนักงานในโรงงาน | V13: สมาคมเพื่อนชุมชน
F14: ดำเนินกิจกกรมอย่างต่อเนื่องตามกรอบการดำเนินงานของ CSR-DIW & Eco factory | V14: บริษัท ไออาร์พีซี จำกัด (มหาชน) | X14: 1504800
E15: ตัวชี้วัดที่ 3.1.1 จำนวนเงินลงทุนของผู้ประกอบการในเมืองอุตสาหกรรมเชิงนิเวศสูงขึ้นหรือมีสมรรถนะทางการเงินที่ดีขึ้น | V15: บริษัท ไออาร์พีซี จำกัด (มหาชน)
D16: 4.2 ส่งเสริมการพัฒนาศักยภาพ วิสาหกิจชุมชน และ OTOP เพื่อรองรับการพัฒาเมืองอุตสาหกรรมเชิงนิเวศ | E16: ตัวชี้วัด 4.1.1 การส่งเสริมสนับสนุนการดำเนินกิจกรรมชุมชนในบริเวณโดยรอบ | F16: โครงการธนาคารน้ำใต้ดินส่วนขยาย | V16: บริษัท ไออาร์พีซี จำกัด (มหาชน) | W16: งบประมาณบริษัท ไออาร์พีซี จำกัด (มหาชน) | X16: 90000
F17: โครงการส่งเสริมผลผลิตทางการเกษตรด้วยซิ้งค์ออกไซด์นาโน | X17: 50000
F18: โครงการน้ำดื่มเพื่อชุมชน | X18: 200000
F19: ศูนย์การเรียนรู้สวนสมุนไพร ป่าชุมชน และธนาคารน้ำใต้ดิน (รพ.สต. บ้านก้นหนอง) | X19: 74000
F20: โครงการศูนย์การเรียนรู้เครือข่ายชุมชนฯ | X20: 3493336
F21: โครงการอนุรักษ์หนังใหญ่วัดบ้านดอน | X21: 54000
F22: โครงการทุนการศึกษา | X22: 906000
F23: โครงการการส่งเสริมวิสาหกิจชุมชนเพื่อนชุมชน-ธรรมศาสตร์โมเดล ร่วมกับมหาวิทยาลัยธรรมศาสตร์ - วสช. แม่บ้านประมงเรือเล็กตากวน – อ่าวประดู่ - วสช.กลุ่มตัดเย็บเครื่องหนังชนันทน์วัชเครื่องหนัง - วสช.เกษตรอินทรีย์หอมมะหาด - วสช.ชากลูกหญ้าพัฒนา - วสช.หัตถกรรมสุขใจ - วสช.ครัวแม่ฉัน By Nana - วสช.มุมดินฟาร์มเกษตร - วสช.โคเนื้อบาร์มันบ้านแซมไฮซ์ - วสช.สวนเกษตรผสมผสาน ฐานเรียนรู้สวนคุณย่า ชุมชนหนองแฟบ | V23: สมาคมเพื่อนชุมชน ร่วมกับ มหาวิทยาลัยธรรมศาสตร์
F24: โครงการพัฒนารถเก็บขยะชายหาด (ปี 2565-2567) | V24: บริษัท ไออาร์พีซี จำกัด (มหาชน)
F25: โครงการพัฒนาทุ่นเตือนภัยลอยน้ำ (ปี 2565-2566)
F26: โครงการส่งเสริมเมืองอุตสาหกรรมเชิงนิเวศ 5 พิ้นที่
F27: โครงการพิเศษ โรงเรียนวัดปลวกเกตุ
F28: รถนิทรรศการปิโตรเคมีไออาร์พีซี
E29: ตัวชี้วัด 4.1.2 สัดส่วนโรงงานอุตสาหกรรมที่มีจำนวนแรงงานท้องถิ่น | F29: กิจกรรม Update ฐานข้อมูลพนักงานให้เป็นปัจจุบัน | V29: บริษัท ไออาร์พีซี จำกัด (มหาชน) สมาคมเพื่อนชุมชน
E30: ตัวชี้วัด 4.1.3 สัดส่วนโรงงานอุตสาหกรรมที่มีการจัดซื้อจัดจ้างสินค้าหรือบริการจากชุมชน หรือ ส่งเสริมอาชีพให้กับชุมชน หรือสนับสนุนให้เกิดความยั่งยืนทางด้าน การตลาด หรือพัฒนาหลักสูตรส่งเสริมอาชีพหรือทักษะแรงงาน | F30: ดำเนินกิจกกรมอย่างต่อเนื่องตามกรอบการดำเนินงานของ CSR-DIW & Eco factory | X30: 1504000
F31: โครงการสอนการขายสินค้าให้กลุ่มผู้สูงวัยให้กับคนในพื้นที่ - Elementary class (8-9 ต.ค. 63) - ntermediate class & Upper class (7-9 ธ.ค. 64) - Advance class ( ส.ค. 2565) | V31: สถาบันพัฒนาฝีมือแรงงาน 17
F32: โครงการตลาดนัดโรงงาน,แฟนเพจฝากร้านของชุมชน จากความร่วมมือของบริษัทต่างๆในพื้นที่ - ตลาดชอป ชิม ฟิน ถิ่นระยอง - สนับสนุนพื้นที่ขายสินค้าให้กับกลุ่มร้านค้าชุมชน - โปรโมทสินค้าชุมชนผ่านแคตตาล็อก - โปรโมทสินค้าชุมชนผ่านเพจ - Fanpage ฝากร้าน เพื่อสนับสนุนการขายสินค้า ของคนในชุมชนของจังหวัดระยอง จากบริษัทต่างๆ
E33: ตัวชี้วัด 4.1.4 อัตราการว่างงาน | F33: โครงการ ทดสอบมาตรฐานฝีมือแรงงาน " สาขาช่างไฟฟ้าภายในอาคาร ระดับ 1" ใฟ้กับแรงงานในสถานประกอบกิจการและบุคคลทั่วไป
F34: โครงการการประเมินและรับรองความรู้ความสามารถสาขาช่างไฟฟ้าภายในอาคาร Safty At Work
F35: โครงการการฝึกอบรมโครงการยกระดับแรงงานให้ได้มาตรฐานฝีมือแรงงานเพื่อรองรับการแข่งขันพัฒนาศักยภาพแรงงานเพื่อรองรับการจ่ายค่าจ้างตามาตรฐานฝีมือแรงงานสาขาช่างไฟฟ้าภายในอาคาร ระดับ 1 ให้กับพนักงานในสถานประกอบกิจการ
F36: โครงการการฝึกยกระดับเพื่อเพิ่มศักยภาพฝีมือและสมรรถนะแรงงาน หลักสูตรการฝึกยกระดับฝีมือ สาขา พนักงานควบคุมเครื่องจักรรถยก ระดับ1 (30 ชั่วโมง) ให้กับแรงงานในสถานประกอบกิจการ
F37: โครงการเพิ่มทักษะด้านอาชีพแก่เด็กนักเรียนที่ไม่ได้เรียนต่อหลังจบการศึกษาภาคบังคับ (กลุ่มคนว่างงาน) - การฝึกอบรม สาขาช่างตรวจเช็ดระยะรถยนต์ จำนวน 10 คน - การฝึกอบรม สาขาช่างเชื่อมอาร์กโลหะด้วยมือ จำนวน 6 คน - การฝึกอบรม สาขาเจ้าหน้าที่เทคโนโลยีสารสนเทศ จำนวน 1 คน
F38: โครงการเพิ่มทักษะด้านอาชีพแก่นักเรียนที่ไม่ได้เรียนต่อหลังจากจบการศึกษาภาคบังคับ - กิจกรรมปฐมนิเทศ 9 พฤษภาคม 2565 - พิธีไหว้ครู วันพฤหัสที่ 12 พฤษภาคม 2565 - ผู้รับการฝึกอบรม พร้อมเจ้าหน้าที่เข้าร่วมงาน"มหกรรม เส้นทางอาชีพและนัดพบแรงงานระยอง 2565 - วันที่ 26 พฤษภาคม 2565 นายเฉลิมพงษ์ บุญรอด รองอธิบดีกรมพัฒนาฝีมือแรงงาตรวจเยี่ยมให้กำลังใจผู้เข้ารับการฝึกอบรมหลักสูตรเตรียมเข้าทำงานตามโครงการฯ - รับมอบเสื้อประชาสัมพันธ์โครงการเพิ่มทักษะด้านอาชีพแก่นักเรียนที่ไม่ได้เรียนต่อหลังจบการศึกษาภาคบังคับ ในปีงบประมาณ พ.ศ. 2565 ที่ได้รับจากสำนักงานผู้ตรวจการแผ่นดิน
F39: กิจกรรมพาผู้เข้ารับการฝึกอบรมศึกษาดูงานก่อนออกฝึกงานสถานประกอบการ
F40: กิจกรรมพัฒนาฝีมือแรงงานสตรีเพื่อยกระดับคุณภาพชีวิต
F41: การส่งเสริมอาชีพให้แก่คนในท้องถิ่น | V41: สมาคมเพื่อนชุมชน
F42: โครงการเตรียมความพร้อมแก่กำลังแรงงาน | V42: สำนักงานจัดหางานจังหวัดระยอง
E43: ตัวชี้วัดที่ 3.1.1 จำนวนเงินลงทุนของผู้ประกอบการในเมืองอุตสาหกรรมเชิงนิเวศสูงขึ้นหรือมีสมรรถนะทางการเงินที่ดีขึ้น | F43: ส่งเสริมผู้ประกอบการในพื้นที่ ให้ลงทุนหรือเพิ่มเงินลงทุนของผู้ประกอบการในเมืองอุตสาหกรรมเชิงนิเวศให้สูงขึ้น | V43: สอจ.ระยอง
D44: รวมงบ | X44: =SUM(X9:X43) -> 7876136
D45: รวมโครงการ | H45: รวมงบ | X45: 34

Sheet ยุทธศาสตร์ที่ 5
E1: แผนปฏิบัติการตามแผนแม่บทเมืองอุตสาหกรรมเชิงนิเวศ จังหวัดระยอง
C2: แผนปฏิบัติการตามแผนแม่บทเมืองอุตสาหกรรมเชิงนิเวศ จังหวัดระยอง
C3: ยุทธศาสตร์ที่ 5 การพัฒนาสังคมและยกระดับคุณภาพชีวิต
C4: เป้าหมาย | D4: (1) พัฒนาชุมชนเป้าหมายให้รองรับความต้องการของอุตสาหกรรมในพื้นที่ และมีคุณภาพชีวิตที่ดีขึ้น
D5: (2) พัฒนาแรงงานอุตสาหกรรม ตามหลัก 3 ส. (สะอาด สุขภาวะ skill/ทักษะ) เพื่อรองรับอุตสาหกรรม
C6: ตัวชี้วัด | D6: (1) มีชุมชนเป้าหมายที่มีการเชื่อมโยงการพัฒนากับพื้นที่อุตสาหกรรมเป้าหมาย
D7: (2) มีการพัฒนาทักษะแรงงานตรงตามความต้องการภาคอุตสาหกรรม
C9: กลยุทธ์ | D9: ตัวชี้วัดโครงการ/กิจกรรม | E9: โครงการ/กิจกรรม | F9: พื้นที่เป้าหมาย | G9: แหล่งงบประมาณ | H9: งบประมาณรวม (บาท) | I9: ระยะเวลาดำเนินโครงการ | U9: หน่วยงานรับผิดชอบ | V9: งบประมาณรวม (บาท) | W9: หมายเหตุ
I10: ปีงบประมาณ 2565
I11: ต.ค. | J11: พ.ย. | K11: ธ.ค. | L11: ม.ค. | M11: ก.พ. | N11: มี.ค. | O11: เม.ย. | P11: พ.ค. | Q11: มิ.ย. | R11: ก.ค. | S11: ส.ค. | T11: ก.ย. | U11: หลัก/สนับสนุน
A12: 5. การพัฒนาสังคมและยกระดับคุณภาพชีวิต | B12: 1) พัฒนาชุมชนเป้าหมายให้รองรับความต้องการของอุตสาหกรรมในพื้นที่ และมีคุณภาพชีวิตที่ดีขึ้น | C12: 5.1 สร้างความเชื่อมโยงเศรษฐกิจชุมชน
C13: 5.1 ยกระดับการบริหารจัดการประชากรแฝงและแรงงานต่างชาติ | V13: =V13:V18 -> 0
B14: 2) พัฒนาแรงงานอุตสาหกรรม ตามหลัก 3ส (สะอาด สุขภาวะ skill/ทักษะ) เพื่อรองรับอุตสาหกรรม | C14: 5.2พัฒนาคุณภาพชีวิตและระบบสวัสดิการทางสังคมอย่างทั่วถึงและเป็นธรรม | D14: ตัวชี้วัด 17.1.1 การสร้างการมีส่วนร่วมในการพัฒนาชุมชนตามบริบทของเมืองอุตสาหกรรมเชิงนิเวศ | E14: โครงการขอรับรองมาตรฐานความรับผิดชอบต่อสังคม (CSR-DIW) จำนวน 13 โรงงาน | U14: บริษัท ไออาร์พีซี จำกัด (มหาชน) | V14: 1504800
D15: ตัวชี้วัด 16.1.1 สัดส่วนของโรงงานอุตสาหกรรมที่มีการดำเนินงาน ตามแนวทางการเป็นที่ทำงานมีความสุข (Happy Workplace) | E15: โครงการ Happy Body (สุขภาพดี) | U15: บริษัท ไออาร์พีซี จำกัด (มหาชน) และบริษัทในพื้นที่เขตควบคุมมลพิษมาบตาพุด
D16: เขตควบคุมมลพิษ มาบตาพุด | E16: Happy Heart (น้ำใจงาม)
D17: เขตประกอบ ไออาร์พีซี | E17: โครงการ Happy Relax (ผ่อนคลาย)
E18: โครงการ Happy Brain (หาความรู้)
E19: โครงการ Happy Soul (ทางสงบ)
E20: โครงการ Happy Money (ปลอดหนี้)
E21: โครงการ Happy Family (ครอบครัวดี)
E22: โครงการ Happy Society (สังคมดี)
D23: ตัวชี้วัด 17.1.2 ความพึงพอใจของชุมชน | E23: กิจกรรมประชาสัมพันธ์การซ้อมแผนฉุกเฉิน ให้ชุมชนรับทราบในวงกว้างมากขึ้น
E24: กิจกรรมประชาสัมพันธ์โครงการ CSR ผ่านสื่อโซเชี่ยลต่างๆ
E25: โครงการผู้บริหารระดับสูง ลงพื้นที่พบปะชุมชน
E26: 5.1.7 ฝึกอบรมส่งเสริมอาชีพประชาชน - จัดอบรมอาชีพระยะสั้นให้แก่ประชาชนทั่วไป/เยาวชน/กลุ่มสตรีวัยทำงาน จำนวน 30 คน (ผู้เข้ารับการฝึกอบรมเกิดทักษะความรู้ความเข้าใจเกี่ยวกับการสร้างรายได้ และใช้เวลาว่างให้เป็นประโยชน์)
D28: ตัวชี้วัดที่ 17.1.5 ระดับความสำเร็จการเร็จการดำเนินการตามแผนพัฒนาทักษะการประกอบวิชาชีพและคุณภาพชีวิต | E28: 5.2.5 อัตราการเจ็บป่วยจากโรคจากการประกอบอาชีพ | V28: 350000 (ได้รับงบประมาณปี 2565 จำนวน 70,000 บาท)
E29: โครงการส่งเสริมและพัฒนาศักยภาพผู้สูงอายุ (หลักสูตรโรงเรียนผู้สูงอายุเทศบาลตำบลเชิงเนิน รุ่นที่ 2/2) | U29: เทศบาลตำบลเชิงเนิน
E30: โครงการจิตอาสาพัฒนาสิ่งแวดล้อม | U30: เทศบาลตำบลเชิงเนิน
E31: กิจกรรมอบรมเชิงปฏิบัติการให้ความรู้ในการป้องกันโรคติดเชื้อไวรัสโคโรนา 2019 (COVID-19) และการจัดทำหน้ากากอนามัยเพื่อป้องกันตนเอง | U31: เทศบาลตำบลเชิงเนิน
E32: โครงการฟันสวย ยิ้มใส ใส่ใจสุขภาพช่องปาก | U32: เทศบาลตำบลเชิงเนิน
E33: โครงการของขวัญปีใหม่ "มท.สร้างสุข (Happy Creation) : (ปันรัก ปันสุข นั่งลุกสบาย) | U33: เทศบาลตำบลเชิงเนิน
E34: โรงเรียนผู้สูงอายุ องค์การบริหารส่วนตำบลตะพง | U34: องค์การบริหารส่วนตำบลตะพง
E35: รณรงค์ ทำความสะอาด และกำจัดแหล่งเพาะพันธุ์ยุง | U35: องค์การบริหารส่วนตำบลตะพง
E36: การสำรวจความพึงพอใจของชุมชนและข้าราชการ/ผู้นำชุมชนโดยรอบเขตประกอบการอุตสาหกรรมไออาร์พีซี | U36: บริษัท ไออาร์พีซี จำกัด (มหาชน)
E37: โครงการโรงเรียนเชิงนิเวศโรงเรียนวัดกรอกยายชา
E38: โครงการเสริมสมาธิสร้างปัญญา | U38: เทศบาลตำบลทับมา
E39: โครงการส่งเสริมและพัฒนาศักยภาพของผู้สูงอายุ | U39: เทศบาลตำบลมาบข่าพัฒนา
E40: เยี่ยมครอบครัวผู้มีรายได้น้อยที่ประสบปัญหาความเดือดร้อนทางสังคม | U40: เทศบาลตำบลมาบข่าพัฒนา
E41: โครงการอาหารปลอดภัย | U41: เทศบาลตำบลมาบข่าพัฒนา
E42: ช่วยเหลือผู้ประสบอัคคีภัย | U42: เทศบาลตำบลบ้านฉาง
E43: ประชุมเครือขายการคัดกรองและผูปวยที่ สงสัยโรค/บาดเจ็บจากการทํางาน | U43: คลีนิคโรคจาก การทํางาน โรงพยาบาลเฉลิมพระเกียรติฯ
E44: โครงการการยศาสตร | U44: อาชีวเวช กรรม โรงพยาบาลเฉลิมพระเกียรติฯ
D45: ตัวชี้วัดที่ 17.1.3 อัตราการเจ็บป่วยจากโรคจากการประกอบอาชีพ | E45: โครงการพัฒนาศักยภาพบุคลากรในการ ตอบโตอุบัติภัยสารเคมี | U45: อาชีวเวช กรรม โรงพยาบาลเฉลิมพระเกียรติฯ | V45: 1400
E46: ประชุมเครือขายการคัดกรองและผูปวยที่ สงสัยโรค/บาดเจ็บจากการทํางาน | U46: คลีนิคโรคจาก การทํางาน โรงพยาบาลเฉลิมพระเกียรติฯ | V46: 1400
E47: โครงการการยศาสตร | U47: อาชีวเวช กรรม โรงพยาบาลเฉลิมพระเกียรติฯ | V47: 22800
E48: โครงการพัฒนาศักยภาพบุคลากรในการ ตอบโตอุบัติภัยสารเคมี | U48: อาชีวเวช กรรม โรงพยาบาลเฉลิมพระเกียรติฯ | V48: 39120
D49: ตัวชี้วัดที่ 17.1.4 อัตรการลดลงของการเกิดคดีอุกฉกรรจ์ และสะเทือนขวัญต่อประชากร | E49: โครงการธงตำรวจ | U49: ตำรวจภูธรจัหวัดระยอง | V49: 39120
E50: โครงการจุดตรวจจุดสกัด | U50: ตำรวจภูธรจัหวัดระยอง
E51: โครงการฝึกซ้อมแผนเผชิญเหตุปล้น | U51: ตำรวจภูธรจัหวัดระยอง
E52: โครงการฝึกอบรมตำรวจอาสา | U52: ตำรวจภูธรจัหวัดระยอง
E53: §SMART SAFETY ZONE 4.0 | U53: ตำรวจภูธรจัหวัดระยอง
D54: ตัวชี้วัดที่ 17.1.5 ความสำเร็จการดำเนินงานตามแผนพัฒนาทักษะการประกอบวิชีพและพัฒนาคุณภาพชีวิต | E54: มาตราการตรวจพื้นที่ของนายตำรวจ | U54: ตำรวจภูธรจัหวัดระยอง
E55: โครงการโรงเรียนเชิงนิเวศต้นแบบ | U55: เพื่อนชุมชน โรงเรียนวัดกรอกยายชา
E56: โครงการ Eco Education | U56: เพื่อนชุมชน วิทยาลัยมาบตาพุด และวิทยาลัยเทคนิคนิคมอุตสาหกรรมระยอง
E57: โครงการเทศบาลน่าอยู่อย่างยั่งยืน | U57: เพื่อนชุมชน อปท.เทศบาลตำบลเนินพระ | X57: จัดทำหนังสือแจ้งไปยัง ร.พ.บ้านฉาง/ ร.พ.นิคมพัฒนา/ร.พ.เฉลิมพระเกียรติ
E58: โครงการศาสนสถานเชิงนิเวศ | U58: เพื่อนชุมชน วัดกรอกยายชา, วัดหนองสนม,วัดโขดหิน,วัดเขาไผ่,วัดห้วยโป่ง, วัดหนองแฟบ,วัดตากวน,วัดตะเคียนทอง
E59: โครงการส่งเสริมอาชีพผ่านกลุ่มวิสาหกิจชุมชน | U59: เพื่อนชุมชน ร่วมกับ มหาวิทยาลัยธรรมศาสตร์
E60: โครงการทุนพยาบาลเพื่อนชุมชนและสร้างเครือข่ายพยาบาลเพื่อนชุมชน | U60: เพื่อนชุมชน
E61: โครงการทุนการศึกษาสาธารสุขเพื่อนชุมชน 38 ทุน ร่วมกับอบจ.ระยอง | U61: เพื่อนชุมชน อบจ.ระยอง | V61: 1470000
E62: โครงการสนับสนุนบุคลากรทางการแพทย์ | U62: เพื่อนชุมชน รพ.สต. และโรงพยาบาล ต่างๆ
E63: โครงการสนับสนุนศูนย์พักคอยสำหรับผู้ป่วยโควิด | U63: เพื่อนชุมชน รพ.สต. และโรงพยาบาล
E64: โครงการสนับสนุนอุปกรณ์ทางการแพทย์พื้นฐาน | U64: เพื่อนชุมชน ศูนย์พักคอย 3 เทศบาล
E65: 5.2.16 โครงการเพื่อนชุมชนติวเตอร์ | U65: เพื่อนชุมชน รพ.สต. และโรงพยาบาล ต่างๆ
E66: โครงการแนะแนวการศึกษาต่อมหาวิทยาลัย | U66: เพื่อนชุมชน
E67: โครงการสนับสนุนทุนปริญญาตรี | U67: เพื่อนชุมชน
E68: โครงการสนับสนุนเยาวชน ศึกษาต่อในสายอาชีพ | U68: เพื่อนชุมชน
E69: โครงการทุนการศึกษาระดับอาชีวศึกษา | U69: เพื่อนชุมชน
E70: โครงการพัฒนาทักษะด้านวิศวกรรมเคมี (V-CHEPS) โดยกลุ่มโรงงาน | U70: สมาคมเพื่อนชุมชน
E71: โครงการเพิ่มทักษะด้านอาชีพแก่เด็กน.ร.ที่ไม่ได้เรียนต่อหลังจบการศึกษาภาคบังคับ | U71: สมาคมเพื่อนชุมชน
D72: ตัวชี้วัดที่ 17.1.6 ความสูญเสียในชีวิตและทรัพย์สินจากภัยพิบัติ | E72: โครงการจัดฝึกอบรม ชุดปฏิบัติการจิตอาสาภัยภิบัติ ประจำเทศบาลตำบลเนินพระ | U72: งานป้องกันและบรรเทา สาธารณภัย เทศบาลตำบลเนินพระ
E73: แผนปฏิบัติการป้องกันและแก้ไขปัญหาอุทกภัย
E74: แผนปฏิบัติการป้องกันและแก้ไขปัญหาอัคคีภัย | V74: 300000
E75: แผนปฏิบัติการป้องกันและแก้ไขปัญหาวาตภัย
E76: แผนปฏิบัติการป้องกันและแก้ไขปัญหาภัยจากสารเคมี
E77: การฝึกการป้องกันและบรรเทาสาธารณภัย จังหวัดระยอง (สาธารณภัยขนาดกลาง : ระดับ 2) (ซ้อมแผน) ด้านสารเคมี วัตถุอันตราย อัคคีภัยแนวรับท่อส่งผลิตภัณฑ์ และการอพยพประชาชน ประจำปี 2565 | U77: การนิคมอุตสาหกรรม
E78: โครงการเสริมสร้างศักยภาพชุมชนด้านการป้องกันและบรรเทาสาธารณภัยไว้ในแผนพัฒนาขององค์กรปกครองส่วนท้องถิ่น เพื่อการจัดการความเสี่ยงจากสาธารณภัยโดยอาศัยชุมชนเป็นฐาน ในการแก้ไขปัญหาระยะยาว
E79: โครงการรู้ทันอัคคีภัยในสถานศึกษา | U79: สำนักปลัด เทศบาลตำบลเชิงเนิน
E80: โครงการช่วยเหลือประชาชนของเทศบาลตำบลเชิงเนิน | U80: สำนักปลัด เทศบาลตำบลเชิงเนิน
E81: โครงการฝึกอบรมชุดปฏิบัติการจิตอาสาภัยพิบัติประจำเทศบาลตำบลเนินพระ | U81: สำนักปลัด เทศบาลตำบลเนินพระ | V81: 30000
E82: โครงการส่งเสริมความรู้เกี่ยวกับสาธารณภัย | U82: สำนักปลัด เทศบาลตำบลมาบข่าพัฒนา | V82: 200000
E83: ทบทวนและซ้อมแผนฉุกเฉินชุมชน (เน้นการซ้อมแบบบูรณาการ) เป้าหมาย พื้นทื่ทม.มาบตาพุด ทต.บ้านฉาง (จัดอบรม/ซ้อม/ทำเล่มแผน/จัด Safety Day) | U83: สมาคมเพื่อนชุมชน | V83: 300000
E84: จัดทำแผนฉุกเฉินโรงเรียน และซ้อมแผน 16 โรงเรียน | U84: สมาคมเพื่อนชุมชน | V84: 60000
C85: รวมงบ | V85: =SUM(V14:V84) -> 3968640
C86: รวมโครงการ | V86: 64

Sheet ยุทธศาสตร์ที่ 6
D1: แผนปฏิบัติการตามแผนแม่บทเมืองอุตสาหกรรมเชิงนิเวศ จังหวัดระยอง
D2: ยุทธศาสตร์ที่ 6 การพัฒนาระบบการบริหารจัดการองค์ความรู้และบุคลากร
D3: เป้าหมาย | E3: (1) มีการบริหารจัดการของภาคส่วนที่เกี่ยวข้องในเชิงบูรณาการเพื่อรองรับเมืองอุตสาหกรรมเชิงนิเวศ
D4: ตัวชี้วัด | E4: (1) มีโครงสร้างบุคลากรและงบประมาณในการดำเนินงานที่ชัดเจน
E5: (2) มีฐานข้อมูลเมืองอุตสาหกรรมเชิงนิเวศ
E6: (3) กฎระเบียบและมาตรการที่เอื้อต่อการพัฒนาในเชิงบูรณาการที่ได้รับการปรับปรุง
A7: ยุทธศาสตร์ | B7: เป้าประสงค์ | C7: ตัวชี้วัด | D7: กลยุทธ์ | E7: ตัวชี้วัดโครงการ/กิจกรรม | F7: โครงการ/กิจกรรม | G7: พื้นที่เป้าหมาย | H7: แหล่งงบประมาณ | I7: งบประมาณรวม (บาท) | J7: ระยะเวลาดำเนินโครงการ | V7: หน่วยงานรับผิดชอบ | W7: แหล่งงบประมาณ | X7: งบประมาณรวม (บาท) | Y7: หมายเหตุ
J8: ปีงบประมาณ 2565
J9: ต.ค. | K9: พ.ย. | L9: ธ.ค. | M9: ม.ค. | N9: ก.พ. | O9: มี.ค. | P9: เม.ย. | Q9: พ.ค. | R9: มิ.ย. | S9: ก.ค. | T9: ส.ค. | U9: ก.ย. | V9: หลัก/สนับสนุน
A10: 6. การพัฒนาระบบการบริหารจัดการองค์ความรู้และบุคลากร | B10: 1) มีการบริหารจัดการของภาคส่วนที่เกี่ยวข้องในเชิงบูรณาการเพื่อรองรับเมืองอุตสาหกรรมเชิงนิเวศ | C10: (1) มีโครงสร้างบุคลากรและงบประมาณในการดำเนินงานที่ชัดเจน | D10: 6.1 วางระบบการบริหารจัดการเชิงบูรณาการทั้งด้านระบบการจัดการ การพัฒนาบุคลากรและการจัดการความรู้
D11: 6.1 วางระบบการบริหารจัดการเชิงบูรณาการทั้งด้านระบบการจัดการ การพัฒนาบุคลากรและการจัดการความรู้ | E11: ตัวชี้วัด 20.1.1 การสื่อสารและการเปิดเผยข้อมูลของเมืองอุตสาหกรรมเชิงนิเวศ ในรูปแบบ ช่องทาง และความถี่ในการสื่อสารในลักษณะต่าง ๆ อย่างมีประสิทธิผล | F11: การสื่อสารภายในบริษัท ผ่าน Envi. news | V11: บริษัท ไออาร์พีซี จำกัด (มหาชน) | W11: งบประมาณบริษัท ไออาร์พีซี จำกัด (มหาชน)
F12: การสื่อสารผ่านคณะกรรมการพหุภาคี
F13: กิจกรรมปรับปรุง เพิ่มเติมฟังค์ชั่นการทำงานของ Mobile application IRPC Air
F14: โครงการ open house เปิดบ้านสานสัมพันธ์ของ CSR | X14: 338000
E15: ตัวชี้วัดที่ 18.1.1 แผนและผลการดำเนินงานของคณะทำงานเมืองอุตสาหกรรมเชิงนิเวศ | F15: กิจกรรมประชุมคณะกรรมการพัฒนาเมืองอุตสาหกรรมเชิงนิเวศจังหวัดระยอง/คณะทำงานขับเคลื่อนการพัฒนาเมืองอุตสาหกรรมเชิงนิเวศ และเครือข่ายอุตสาหกรรมเชิงนิเวศ (Eco Network) | V15: บริษัท ไออาร์พีซี จำกัด (มหาชน), สอจ.ระยอง, สมาคมเพื่อนชุมชน, โยธาธิการและผังเมือง, ทสจ.
F16: จัดตั้งคณะทำงานกลุ่มย่อยการพัฒนาเมืองอุตสาหกรรมเชิงนิเวศ เพื่อขับเคลื่อนงานร่วมกับจังหวัดระยอง และผลัส่งเสริมให้เกิด Eco Factory ทั้งในและนอกกลุ่มเพื่อนชุมชน เช่น เป็นพี่เลี้ยง แบ่งปันประสบการณ์ สู่ Eco Industry Town โดยเพื่อนช่วยเพื่อน - Show&Share | V16: สมาคมเพื่อนชุมชน | X16: 140000
E17: ตัวชี้วัดที่ 18.1.1 แผนและผลการดำเนินงานของคณะทำงานเมืองอุตสาหกรรมเชิงนิเวศ | F17: กิจกรรม Eco Innovation สร้างความเชื่อมั่น : เผยแพร่ต้นแบบเมืองอุตสาหกรรมเชิงนิเวศ ร่วมกับ กรมโรงงาน/สอจ./IEAT/จังหวัด/อปท. | V17: สมาคมเพื่อนชุมชน | X17: 200000
F18: กิจกรรมประชาสัมพันธ์โครงการ CSR ผ่านสื่อโซเชี่ยลต่างๆ
F19: โครงการผู้บริหารระดับสูง ลงพื้นที่พบปะชุมชน
E20: ตัวชี้วัด 18.1.1 การจัดตั้งคณะทำงานในการพัฒนาอุตสาหกรรมเชิงนิเวศของสำนักงานอุตสาหกรรมจังหวัดระยอง | F20: จัดทำคำสั่งคณะทำงานฯ 5 มิติ | V20: สอจ.ระยอง
D21: 6.2 พัฒนาฐานข้อมูลเมืองอุตสาหกรรมเชิงนิเวศ | E21: 1. ฐานข้อมูลระบบการจัดการมลพิษ 2. ข้อมูลข้อคิดเห็น ข้อเสนอแนะ แนวทาง และข้อจำกัดต่างๆ 3. แนวทางในการพัฒนาระบบจัดการมลพิษที่เหมาะสม 4.องค์ความรู้การจัดการระบบการจัดการมลพิษ | F21: โครงการวิจัยและพัฒนานวัตกรรมการจัดการมลพิษอุตสาหกรรม เพื่อสนับสนุนเมืองอุตสาหกรรมเชิงนิเวศ | G21: 2 พื้นที่เป้าหมายจังหวัดระยอง | H21: งบกระทรวง (กระทรวงอุตสาหกรรม) | I21: 2500000 (ไม่ได้รับงบประมาณ ปี 2565) | V21: กรมโรงงานอุตสาหกรรม | W21: งบกระทรวง (กระทรวงอุตสาหกรรม) | X21: 2,500,000 | Y21: (ไม่ได้รับงบประมาณ ปี 2565)
F22: - จัดทำแผนการดำเนินโครงการ - ศึกษาสถานการณ์ปัญหามลพิษ ระบบการจัดการมลพิษ - ศึกษาและวิเคราะห์เทคโนโลยีการจัดการมลพิษ และมาตรการในการจัดการมลพิษอุตสาหกรรม - ประเมินศักยภาพของพื้นที่ เพื่อกำหนดแนวทางในการพัฒนาระบบการจัดการมลพิษ
F23: - ศึกษาดูงานระบบการจัดการมลพิษด้านน้ำ อากาศ กากอุตสาหกรรม ที่เหมาะสมกับพื้นที่อุตสาหกรรม เขตประกอบการอุตสาหกรรม/นิคมอุตสาหกรรม - จัดสัมมนาและเผยแพร่ผลการดำเนินโครงการ
C24: (3) กฎระเบียบและมาตรการที่เอื้อต่อการพัฒนาในเชิงบูรณาการที่ได้รับการปรับปรุง | D24: 6.3 ปรับปรุงกฎระเบียบและสร้างแรงจูงใจที่เอื้อต่อการพัฒนาเมืองอุตสาหกรรมเชิงนิเวศ | E24: 1.ต้นแบบการปรับปรุงกฏหมาย กฎระเบียบ และข้อกำหนดที่เกี่ยวข้อง 2.ฐานข้อมูลกฎหมาย กฎระเบียบ ข้อกำหนดที่เกี่ยวข้องสำหรับการดำเนินการพัฒนาเมืองอุตสาหกรรมเชิงนิเวศ | F24: โครงการศึกษาเพื่อปรับปรุงกฎระเบียบให้เอื้อต่อการพัฒนาเมืองอุตสาหกรรมเชิงนิเวศ - ศึกษาเพื่อปรับปรุงกฎระเบียบที่เกี่ยวข้องให้เอื้อต่อการส่งเสริมและพัฒนาเมืองอุตสาหกรรมเชิงนิเวศ | G24: เขตอุตสาหกรรมหนาแน่น | H24: งบกรมโรงงานอุตสาหกรรม กระทรวงอุตสาหกรรม | I24: 3000000 (ไม่ได้รับงบประมาณ ปี 2565) | V24: กรมโรงงานอุตสาหกรรม และสำนักงานอุตสาหกรรมจังหวัด | W24: งบกรมโรงงานอุตสาหกรรม กระทรวงอุตสาหกรรม | X24: 3,000,000 | Y24: (ไม่ได้รับงบประมาณ ปี 2565)
D25: 6.4 เพิ่มศักยภาพบุคลากรและพัฒนาระบบการทำงานแบบมีส่วนร่วม | E25: ตัวชี้วัด 18.1.1 การจัดตั้งคณะทำงานในการพัฒนาอุตสาหกรรมเชิงนิเวศของสำนักงานอุตสาหกรรมจังหวัดระยอง | F25: กิจกรรมประชุมคณะกรรมการพัฒนาเมืองอุตสาหกรรมเชิงนิเวศจังหวัดระยอง/ คณะทำงานการขับเคลื่อนอุตสาหกรรมเชิงนิเวศ และเครือข่ายอุตสาหกรรมเชิงนิเวศ (Eco Network) พื้นที่เขตควบคุมมลพิษจังหวัดระยอง และพื้นที่เขตประกอบการไออาร์พีซี | V25: บริษัท ไออาร์พีซี จำกัด (มหาชน) | W25: งบประมาณบริษัท ไออาร์พีซี จำกัด (มหาชน)
D26: 6.4 เพิ่มศักยภาพบุคลากรและพัฒนาระบบการทำงานแบบมีส่วนร่วม | F26: โครงการยกระดับการพัฒนาเมืองอุตสาหกรรมเชิงนิเวศที่มีคุณค่าต่อสังคม (Eco Social plus Social Value : Eco Factory+sv) และขับเคลื่อนแผนธุรกิจ (Business Model) ในพื้นที่เป้าหมายการพัฒนาเมืองอุตสาหกรรมเชิงนิเวศ | X26: 1624800
E27: ตัวชี้วัด 19.1.1 สัดส่วนโรงงานอุตสาหกรรมที่ได้รับการรับรองอุตสาหกรรมสีเขียว (Green Industry) ตั้งแต่ระดับที่ 2 ขึ้นไป หรือ CSR Beginner หรือระบบการจัดการอื่นที่เทียบเท่า | F27: ต่ออายุการรับรองโรงงานอุตสาหกรรมเชิงนิเวศ (Eco factory) 11 โรงงาน - แผนการตรวจประเมิน ISO 14001 (โดยสถาบันรับรองมาตรฐาน ISO) - โครงการขอรับรองมาตรฐานความรับผิดชอบต่อสังคม (CSR-DIW) จำนวน 13 โรงงาน | V27: บริษัท ไออาร์พีซี จำกัด (มหาชน) | W27: งบประมาณบริษัท ไออาร์พีซี จำกัด (มหาชน)
F28: ขอการรับรอง GI5 เพิ่มเติมจำนวน 6 โรงงาน
F29: กิจกรรมตรวจประเมิน ISO 14001 (ภายใน)
F30: กิจกรรมตรวจประเมิน ISO 14001 (โดยสถาบันรับรองมาตรฐาน ISO)
F31: โครงการขอรับรองมาตรฐานความรับผิดชอบต่อสังคม (CSR-DIW) จำนวน 13 โรงงาน
E32: ตัวชี้วัดที่ 17.1.5 ระดับความสำเร็จการเร็จการดำเนินการตามแผนพัฒนาทักษะการประกอบวิชาชีพและคุณภาพชีวิต | F32: ฝึกอบรมส่งเสริมอาชีพประชาชน - จัดอบรมอาชีพระยะสั้นให้แก่ประชาชนทั่วไป/เยาวชน/กลุ่มสตรีวัยทำงาน จำนวน 30 คน (ผู้เข้ารับการฝึกอบรมเกิดทักษะความรู้ความเข้าใจเกี่ยวกับการสร้างรายได้ และใช้เวลาว่างให้เป็นประโยชน์) | V32: กองสวัสดิการสังคม เทศบาลเมืองมาบตาพุด | W32: เทศบาล ตำบลทับมา | X32: 350,000 | Y32: (ได้รับงบประมาณปี 2565 จำนวน 70,000 บาท)
E33: ตัวชี้วัดที่ 20.2.1 การสื่อสารและเผยแพร่ข้อมูล การจัดการด้านความปลอดภัย สิ่งแวดล้อม และสารเคมี ของโรงงานต่อสาธารณะ | F33: กิจกรรมทบทวนและซ้อมแผนฉุกเฉินชุมชน รวมทั้ง อบรมให้ความรู้ด้านความปลอดภัย และสารเคมี | V33: สมาคมเพื่อนชุมชน | X33: 200000
F34: โครงการอบรมให้ความรู้เรื่องความปลอดภัยและสารเคมีให้กับทางประชาชนในพื้นที่ | V34: อปท.ทม.มาบตาพุด
F35: จัดทำรายงานผลการปฏิบัติตามมาตรการป้องกันและลดผลกระทบสิ่งแวดล้อม และมาตรการติดตามตรวจสอบคุณภาพสิ่งแวดล้อม | V35: โรงงาน (เขตควบคุมมลพิษ มาตาพุด) ดำเนินการ ตามคำสั่ง กนอ. สทร.
F36: การเผยแพร่ และนำเสนอผลการตรวจวัด
F37: การวัดระดับความพึงพอใจในการเข้าถึงข้อมูลของชุมชนโดยรอบนิคมอุตสาหกรรมในรัศมีอย่างน้อย 5 กิโลเมตร
F38: กิจกรรมการสื่อสารข้อมูลเมืองอุตสาหกรรมเชิงนิเวศผ่านระบบจอแสดงผลขนาดใหญ่
F39: กิจกรรมการสื่อสารข้อมูลผ่านระบบ Line/Facebook
F40: โครงการพัฒนาระบบสื่อสารรายงานคุณภาพอากาศ ออนไลน์
F41: กิจกรรมทบทวนและซ้อมแผนฉุกเฉินชุมชน รวมทั้ง อบรมให้ความรู้ด้านความปลอดภัย และสารเคมี ให้กับสถานศึกษา | X41: 160000
D42: 6.4 เพิ่มศักยภาพบุคลากรและพัฒนาระบบการทำงานแบบมีส่วนร่วม | F42: กิจกรรมลงพื้นที่จังหวัดเป้าหมายการพัฒนาในระยะที่ 1-3 รวม 39 จังหวัด เพื่อให้คำแนะนำ (Coaching) ตามเกณฑ์และตัวชี้วัดฯ ฉบับปรับปรุงปี พ.ศ. 2562 เพื่อสร้างการรับรู้เกี่ยวกับการดำเนินงานตาม (ร่าง) ข้อกำหนดมาตราฐานเมืองอุตสาหกรรมเชิงนิเวศ ที่ดำเนินการในปี 2564
F43: ตรวจประเมินรับรองระดับการเป็นเมืองอุตสาหกรรมเชิงนิเวศ ของพื้นที่จังหวัดเป้าหมายระยะที่ 1 โดยแบ่งเป็นตรวจประเมินเพื่อยกระดับและตรวจประเมินการป็นเมืองอุตสาหกรรมเชิงนิเวศ
F44: จัดประชุมเพื่อแลกเปลี่ยนเรียนรู้ในการเชื่อมโยงความสอดคล้องกับแผนระดับที่ 1 แผนระดับที่ 3
F45: จัดประชุมเพื่อแลกเปลี่ยนเรียนรู้ในการวิเคราะห์ช่องว่างการพัฒนา (Gap Analysis) ของการดำเนินงานในช่วงที่ผ่านมาปัญหาอุปสรรค
F46: ดำเนินการจัดทำ (ร่าง) แผนปฏิบัติการด้านการพัฒนาเมืองอุตสาหกรรมเชิงนิเวศ (พ.ศ. 2566-2570) นำเสนอให้ผู้เกี่ยวข้องให้ข้อคิดเห็นและข้อเสนอแนะ
F47: โครงการยกระดับการพัฒนาเมืองอุตสาหกรรมเชิงนิเวศที่มีคุณค่าต่อสังคม (Eco Social plus Social Value : Eco Factory+sv) และขับเคลื่อนแผนธุรกิจ (Business Model) ในพื้นที่เป้าหมายการพัฒนาเมืองอุตสาหกรรมเชิงนิเวศ
D48: รวมงบ | H48: รวมงบ | I48: =SUM(I10:I24) -> 0 | X48: =SUM(X14:X47) -> 2662800
D49: รวมโครงการ | H49: รวมโครงการ | X49: 37

Sheet แยกงบประมาณ
A1: โครงการจังหวัด/ท้องถิ่น | B1: ย.1 | D1: ย.2 | F1: ย.3 | H1: ย.4 | J1: ย.5 | L1: ย.6 | N1: รวม
B2: จน.โครงการ | C2: งบ | D2: จน.โครงการ | E2: งบ | F2: จน.โครงการ | G2: งบ | H2: จน.โครงการ | I2: งบ | J2: จน.โครงการ | K2: งบ | L2: จน.โครงการ | M2: งบ | N2: จน.โครงการ | O2: งบ
A3: งบจังหวัด | B3: 0 | C3: 0 | D3: 2 | E3: =#REF!+#REF! -> #REF! | F3: 8 | G3: =#REF!+#REF!+#REF!+#REF!+#REF!+#REF!+#REF!+#REF! -> #REF! | H3: 4 | I3: =#REF!+#REF!+#REF!+#REF! -> #REF! | J3: 6 | K3: ='ยุทธศาสตร์ที่ 5'!#REF!+'ยุทธศาสตร์ที่ 5'!#REF!+'ยุทธศาสตร์ที่ 5'!#REF!+'ยุทธศาสตร์ที่ 5'!#REF!+'ยุทธศาสตร์ที่ 5'!#REF! -> #REF! | L3: 0 | M3: 0 | N3: =B3+D3+F3+H3+J3+L3 -> 20 | O3: =C3+E3+G3+I3+K3+M3 -> #REF!
A4: งบกระทรวง | B4: 0 | C4: 0 | D4: 10 | E4: =#REF!+#REF!+#REF!+#REF!+#REF!+#REF!+#REF!+#REF!+#REF!+#REF! -> #REF! | F4: 2 | G4: =#REF!+#REF! -> #REF! | H4: 1 | I4: =#REF! -> #REF! | J4: 7 | K4: ='ยุทธศาสตร์ที่ 5'!#REF!+'ยุทธศาสตร์ที่ 5'!#REF!+'ยุทธศาสตร์ที่ 5'!#REF!+'ยุทธศาสตร์ที่ 5'!#REF!+'ยุทธศาสตร์ที่ 5'!#REF!+'ยุทธศาสตร์ที่ 5'!#REF!+'ยุทธศาสตร์ที่ 5'!#REF! -> #REF! | L4: 0 | M4: 0 | N4: =B4+D4+F4+H4+J4+L4 -> 20 | O4: =C4+E4+G4+I4+K4+M4 -> #REF!
A5: งบท้องถิ่น | B5: 3 | C5: ='ยุทธศาสตร์ที่ 1'!#REF!+'ยุทธศาสตร์ที่ 1'!#REF!+'ยุทธศาสตร์ที่ 1'!#REF! -> #REF! | D5: 0 | E5: 0 | F5: 9 | G5: =#REF!+#REF!+#REF!+#REF!+#REF!+#REF!+#REF!+#REF!+#REF! -> #REF! | H5: 0 | I5: 0 | J5: 2 | K5: ='ยุทธศาสตร์ที่ 5'!#REF!+'ยุทธศาสตร์ที่ 5'!#REF! -> #REF! | L5: 0 | M5: 0 | N5: =B5+D5+F5+H5+J5+L5 -> 14 | O5: =C5+E5+G5+I5+K5+M5 -> #REF!
A6: งบเอกชน | B6: 0 | C6: 0 | D6: 0 | E6: 0 | F6: 1 | G6: 0 | H6: 0 | I6: 0 | J6: 0 | K6: 0 | L6: 0 | M6: 0 | N6: =B6+D6+F6+H6+J6+L6 -> 1 | O6: =C6+E6+G6+I6+K6+M6 -> 0
A7: งบ กนอ. | B7: 0 | C7: 0 | D7: 1 | E7: =#REF! -> #REF! | F7: 3 | G7: =#REF!+#REF!+#REF! -> #REF! | H7: 0 | I7: 0 | J7: 0 | K7: 0 | L7: 3 | M7: ='ยุทธศาสตร์ที่ 6'!#REF!+'ยุทธศาสตร์ที่ 6'!#REF!+'ยุทธศาสตร์ที่ 6'!#REF! -> #REF! | N7: =B7+D7+F7+H7+J7+L7 -> 7 | O7: =C7+E7+G7+I7+K7+M7 -> #REF!
B8: =SUM(B3:B7) -> 3 | C8: =SUM(C3:C7) -> #REF! | D8: =SUM(D3:D7) -> 13 | E8: =SUM(E3:E7) -> #REF! | F8: =SUM(F3:F7) -> 23 | G8: =SUM(G3:G7) -> #REF! | H8: =SUM(H3:H7) -> 5 | I8: =SUM(I3:I7) -> #REF! | ... O8: =SUM(O3:O7) -> #REF!
A10: โครงการเพิ่มเติม | B10: ย.1 | D10: ย.2 | F10: ย.3 | H10: ย.4 | J10: ย.5 | L10: ย.6 | N10: รวม
B11: จน.โครงการ | C11: งบ | D11: จน.โครงการ | E11: งบ | F11: จน.โครงการ | G11: งบ | H11: จน.โครงการ | I11: งบ | J11: จน.โครงการ | K11: งบ | L11: จน.โครงการ | M11: งบ | N11: จน.โครงการ | O11: งบ
A12: งบจังหวัด | B12: 0 | C12: 0 | D12: 1 | E12: =#REF! -> #REF! | F12: 0 | G12: 0 | H12: 0 | I12: 0 | J12: 0 | K12: 0 | L12: 0 | M12: 0 | N12: =B12+D12+F12+H12+J12+L12 -> 1 | O12: =C12+E12+G12+I12+K12+M12 -> #REF!
A13: งบกระทรวง | B13: 2 | C13: ='ยุทธศาสตร์ที่ 1'!I9+'ยุทธศาสตร์ที่ 1'!#REF! -> #REF! | D13: 1 | E13: =#REF! -> #REF! | F13: 10 | G13: =#REF!+#REF!+#REF!+#REF!+#REF!+#REF!+#REF!+#REF!+#REF!+#REF! -> #REF! | H13: 2 | I13: =#REF!+#REF! -> #REF! | J13: 1 | K13: ='ยุทธศาสตร์ที่ 5'!#REF! -> #REF! | L13: 4 | M13: ='ยุทธศาสตร์ที่ 6'!#REF!+'ยุทธศาสตร์ที่ 6'!#REF!+'ยุทธศาสตร์ที่ 6'!#REF!+'ยุทธศาสตร์ที่ 6'!#REF! -> #REF! | N13: =B13+D13+F13+H13+J13+L13 -> 20 | O13: =C13+E13+G13+I13+K13+M13 -> #REF!
A14: งบอุดหนุน | B14: 0 | C14: 0 | D14: 2 | E14: =#REF!+#REF! -> #REF! | F14: 7 | G14: =#REF!+#REF!+#REF!+#REF!+#REF!+#REF!+#REF! -> #REF! | H14: 1 | I14: =#REF! -> #REF! | J14: 2 | K14: ='ยุทธศาสตร์ที่ 5'!#REF!+'ยุทธศาสตร์ที่ 5'!#REF! -> #REF! | L14: 0 | M14: 0 | N14: =B14+D14+F14+H14+J14+L14 -> 12 | O14: =C14+E14+G14+I14+K14+M14 -> #REF!
A15: งบเอกชน | B15: 1 | C15: 0 | D15: 2 | E15: 0 | F15: 5 | G15: =#REF!+#REF!+#REF! -> #REF! | H15: 3 | I15: =#REF! -> #REF! | J15: 15 | K15: ='ยุทธศาสตร์ที่ 5'!#REF!+'ยุทธศาสตร์ที่ 5'!#REF!+'ยุทธศาสตร์ที่ 5'!#REF!+'ยุทธศาสตร์ที่ 5'!#REF!+'ยุทธศาสตร์ที่ 5'!#REF!+'ยุทธศาสตร์ที่ 5'!#REF!+'ยุทธศาสตร์ที่ 5'!#REF!+'ยุทธศาสตร์ที่ 5'!#REF!+'ยุทธศาสตร์ที่ 5'!#REF! -> #REF! | L15: 1 | M15: 0 | N15: =B15+D15+F15+H15+J15+L15 -> 27 | O15: =C15+E15+G15+I15+K15+M15 -> #REF!
A16: งบ กนอ. | B16: 0 | C16: 0 | D16: 0 | E16: 0 | F16: 0 | G16: 0 | H16: 0 | I16: 0 | J16: 0 | K16: 0 | L16: 0 | M16: 0 | N16: =B16+D16+F16+H16+J16+L16 -> 0 | O16: =C16+E16+G16+I16+K16+M16 -> 0
B17: =SUM(B12:B16) -> 3 | C17: =SUM(C12:C16) -> #REF! | D17: =SUM(D12:D16) -> 6 | E17: =SUM(E12:E16) -> #REF! | F17: =SUM(F12:F16) -> 22 | G17: =SUM(G12:G16) -> #REF! | H17: =SUM(H12:H16) -> 6 | I17: =SUM(I12:I16) -> #REF! | ... O17: =SUM(O12:O16) -> #REF!
A20: เพิ่มเติม/บูรณาการ | B20: ย.1 | D20: ย.2 | F20: ย.3 | H20: ย.4 | J20: ย.5 | L20: ย.6 | N20: รวม
B21: จน.โครงการ | C21: งบ | D21: จน.โครงการ | E21: งบ | F21: จน.โครงการ | G21: งบ | H21: จน.โครงการ | I21: งบ | J21: จน.โครงการ | K21: งบ | L21: จน.โครงการ | M21: งบ | N21: จน.โครงการ | O21: งบ
L22: 6 | M22: ='ยุทธศาสตร์ที่ 6'!I10+'ยุทธศาสตร์ที่ 6'!#REF!+'ยุทธศาสตร์ที่ 6'!#REF!+'ยุทธศาสตร์ที่ 6'!#REF!+'ยุทธศาสตร์ที่ 6'!#REF!+'ยุทธศาสตร์ที่ 6'!#REF! -> #REF! | N22: =L22 -> 6 | O22: =M22 -> #REF!
D23: *งบขนส่งทางบก
B25: =B8+B17 -> 6 | C25: =C8+C17 -> #REF! | D25: =D8+D17 -> 19 | E25: =E8+E17 -> #REF! | F25: =F8+F17 -> 45 | G25: =G8+G17 -> #REF! | H25: =H8+H17 -> 11 | I25: =I8+I17 -> #REF! | ... M25: =M8+M17 -> #REF! | N25: =N8+N17+N22 -> 128 | O25: =O8+O17+O22 -> #REF!

Sheet งบประมาณเพิ่มเติม (หนาแน่น)
A1: ลำดับที่ | B1: โครงการ | C1: แหล่งงบประมาณ | D1: งบประมาณรวม (ล้านบาท) | E1: ระยะเวลาดำเนินโครงการ | J1: หน่วยงานรับผิดชอบ
E2: 60 | F2: 61 | G2: 62 | H2: 63 | I2: 64 | J2: หลัก | K2: สนับสนุน
C4: =B8+B14+B36+B47+B58+B64 -> 29 | D4: =D8+D14+D36+D47+D58+D64 -> #REF! | E4: =E8+E14+E36+E47+E58+E64 -> #REF! | F4: =F8+F14+F36+F47+F58+F64 -> #REF! | G4: =G8+G14+G36+G47+G58+G64 -> #REF! | H4: =H8+H14+H36+H47+H58+H64 -> #REF! | I4: =I8+I14+I36+I47+I58+I64 -> #REF!
A5: ยุทธศาสตร์ที่ 1 การจัดทำผังเมืองที่เหมาะสมกับศักยภาพพื้นที่
A6: 1 | B6: ='ยุทธศาสตร์ที่ 1'!#REF! -> #REF! | C6: ='ยุทธศาสตร์ที่ 1'!#REF! -> #REF! | D6: ='ยุทธศาสตร์ที่ 1'!#REF! -> #REF! | E6: ='ยุทธศาสตร์ที่ 1'!#REF! -> #REF! | F6: ='ยุทธศาสตร์ที่ 1'!#REF! -> #REF! | G6: ='ยุทธศาสตร์ที่ 1'!#REF! -> #REF! | H6: ='ยุทธศาสตร์ที่ 1'!#REF! -> #REF! | I6: ='ยุทธศาสตร์ที่ 1'!#REF! -> #REF! | ... N6: ='ยุทธศาสตร์ที่ 1'!#REF! -> #REF!
A8: รวม | B8: =COUNT(A6:A7) -> 1 | C8: โครงการ | D8: =SUM(D6:D7) -> #REF! | E8: =SUM(E6:E7) -> #REF! | F8: =SUM(F6:F7) -> #REF! | G8: =SUM(G6:G7) -> #REF! | H8: =SUM(H6:H7) -> #REF! | I8: =SUM(I6:I7) -> #REF!
A9: ยุทธศาสตร์ที่ 2 การปรับปรุงระบบโครงสร้างพื้นฐานเพื่อรองรับการพัฒนาเศรษฐกิจและสังคม
A10: 1 | B10: =#REF! -> #REF! | C10: =#REF! -> #REF! | D10: =#REF! -> #REF! | E10: =#REF! -> #REF! | F10: =#REF! -> #REF! | G10: =#REF! -> #REF! | H10: =#REF! -> #REF! | I10: =#REF! -> #REF! | ... M10: =#REF! -> #REF!
A11: 2 | B11: =#REF! -> #REF! | C11: =#REF! -> #REF! | D11: =#REF! -> #REF! | E11: =#REF! -> #REF! | F11: =#REF! -> #REF! | G11: =#REF! -> #REF! | H11: =#REF! -> #REF! | I11: =#REF! -> #REF! | ... N11: =#REF! -> #REF!
A12: 3 | B12: =#REF! -> #REF! | C12: =#REF! -> #REF! | D12: =#REF! -> #REF! | E12: =#REF! -> #REF! | F12: =#REF! -> #REF! | G12: =#REF! -> #REF! | H12: =#REF! -> #REF! | I12: =#REF! -> #REF! | ... N12: =#REF! -> #REF!
A14: รวม | B14: =COUNT(A10:A13) -> 3 | C14: โครงการ | D14: =SUM(D10:D13) -> #REF! | E14: =SUM(E10:E13) -> #REF! | F14: =SUM(F10:F13) -> #REF! | G14: =SUM(G10:G13) -> #REF! | H14: =SUM(H10:H13) -> #REF! | I14: =SUM(I10:I13) -> #REF!
A15: ยุทธศาสตร์ที่ 3 การยกระดับการจัดการสิ่งแวดล้อมและความปลอดภัยในพื้นที่
A16: 1 | B16: =#REF! -> #REF! | C16: =#REF! -> #REF! | D16: =#REF! -> #REF! | E16: =#REF! -> #REF! | F16: =#REF! -> #REF! | G16: =#REF! -> #REF! | H16: =#REF! -> #REF! | I16: =#REF! -> #REF! | ... N16: =#REF! -> #REF!
A17: 2 | B17: =#REF! -> #REF! | C17: =#REF! -> #REF! | D17: =#REF! -> #REF! | E17: =#REF! -> #REF! | F17: =#REF! -> #REF! | G17: =#REF! -> #REF! | H17: =#REF! -> #REF! | I17: =#REF! -> #REF! | ... N17: =#REF! -> #REF!
A18: 3 | B18: =#REF! -> #REF! | C18: =#REF! -> #REF! | D18: =#REF! -> #REF! | E18: =#REF! -> #REF! | F18: =#REF! -> #REF! | G18: =#REF! -> #REF! | H18: =#REF! -> #REF! | I18: =#REF! -> #REF! | ... N18: =#REF! -> #REF!
A19: 4 | B19: =#REF! -> #REF! | C19: =#REF! -> #REF! | D19: =#REF! -> #REF! | E19: =#REF! -> #REF! | F19: =#REF! -> #REF! | G19: =#REF! -> #REF! | H19: =#REF! -> #REF! | I19: =#REF! -> #REF! | ... N19: =#REF! -> #REF!
A20: 5 | B20: =#REF! -> #REF! | C20: =#REF! -> #REF! | D20: =#REF! -> #REF! | E20: =#REF! -> #REF! | F20: =#REF! -> #REF! | G20: =#REF! -> #REF! | H20: =#REF! -> #REF! | I20: =#REF! -> #REF! | ... N20: =#REF! -> #REF!
A21: 6 | B21: =#REF! -> #REF! | C21: =#REF! -> #REF! | D21: =#REF! -> #REF! | E21: =#REF! -> #REF! | F21: =#REF! -> #REF! | G21: =#REF! -> #REF! | H21: =#REF! -> #REF! | I21: =#REF! -> #REF! | ... N21: =#REF! -> #REF!
A22: 7 | B22: =#REF! -> #REF! | C22: =#REF! -> #REF! | D22: =#REF! -> #REF! | E22: =#REF! -> #REF! | F22: =#REF! -> #REF! | G22: =#REF! -> #REF! | H22: =#REF! -> #REF! | I22: =#REF! -> #REF! | ... N22: =#REF! -> #REF!
A23: 8 | B23: =#REF! -> #REF! | C23: =#REF! -> #REF! | D23: =#REF! -> #REF! | E23: =#REF! -> #REF! | F23: =#REF! -> #REF! | G23: =#REF! -> #REF! | H23: =#REF! -> #REF! | I23: =#REF! -> #REF! | ... N23: =#REF! -> #REF!
A24: 9 | B24: =#REF! -> #REF! | C24: =#REF! -> #REF! | D24: =#REF! -> #REF! | E24: =#REF! -> #REF! | F24: =#REF! -> #REF! | G24: =#REF! -> #REF! | H24: =#REF! -> #REF! | I24: =#REF! -> #REF! | ... N24: =#REF! -> #REF!
A25: 10 | B25: =#REF! -> #REF! | C25: =#REF! -> #REF! | D25: =#REF! -> #REF! | E25: =#REF! -> #REF! | F25: =#REF! -> #REF! | G25: =#REF! -> #REF! | H25: =#REF! -> #REF! | I25: =#REF! -> #REF! | ... N25: =#REF! -> #REF!
A26: 11 | B26: =#REF! -> #REF! | C26: =#REF! -> #REF! | D26: =#REF! -> #REF! | E26: =#REF! -> #REF! | F26: =#REF! -> #REF! | G26: =#REF! -> #REF! | H26: =#REF! -> #REF! | I26: =#REF! -> #REF! | ... N26: =#REF! -> #REF!
A27: 12 | B27: =#REF! -> #REF! | C27: =#REF! -> #REF! | D27: =#REF! -> #REF! | E27: =#REF! -> #REF! | F27: =#REF! -> #REF! | G27: =#REF! -> #REF! | H27: =#REF! -> #REF! | I27: =#REF! -> #REF! | ... N27: =#REF! -> #REF!
... A34: 19 | B34: =#REF! -> #REF! | C34: =#REF! -> #REF! | D34: =#REF! -> #REF! | E34: =#REF! -> #REF! | F34: =#REF! -> #REF! | G34: =#REF! -> #REF! | H34: =#REF! -> #REF! | I34: =#REF! -> #REF! | ... N34: =#REF! -> #REF!
A36: รวม | B36: =COUNT(A16:A35) -> 19 | C36: โครงการ | D36: =SUM(D16:D35) -> #REF! | E36: =SUM(E16:E35) -> #REF! | F36: =SUM(F16:F35) -> #REF! | G36: =SUM(G16:G35) -> #REF! | H36: =SUM(H16:H35) -> #REF! | I36: =SUM(I16:I35) -> #REF!
B37: ยุทธศาสตร์ที่ 4 การสร้างความเชื่อมโยงเศรษฐกิจชุมชนและอุตสาหกรรมในพื้นที่
B39: งบประมาณรวมยุทธศาสตร์ที่ 4 ( 0 โครงการ) | D39: =SUM(D38:D38) -> 0 | E39: =SUM(E38:E38) -> 0 | F39: =SUM(F38:F38) -> 0 | G39: =SUM(G38:G38) -> 0 | H39: =SUM(H38:H38) -> 0 | I39: =SUM(I38:I38) -> 0
B40: ยุทธศาสตร์ที่ 5 การพัฒนาสังคมและยกระดับคุณภาพชีวิต
B42: งบประมาณรวมยุทธศาสตร์ที่ 5 ( 0 โครงการ) | D42: =SUM(D41:D41) -> 0 | E42: =SUM(E41:E41) -> 0 | F42: =SUM(F41:F41) -> 0 | G42: =SUM(G41:G41) -> 0 | H42: =SUM(H41:H41) -> 0 | I42: =SUM(I41:I41) -> 0
A43: ยุทธศาสตร์ที่ 4 การสร้างความเชื่อมโยงเศรษฐกิจชุมชนและอุตสาหกรรมในพื้นที่
A44: 1 | B44: =#REF! -> #REF! | C44: =#REF! -> #REF! | D44: =#REF! -> #REF! | E44: =#REF! -> #REF! | F44: =#REF! -> #REF! | G44: =#REF! -> #REF! | H44: =#REF! -> #REF! | I44: =#REF! -> #REF! | ... N44: =#REF! -> #REF!
A45: 2 | B45: =#REF! -> #REF! | C45: =#REF! -> #REF! | D45: =#REF! -> #REF! | E45: =#REF! -> #REF! | F45: =#REF! -> #REF! | G45: =#REF! -> #REF! | H45: =#REF! -> #REF! | I45: =#REF! -> #REF! | ... N45: =#REF! -> #REF!
A47: รวม | B47: =COUNT(A44:A46) -> 2 | C47: โครงการ | D47: =SUM(D44:D46) -> #REF! | E47: =SUM(E44:E46) -> #REF! | F47: =SUM(F44:F46) -> #REF! | G47: =SUM(G44:G46) -> #REF! | H47: =SUM(H44:H46) -> #REF! | I47: =SUM(I44:I46) -> #REF!
B49: งบประมาณรวมยุทธศาสตร์ที่ 1 (0 โครงการ) | D49: =SUM(D48:D48) -> 0 | E49: =SUM(E48:E48) -> 0 | F49: =SUM(F48:F48) -> 0 | G49: =SUM(G48:G48) -> 0 | H49: =SUM(H48:H48) -> 0 | I49: =SUM(I48:I48) -> 0
B52: งบประมาณรวมยุทธศาสตร์ที่ 2 (0 โครงการ) | D52: =SUM(D51:D51) -> 0 | E52: =SUM(E51:E51) -> 0 | F52: =SUM(F51:F51) -> 0 | G52: =SUM(G51:G51) -> 0 | H52: =SUM(H51:H51) -> 0 | I52: =SUM(I51:I51) -> 0
A53: ยุทธศาสตร์ที่ 5 การพัฒนาสังคมและยกระดับคุณภาพชีวิต
A54: 1 | B54: ='ยุทธศาสตร์ที่ 5'!#REF! -> #REF! | C54: ='ยุทธศาสตร์ที่ 5'!#REF! -> #REF! | D54: ='ยุทธศาสตร์ที่ 5'!#REF! -> #REF! | E54: ='ยุทธศาสตร์ที่ 5'!#REF! -> #REF! | F54: ='ยุทธศาสตร์ที่ 5'!#REF! -> #REF! | G54: ='ยุทธศาสตร์ที่ 5'!#REF! -> #REF! | H54: ='ยุทธศาสตร์ที่ 5'!#REF! -> #REF! | I54: ='ยุทธศาสตร์ที่ 5'!#REF! -> #REF! | ... N54: ='ยุทธศาสตร์ที่ 5'!#REF! -> #REF!
A55: 2 | B55: ='ยุทธศาสตร์ที่ 5'!#REF! -> #REF! | C55: ='ยุทธศาสตร์ที่ 5'!#REF! -> #REF! | D55: ='ยุทธศาสตร์ที่ 5'!#REF! -> #REF! | E55: ='ยุทธศาสตร์ที่ 5'!#REF! -> #REF! | F55: ='ยุทธศาสตร์ที่ 5'!#REF! -> #REF! | G55: ='ยุทธศาสตร์ที่ 5'!#REF! -> #REF! | H55: ='ยุทธศาสตร์ที่ 5'!#REF! -> #REF! | I55: ='ยุทธศาสตร์ที่ 5'!#REF! -> #REF! | ... N55: ='ยุทธศาสตร์ที่ 5'!#REF! -> #REF!
A56: 3 | B56: ='ยุทธศาสตร์ที่ 5'!#REF! -> #REF! | C56: ='ยุทธศาสตร์ที่ 5'!#REF! -> #REF! | D56: ='ยุทธศาสตร์ที่ 5'!#REF! -> #REF! | E56: ='ยุทธศาสตร์ที่ 5'!#REF! -> #REF! | F56: ='ยุทธศาสตร์ที่ 5'!#REF! -> #REF! | G56: ='ยุทธศาสตร์ที่ 5'!#REF! -> #REF! | H56: ='ยุทธศาสตร์ที่ 5'!#REF! -> #REF! | I56: ='ยุทธศาสตร์ที่ 5'!#REF! -> #REF! | ... N56: ='ยุทธศาสตร์ที่ 5'!#REF! -> #REF!
A58: รวม | B58: =COUNT(A54:A57) -> 3 | C58: โครงการ | D58: =SUM(D54:D57) -> #REF! | E58: =SUM(E54:E57) -> #REF! | F58: =SUM(F54:F57) -> #REF! | G58: =SUM(G54:G57) -> #REF! | H58: =SUM(H54:H57) -> #REF! | I58: =SUM(I54:I57) -> #REF!
B60: งบประมาณรวมยุทธศาสตร์ที่ 6 (0 โครงการ) | D60: =SUM(D59:D59) -> 0 | E60: =SUM(E59:E59) -> 0 | F60: =SUM(F59:F59) -> 0 | G60: =SUM(G59:G59) -> 0 | H60: =SUM(H59:H59) -> 0 | I60: =SUM(I59:I59) -> 0
A61: ยุทธศาสตร์ที่ 6 การพัฒนาระบบการบริหารจัดการ องค์ความรู้ และบุคลากร
A62: 1 | B62: ='ยุทธศาสตร์ที่ 6'!#REF! -> #REF! | C62: ='ยุทธศาสตร์ที่ 6'!#REF! -> #REF! | D62: ='ยุทธศาสตร์ที่ 6'!#REF! -> #REF! | E62: ='ยุทธศาสตร์ที่ 6'!#REF! -> #REF! | F62: ='ยุทธศาสตร์ที่ 6'!#REF! -> #REF! | G62: ='ยุทธศาสตร์ที่ 6'!#REF! -> #REF! | H62: ='ยุทธศาสตร์ที่ 6'!#REF! -> #REF! | I62: ='ยุทธศาสตร์ที่ 6'!#REF! -> #REF! | ... O62: ='ยุทธศาสตร์ที่ 6'!#REF! -> #REF!
A64: รวม | B64: =COUNT(A62:A63) -> 1 | C64: โครงการ | D64: =SUM(D62:D63) -> #REF! | E64: =SUM(E62:E63) -> #REF! | F64: =SUM(F62:F63) -> #REF! | G64: =SUM(G62:G63) -> #REF! | H64: =SUM(H62:H63) -> #REF! | I64: =SUM(I62:I63) -> #REF!

Sheet งบประมาณเพิ่มเติม (มาบตาพุด)
A1: ลำดับที่ | B1: โครงการ | C1: แหล่งงบประมาณ | D1: งบประมาณรวม (ล้านบาท) | E1: ระยะเวลาดำเนินโครงการ | J1: หน่วยงานรับผิดชอบ
E2: 60 | F2: 61 | G2: 62 | H2: 63 | I2: 64 | J2: หลัก | K2: สนับสนุน
C4: =B7+B10+B17+B26+B35+B40 -> 4 | D4: =D7+D10+D17+D26+D35+D40 -> #REF! | E4: =E7+E10+E17+E26+E35+E40 -> #REF! | F4: =F7+F10+F17+F26+F35+F40 -> #REF! | G4: =G7+G10+G17+G26+G35+G40 -> #REF! | H4: =H7+H10+H17+H26+H35+H40 -> #REF! | I4: =I7+I10+I17+I26+I35+I40 -> #REF!
A5: ยุทธศาสตร์ที่ 1 การจัดทำผังเมืองที่เหมาะสมกับศักยภาพพื้นที่
A7: รวม | B7: =COUNT(A6:A6) -> 0 | C7: โครงการ | D7: =SUM(D6:D6) -> 0 | E7: =SUM(E6:E6) -> 0 | F7: =SUM(F6:F6) -> 0 | G7: =SUM(G6:G6) -> 0 | H7: =SUM(H6:H6) -> 0 | I7: =SUM(I6:I6) -> 0
A8: ยุทธศาสตร์ที่ 2 การปรับปรุงระบบโครงสร้างพื้นฐานเพื่อรองรับการพัฒนาเศรษฐกิจและสังคม
A10: รวม | B10: =COUNT(A9:A9) -> 0 | C10: โครงการ | D10: =SUM(D9:D9) -> 0 | E10: =SUM(E9:E9) -> 0 | F10: =SUM(F9:F9) -> 0 | G10: =SUM(G9:G9) -> 0 | H10: =SUM(H9:H9) -> 0 | I10: =SUM(I9:I9) -> 0
A11: ยุทธศาสตร์ที่ 3 การยกระดับการจัดการสิ่งแวดล้อมและความปลอดภัยในพื้นที่
A12: 1 | B12: =#REF! -> #REF! | C12: =#REF! -> #REF! | D12: =#REF! -> #REF! | E12: =#REF! -> #REF! | F12: =#REF! -> #REF! | G12: =#REF! -> #REF! | H12: =#REF! -> #REF! | I12: =#REF! -> #REF! | ... N12: =#REF! -> #REF!
A13: 2 | B13: =#REF! -> #REF! | C13: =#REF! -> #REF! | D13: =#REF! -> #REF! | E13: =#REF! -> #REF! | F13: =#REF! -> #REF! | G13: =#REF! -> #REF! | H13: =#REF! -> #REF! | I13: =#REF! -> #REF! | ... N13: =#REF! -> #REF!
A14: 3 | B14: =#REF! -> #REF! | C14: =#REF! -> #REF! | D14: =#REF! -> #REF! | E14: =#REF! -> #REF! | F14: =#REF! -> #REF! | G14: =#REF! -> #REF! | H14: =#REF! -> #REF! | I14: =#REF! -> #REF! | ... N14: =#REF! -> #REF!
A17: รวม | B17: =COUNT(A12:A16) -> 3 | C17: โครงการ | D17: =SUM(D12:D16) -> #REF! | E17: =SUM(E12:E16) -> #REF! | F17: =SUM(F12:F16) -> #REF! | G17: =SUM(G12:G16) -> #REF! | H17: =SUM(H12:H16) -> #REF! | I17: =SUM(I12:I16) -> #REF!
B18: ยุทธศาสตร์ที่ 4 การสร้างความเชื่อมโยงเศรษฐกิจชุมชนและอุตสาหกรรมในพื้นที่
B20: งบประมาณรวมยุทธศาสตร์ที่ 4 ( 0 โครงการ) | D20: =SUM(D19:D19) -> 0 | E20: =SUM(E19:E19) -> 0 | F20: =SUM(F19:F19) -> 0 | G20: =SUM(G19:G19) -> 0 | H20: =SUM(H19:H19) -> 0 | I20: =SUM(I19:I19) -> 0
B21: ยุทธศาสตร์ที่ 5 การพัฒนาสังคมและยกระดับคุณภาพชีวิต
B23: งบประมาณรวมยุทธศาสตร์ที่ 5 ( 0 โครงการ) | D23: =SUM(D22:D22) -> 0 | E23: =SUM(E22:E22) -> 0 | F23: =SUM(F22:F22) -> 0 | G23: =SUM(G22:G22) -> 0 | H23: =SUM(H22:H22) -> 0 | I23: =SUM(I22:I22) -> 0
A24: ยุทธศาสตร์ที่ 4 การสร้างความเชื่อมโยงเศรษฐกิจชุมชนและอุตสาหกรรมในพื้นที่
A26: รวม | B26: =COUNT(A25:A25) -> 0 | C26: โครงการ | D26: =SUM(D25:D25) -> 0 | E26: =SUM(E25:E25) -> 0 | F26: =SUM(F25:F25) -> 0 | G26: =SUM(G25:G25) -> 0 | H26: =SUM(H25:H25) -> 0 | I26: =SUM(I25:I25) -> 0
B28: งบประมาณรวมยุทธศาสตร์ที่ 1 (0 โครงการ) | D28: =SUM(D27:D27) -> 0 | E28: =SUM(E27:E27) -> 0 | F28: =SUM(F27:F27) -> 0 | G28: =SUM(G27:G27) -> 0 | H28: =SUM(H27:H27) -> 0 | I28: =SUM(I27:I27) -> 0
B31: งบประมาณรวมยุทธศาสตร์ที่ 2 (0 โครงการ) | D31: =SUM(D30:D30) -> 0 | E31: =SUM(E30:E30) -> 0 | F31: =SUM(F30:F30) -> 0 | G31: =SUM(G30:G30) -> 0 | H31: =SUM(H30:H30) -> 0 | I31: =SUM(I30:I30) -> 0
A32: ยุทธศาสตร์ที่ 5 การพัฒนาสังคมและยกระดับคุณภาพชีวิต
A33: 1 | B33: ='ยุทธศาสตร์ที่ 5'!#REF! -> #REF! | C33: ='ยุทธศาสตร์ที่ 5'!#REF! -> #REF! | D33: ='ยุทธศาสตร์ที่ 5'!#REF! -> #REF! | E33: ='ยุทธศาสตร์ที่ 5'!#REF! -> #REF! | F33: ='ยุทธศาสตร์ที่ 5'!#REF! -> #REF! | G33: ='ยุทธศาสตร์ที่ 5'!#REF! -> #REF! | H33: ='ยุทธศาสตร์ที่ 5'!#REF! -> #REF! | I33: ='ยุทธศาสตร์ที่ 5'!#REF! -> #REF! | ... N33: ='ยุทธศาสตร์ที่ 5'!#REF! -> #REF!
A35: รวม | B35: =COUNT(A33:A34) -> 1 | C35: โครงการ | D35: =SUM(D33:D34) -> #REF! | E35: =SUM(E33:E34) -> #REF! | F35: =SUM(F33:F34) -> #REF! | G35: =SUM(G33:G34) -> #REF! | H35: =SUM(H33:H34) -> #REF! | I35: =SUM(I33:I34) -> #REF!
B37: งบประมาณรวมยุทธศาสตร์ที่ 6 (0 โครงการ) | D37: =SUM(D36:D36) -> 0 | E37: =SUM(E36:E36) -> 0 | F37: =SUM(F36:F36) -> 0 | G37: =SUM(G36:G36) -> 0 | H37: =SUM(H36:H36) -> 0 | I37: =SUM(I36:I36) -> 0
A38: ยุทธศาสตร์ที่ 6 การพัฒนาระบบการบริหารจัดการ องค์ความรู้ และบุคลากร
A40: รวม | B40: =COUNT(A39:A39) -> 0 | C40: โครงการ | D40: =SUM(D39:D39) -> 0 | E40: =SUM(E39:E39) -> 0 | F40: =SUM(F39:F39) -> 0 | G40: =SUM(G39:G39) -> 0 | H40: =SUM(H39:H39) -> 0 | I40: =SUM(I39:I39) -> 0

Sheet งบประมาณเพิ่มเติม (irpc)
A1: ลำดับที่ | B1: โครงการ | C1: แหล่งงบประมาณ | D1: งบประมาณรวม (ล้านบาท) | E1: ระยะเวลาดำเนินโครงการ | J1: หน่วยงานรับผิดชอบ
E2: 60 | F2: 61 | G2: 62 | H2: 63 | I2: 64 | J2: หลัก | K2: สนับสนุน
C4: =B9+B15+B23+B36+B58+B64 -> 29 | D4: =D9+D15+D23+D36+D58+D64 -> #REF! | E4: =E9+E15+E23+E36+E58+E64 -> #REF! | F4: =F9+F15+F23+F36+F58+F64 -> #REF! | G4: =G9+G15+G23+G36+G58+G64 -> #REF! | H4: =H9+H15+H23+H36+H58+H64 -> #REF! | I4: =I9+I15+I23+I36+I58+I64 -> #REF!
A5: ยุทธศาสตร์ที่ 1 การจัดทำผังเมืองที่เหมาะสมกับศักยภาพพื้นที่
A6: 1 | B6: ='ยุทธศาสตร์ที่ 1'!F9 -> 0 | C6: ='ยุทธศาสตร์ที่ 1'!H9 -> 0 | D6: ='ยุทธศาสตร์ที่ 1'!I9 -> 0 | E6: ='ยุทธศาสตร์ที่ 1'!#REF! -> #REF! | F6: ='ยุทธศาสตร์ที่ 1'!Q9 -> 0 | G6: ='ยุทธศาสตร์ที่ 1'!R9 -> 0 | H6: ='ยุทธศาสตร์ที่ 1'!S9 -> 0 | I6: ='ยุทธศาสตร์ที่ 1'!U9 -> 0 | J6: ='ยุทธศาสตร์ที่ 1'!V9 -> 0 | K6: ='ยุทธศาสตร์ที่ 1'!W9 -> 0 | L6: ='ยุทธศาสตร์ที่ 1'!#REF! -> #REF! | M6: ='ยุทธศาสตร์ที่ 1'!#REF! -> #REF! | N6: ='ยุทธศาสตร์ที่ 1'!G9 -> 0
A7: 2 | B7: ='ยุทธศาสตร์ที่ 1'!#REF! -> #REF! | C7: ='ยุทธศาสตร์ที่ 1'!#REF! -> #REF! | D7: ='ยุทธศาสตร์ที่ 1'!#REF! -> #REF! | E7: ='ยุทธศาสตร์ที่ 1'!#REF! -> #REF! | F7: ='ยุทธศาสตร์ที่ 1'!#REF! -> #REF! | G7: ='ยุทธศาสตร์ที่ 1'!#REF! -> #REF! | H7: ='ยุทธศาสตร์ที่ 1'!#REF! -> #REF! | I7: ='ยุทธศาสตร์ที่ 1'!#REF! -> #REF! | ... N7: ='ยุทธศาสตร์ที่ 1'!#REF! -> #REF!
A9: รวม | B9: =COUNT(A6:A8) -> 2 | C9: โครงการ | D9: =SUM(D6:D8) -> #REF! | E9: =SUM(E6:E8) -> #REF! | F9: =SUM(F6:F8) -> #REF! | G9: =SUM(G6:G8) -> #REF! | H9: =SUM(H6:H8) -> #REF! | I9: =SUM(I6:I8) -> #REF!
A10: ยุทธศาสตร์ที่ 2 การปรับปรุงระบบโครงสร้างพื้นฐานเพื่อรองรับการพัฒนาเศรษฐกิจและสังคม
A11: 1 | B11: =#REF! -> #REF! | C11: =#REF! -> #REF! | D11: =#REF! -> #REF! | E11: =#REF! -> #REF! | F11: =#REF! -> #REF! | G11: =#REF! -> #REF! | H11: =#REF! -> #REF! | I11: =#REF! -> #REF! | ... N11: =#REF! -> #REF!
A12: 2 | B12: =#REF! -> #REF! | C12: =#REF! -> #REF! | D12: =#REF! -> #REF! | E12: =#REF! -> #REF! | F12: =#REF! -> #REF! | G12: =#REF! -> #REF! | H12: =#REF! -> #REF! | I12: =#REF! -> #REF! | ... N12: =#REF! -> #REF!
A13: 3 | B13: =#REF! -> #REF! | C13: =#REF! -> #REF! | D13: =#REF! -> #REF! | E13: =#REF! -> #REF! | F13: =#REF! -> #REF! | G13: =#REF! -> #REF! | H13: =#REF! -> #REF! | I13: =#REF! -> #REF! | ... N13: =#REF! -> #REF!
A15: รวม | B15: =COUNT(A11:A14) -> 3 | C15: โครงการ | D15: =SUM(D11:D14) -> #REF! | E15: =SUM(E11:E14) -> #REF! | F15: =SUM(F11:F14) -> #REF! | G15: =SUM(G11:G14) -> #REF! | H15: =SUM(H11:H14) -> #REF! | I15: =SUM(I11:I14) -> #REF!
A16: ยุทธศาสตร์ที่ 3 การยกระดับการจัดการสิ่งแวดล้อมและความปลอดภัยในพื้นที่
A17: 1 | B17: =#REF! -> #REF! | C17: =#REF! -> #REF! | D17: =#REF! -> #REF! | E17: =#REF! -> #REF! | F17: =#REF! -> #REF! | G17: =#REF! -> #REF! | H17: =#REF! -> #REF! | I17: =#REF! -> #REF! | ... N17: =#REF! -> #REF!
A18: 2 | B18: =#REF! -> #REF! | C18: =#REF! -> #REF! | D18: =#REF! -> #REF! | E18: =#REF! -> #REF! | F18: =#REF! -> #REF! | G18: =#REF! -> #REF! | H18: =#REF! -> #REF! | I18: =#REF! -> #REF! | ... N18: =#REF! -> #REF!
A19: 3 | B19: =#REF! -> #REF! | C19: =#REF! -> #REF! | D19: =#REF! -> #REF! | E19: =#REF! -> #REF! | F19: =#REF! -> #REF! | G19: =#REF! -> #REF! | H19: =#REF! -> #REF! | I19: =#REF! -> #REF! | ... N19: =#REF! -> #REF!
A20: 4 | B20: =#REF! -> #REF! | C20: =#REF! -> #REF! | D20: =#REF! -> #REF! | E20: =#REF! -> #REF! | F20: =#REF! -> #REF! | G20: =#REF! -> #REF! | H20: =#REF! -> #REF! | I20: =#REF! -> #REF! | ... N20: =#REF! -> #REF!
A21: 5 | B21: =#REF! -> #REF! | C21: =#REF! -> #REF! | D21: =#REF! -> #REF! | E21: =#REF! -> #REF! | F21: =#REF! -> #REF! | G21: =#REF! -> #REF! | H21: =#REF! -> #REF! | I21: =#REF! -> #REF! | ... N21: =#REF! -> #REF!
A23: รวม | B23: =COUNT(A17:A22) -> 5 | C23: โครงการ | D23: =SUM(D17:D22) -> #REF! | E23: =SUM(E17:E22) -> #REF! | F23: =SUM(F17:F22) -> #REF! | G23: =SUM(G17:G22) -> #REF! | H23: =SUM(H17:H22) -> #REF! | I23: =SUM(I17:I22) -> #REF!
B24: ยุทธศาสตร์ที่ 4 การสร้างความเชื่อมโยงเศรษฐกิจชุมชนและอุตสาหกรรมในพื้นที่
B26: งบประมาณรวมยุทธศาสตร์ที่ 4 ( 0 โครงการ) | D26: =SUM(D25:D25) -> 0 | E26: =SUM(E25:E25) -> 0 | F26: =SUM(F25:F25) -> 0 | G26: =SUM(G25:G25) -> 0 | H26: =SUM(H25:H25) -> 0 | I26: =SUM(I25:I25) -> 0
B27: ยุทธศาสตร์ที่ 5 การพัฒนาสังคมและยกระดับคุณภาพชีวิต
B29: งบประมาณรวมยุทธศาสตร์ที่ 5 ( 0 โครงการ) | D29: =SUM(D28:D28) -> 0 | E29: =SUM(E28:E28) -> 0 | F29: =SUM(F28:F28) -> 0 | G29: =SUM(G28:G28) -> 0 | H29: =SUM(H28:H28) -> 0 | I29: =SUM(I28:I28) -> 0
A30: ยุทธศาสตร์ที่ 4 การสร้างความเชื่อมโยงเศรษฐกิจชุมชนและอุตสาหกรรมในพื้นที่
A31: 1 | B31: =#REF! -> #REF! | C31: =#REF! -> #REF! | D31: =#REF! -> #REF! | E31: =#REF! -> #REF! | F31: =#REF! -> #REF! | G31: =#REF! -> #REF! | H31: =#REF! -> #REF! | I31: =#REF! -> #REF! | ... N31: =#REF! -> #REF!
A32: 2 | B32: =#REF! -> #REF! | C32: =#REF! -> #REF! | D32: =#REF! -> #REF! | E32: =#REF! -> #REF! | F32: =#REF! -> #REF! | G32: =#REF! -> #REF! | H32: =#REF! -> #REF! | I32: =#REF! -> #REF! | ... N32: =#REF! -> #REF!
A33: 3 | B33: =#REF! -> #REF! | C33: =#REF! -> #REF! | D33: =#REF! -> #REF! | E33: =#REF! -> #REF! | F33: =#REF! -> #REF! | G33: =#REF! -> #REF! | H33: =#REF! -> #REF! | I33: =#REF! -> #REF! | ... N33: =#REF! -> #REF!
A34: 4 | B34: =#REF! -> #REF! | C34: =#REF! -> #REF! | D34: =#REF! -> #REF! | E34: =#REF! -> #REF! | F34: =#REF! -> #REF! | G34: =#REF! -> #REF! | H34: =#REF! -> #REF! | I34: =#REF! -> #REF! | ... N34: =#REF! -> #REF!
A36: รวม | B36: =COUNT(A31:A35) -> 4 | C36: โครงการ | D36: =SUM(D31:D35) -> #REF! | E36: =SUM(E31:E35) -> #REF! | F36: =SUM(F31:F35) -> #REF! | G36: =SUM(G31:G35) -> #REF! | H36: =SUM(H31:H35) -> #REF! | I36: =SUM(I31:I35) -> #REF!
B38: งบประมาณรวมยุทธศาสตร์ที่ 1 (0 โครงการ) | D38: =SUM(D37:D37) -> 0 | E38: =SUM(E37:E37) -> 0 | F38: =SUM(F37:F37) -> 0 | G38: =SUM(G37:G37) -> 0 | H38: =SUM(H37:H37) -> 0 | I38: =SUM(I37:I37) -> 0
B41: งบประมาณรวมยุทธศาสตร์ที่ 2 (0 โครงการ) | D41: =SUM(D40:D40) -> 0 | E41: =SUM(E40:E40) -> 0 | F41: =SUM(F40:F40) -> 0 | G41: =SUM(G40:G40) -> 0 | H41: =SUM(H40:H40) -> 0 | I41: =SUM(I40:I40) -> 0
A42: ยุทธศาสตร์ที่ 5 การพัฒนาสังคมและยกระดับคุณภาพชีวิต
A43: 1 | B43: ='ยุทธศาสตร์ที่ 5'!#REF! -> #REF! | C43: ='ยุทธศาสตร์ที่ 5'!#REF! -> #REF! | D43: ='ยุทธศาสตร์ที่ 5'!#REF! -> #REF! | E43: ='ยุทธศาสตร์ที่ 5'!#REF! -> #REF! | F43: ='ยุทธศาสตร์ที่ 5'!#REF! -> #REF! | G43: ='ยุทธศาสตร์ที่ 5'!#REF! -> #REF! | H43: ='ยุทธศาสตร์ที่ 5'!#REF! -> #REF! | I43: ='ยุทธศาสตร์ที่ 5'!#REF! -> #REF! | ... N43: ='ยุทธศาสตร์ที่ 5'!#REF! -> #REF!
A44: 2 | B44: ='ยุทธศาสตร์ที่ 5'!#REF! -> #REF! | C44: ='ยุทธศาสตร์ที่ 5'!#REF! -> #REF! | D44: ='ยุทธศาสตร์ที่ 5'!#REF! -> #REF! | E44: ='ยุทธศาสตร์ที่ 5'!#REF! -> #REF! | F44: ='ยุทธศาสตร์ที่ 5'!#REF! -> #REF! | G44: ='ยุทธศาสตร์ที่ 5'!#REF! -> #REF! | H44: ='ยุทธศาสตร์ที่ 5'!#REF! -> #REF! | I44: ='ยุทธศาสตร์ที่ 5'!#REF! -> #REF! | ... N44: ='ยุทธศาสตร์ที่ 5'!#REF! -> #REF!
A45: 3 | B45: ='ยุทธศาสตร์ที่ 5'!#REF! -> #REF! | C45: ='ยุทธศาสตร์ที่ 5'!#REF! -> #REF! | D45: ='ยุทธศาสตร์ที่ 5'!#REF! -> #REF! | E45: ='ยุทธศาสตร์ที่ 5'!#REF! -> #REF! | F45: ='ยุทธศาสตร์ที่ 5'!#REF! -> #REF! | G45: ='ยุทธศาสตร์ที่ 5'!#REF! -> #REF! | H45: ='ยุทธศาสตร์ที่ 5'!#REF! -> #REF! | I45: ='ยุทธศาสตร์ที่ 5'!#REF! -> #REF! | ... N45: ='ยุทธศาสตร์ที่ 5'!#REF! -> #REF!
A46: 4 | B46: ='ยุทธศาสตร์ที่ 5'!#REF! -> #REF! | C46: ='ยุทธศาสตร์ที่ 5'!#REF! -> #REF! | D46: ='ยุทธศาสตร์ที่ 5'!#REF! -> #REF! | E46: ='ยุทธศาสตร์ที่ 5'!#REF! -> #REF! | F46: ='ยุทธศาสตร์ที่ 5'!#REF! -> #REF! | G46: ='ยุทธศาสตร์ที่ 5'!#REF! -> #REF! | H46: ='ยุทธศาสตร์ที่ 5'!#REF! -> #REF! | I46: ='ยุทธศาสตร์ที่ 5'!#REF! -> #REF! | ... N46: ='ยุทธศาสตร์ที่ 5'!#REF! -> #REF!
A47: 5 | B47: ='ยุทธศาสตร์ที่ 5'!#REF! -> #REF! | C47: ='ยุทธศาสตร์ที่ 5'!#REF! -> #REF! | D47: ='ยุทธศาสตร์ที่ 5'!#REF! -> #REF! | E47: ='ยุทธศาสตร์ที่ 5'!#REF! -> #REF! | F47: ='ยุทธศาสตร์ที่ 5'!#REF! -> #REF! | G47: ='ยุทธศาสตร์ที่ 5'!#REF! -> #REF! | H47: ='ยุทธศาสตร์ที่ 5'!#REF! -> #REF! | I47: ='ยุทธศาสตร์ที่ 5'!#REF! -> #REF! | ... N47: ='ยุทธศาสตร์ที่ 5'!#REF! -> #REF!
A48: 6 | B48: ='ยุทธศาสตร์ที่ 5'!#REF! -> #REF! | C48: ='ยุทธศาสตร์ที่ 5'!#REF! -> #REF! | D48: ='ยุทธศาสตร์ที่ 5'!#REF! -> #REF! | E48: ='ยุทธศาสตร์ที่ 5'!#REF! -> #REF! | F48: ='ยุทธศาสตร์ที่ 5'!#REF! -> #REF! | G48: ='ยุทธศาสตร์ที่ 5'!#REF! -> #REF! | H48: ='ยุทธศาสตร์ที่ 5'!#REF! -> #REF! | I48: ='ยุทธศาสตร์ที่ 5'!#REF! -> #REF! | ... N48: ='ยุทธศาสตร์ที่ 5'!#REF! -> #REF!
A49: 7 | B49: ='ยุทธศาสตร์ที่ 5'!#REF! -> #REF! | C49: ='ยุทธศาสตร์ที่ 5'!#REF! -> #REF! | D49: ='ยุทธศาสตร์ที่ 5'!#REF! -> #REF! | E49: ='ยุทธศาสตร์ที่ 5'!#REF! -> #REF! | F49: ='ยุทธศาสตร์ที่ 5'!#REF! -> #REF! | G49: ='ยุทธศาสตร์ที่ 5'!#REF! -> #REF! | H49: ='ยุทธศาสตร์ที่ 5'!#REF! -> #REF! | I49: ='ยุทธศาสตร์ที่ 5'!#REF! -> #REF! | ... N49: ='ยุทธศาสตร์ที่ 5'!#REF! -> #REF!
A50: 8 | B50: ='ยุทธศาสตร์ที่ 5'!#REF! -> #REF! | C50: ='ยุทธศาสตร์ที่ 5'!#REF! -> #REF! | D50: ='ยุทธศาสตร์ที่ 5'!#REF! -> #REF! | E50: ='ยุทธศาสตร์ที่ 5'!#REF! -> #REF! | F50: ='ยุทธศาสตร์ที่ 5'!#REF! -> #REF! | G50: ='ยุทธศาสตร์ที่ 5'!#REF! -> #REF! | H50: ='ยุทธศาสตร์ที่ 5'!#REF! -> #REF! | I50: ='ยุทธศาสตร์ที่ 5'!#REF! -> #REF! | ... N50: ='ยุทธศาสตร์ที่ 5'!#REF! -> #REF!
A51: 9 | B51: ='ยุทธศาสตร์ที่ 5'!#REF! -> #REF! | C51: ='ยุทธศาสตร์ที่ 5'!#REF! -> #REF! | D51: ='ยุทธศาสตร์ที่ 5'!#REF! -> #REF! | E51: ='ยุทธศาสตร์ที่ 5'!#REF! -> #REF! | F51: ='ยุทธศาสตร์ที่ 5'!#REF! -> #REF! | G51: ='ยุทธศาสตร์ที่ 5'!#REF! -> #REF! | H51: ='ยุทธศาสตร์ที่ 5'!#REF! -> #REF! | I51: ='ยุทธศาสตร์ที่ 5'!#REF! -> #REF! | ... N51: ='ยุทธศาสตร์ที่ 5'!#REF! -> #REF!
A52: 10 | B52: ='ยุทธศาสตร์ที่ 5'!#REF! -> #REF! | C52: ='ยุทธศาสตร์ที่ 5'!#REF! -> #REF! | D52: ='ยุทธศาสตร์ที่ 5'!#REF! -> #REF! | E52: ='ยุทธศาสตร์ที่ 5'!#REF! -> #REF! | F52: ='ยุทธศาสตร์ที่ 5'!#REF! -> #REF! | G52: ='ยุทธศาสตร์ที่ 5'!#REF! -> #REF! | H52: ='ยุทธศาสตร์ที่ 5'!#REF! -> #REF! | I52: ='ยุทธศาสตร์ที่ 5'!#REF! -> #REF! | ... N52: ='ยุทธศาสตร์ที่ 5'!#REF! -> #REF!
A53: 11 | B53: ='ยุทธศาสตร์ที่ 5'!#REF! -> #REF! | C53: ='ยุทธศาสตร์ที่ 5'!#REF! -> #REF! | D53: ='ยุทธศาสตร์ที่ 5'!#REF! -> #REF! | E53: ='ยุทธศาสตร์ที่ 5'!#REF! -> #REF! | F53: ='ยุทธศาสตร์ที่ 5'!#REF! -> #REF! | G53: ='ยุทธศาสตร์ที่ 5'!#REF! -> #REF! | H53: ='ยุทธศาสตร์ที่ 5'!#REF! -> #REF! | I53: ='ยุทธศาสตร์ที่ 5'!#REF! -> #REF! | ... N53: ='ยุทธศาสตร์ที่ 5'!#REF! -> #REF!
A54: 12 | B54: ='ยุทธศาสตร์ที่ 5'!#REF! -> #REF! | C54: ='ยุทธศาสตร์ที่ 5'!#REF! -> #REF! | D54: ='ยุทธศาสตร์ที่ 5'!#REF! -> #REF! | E54: ='ยุทธศาสตร์ที่ 5'!#REF! -> #REF! | F54: ='ยุทธศาสตร์ที่ 5'!#REF! -> #REF! | G54: ='ยุทธศาสตร์ที่ 5'!#REF! -> #REF! | H54: ='ยุทธศาสตร์ที่ 5'!#REF! -> #REF! | I54: ='ยุทธศาสตร์ที่ 5'!#REF! -> #REF! | ... N54: ='ยุทธศาสตร์ที่ 5'!#REF! -> #REF!
... A56: 14 | B56: ='ยุทธศาสตร์ที่ 5'!#REF! -> #REF! | C56: ='ยุทธศาสตร์ที่ 5'!#REF! -> #REF! | D56: ='ยุทธศาสตร์ที่ 5'!#REF! -> #REF! | E56: ='ยุทธศาสตร์ที่ 5'!#REF! -> #REF! | F56: ='ยุทธศาสตร์ที่ 5'!#REF! -> #REF! | G56: ='ยุทธศาสตร์ที่ 5'!#REF! -> #REF! | H56: ='ยุทธศาสตร์ที่ 5'!#REF! -> #REF! | I56: ='ยุทธศาสตร์ที่ 5'!#REF! -> #REF! | ... N56: ='ยุทธศาสตร์ที่ 5'!#REF! -> #REF!
A58: รวม | B58: =COUNT(A43:A57) -> 14 | C58: โครงการ | D58: =SUM(D43:D57) -> #REF! | E58: =SUM(E43:E57) -> #REF! | F58: =SUM(F43:F57) -> #REF! | G58: =SUM(G43:G57) -> #REF! | H58: =SUM(H43:H57) -> #REF! | I58: =SUM(I43:I57) -> #REF!
B60: งบประมาณรวมยุทธศาสตร์ที่ 6 (0 โครงการ) | D60: =SUM(D59:D59) -> 0 | E60: =SUM(E59:E59) -> 0 | F60: =SUM(F59:F59) -> 0 | G60: =SUM(G59:G59) -> 0 | H60: =SUM(H59:H59) -> 0 | I60: =SUM(I59:I59) -> 0
A61: ยุทธศาสตร์ที่ 6 การพัฒนาระบบการบริหารจัดการ องค์ความรู้ และบุคลากร
A62: 1 | B62: ='ยุทธศาสตร์ที่ 6'!#REF! -> #REF! | C62: ='ยุทธศาสตร์ที่ 6'!#REF! -> #REF! | D62: ='ยุทธศาสตร์ที่ 6'!#REF! -> #REF! | E62: ='ยุทธศาสตร์ที่ 6'!#REF! -> #REF! | F62: ='ยุทธศาสตร์ที่ 6'!#REF! -> #REF! | G62: ='ยุทธศาสตร์ที่ 6'!#REF! -> #REF! | H62: ='ยุทธศาสตร์ที่ 6'!#REF! -> #REF! | I62: ='ยุทธศาสตร์ที่ 6'!#REF! -> #REF! | ... N62: ='ยุทธศาสตร์ที่ 6'!#REF! -> #REF!
A64: รวม | B64: =COUNT(A62:A63) -> 1 | C64: โครงการ | D64: =SUM(D62:D63) -> #REF! | E64: =SUM(E62:E63) -> #REF! | F64: =SUM(F62:F63) -> #REF! | G64: =SUM(G62:G63) -> #REF! | H64: =SUM(H62:H63) -> #REF! | I64: =SUM(I62:I63) -> #REF!

Sheet มท
A1: ลำดับที่ | B1: โครงการ | C1: แหล่งงบประมาณ | D1: งบประมาณรวม (ล้านบาท) | E1: ระยะเวลาดำเนินโครงการ | J1: หน่วยงานรับผิดชอบ
E2: 60 | F2: 61 | G2: 62 | H2: 63 | I2: 64 | J2: หลัก | K2: สนับสนุน
C4: =B8+B14+B26+B36+B46+B53 -> 16 | D4: =D8+D14+D26+D36+D46+D53 -> #REF! | E4: =E8+E14+E26+E36+E46+E53 -> #REF! | F4: =F8+F14+F26+F36+F46+F53 -> #REF! | G4: =G8+G14+G26+G36+G46+G53 -> #REF! | H4: =H8+H14+H26+H36+H46+H53 -> #REF! | I4: =I8+I14+I26+I36+I46+I53 -> #REF!
A5: ยุทธศาสตร์ที่ 1 การจัดทำผังเมืองที่เหมาะสมกับศักยภาพพื้นที่
A6: 1 | B6: ='ยุทธศาสตร์ที่ 1'!F9 -> 0 | C6: ='ยุทธศาสตร์ที่ 1'!H9 -> 0 | D6: ='ยุทธศาสตร์ที่ 1'!I9 -> 0 | E6: ='ยุทธศาสตร์ที่ 1'!#REF! -> #REF! | F6: ='ยุทธศาสตร์ที่ 1'!Q9 -> 0 | G6: ='ยุทธศาสตร์ที่ 1'!R9 -> 0 | H6: ='ยุทธศาสตร์ที่ 1'!S9 -> 0 | I6: ='ยุทธศาสตร์ที่ 1'!U9 -> 0 | J6: ='ยุทธศาสตร์ที่ 1'!V9 -> 0 | K6: ='ยุทธศาสตร์ที่ 1'!W9 -> 0 | L6: ='ยุทธศาสตร์ที่ 1'!#REF! -> #REF! | M6: ='ยุทธศาสตร์ที่ 1'!#REF! -> #REF! | N6: ='ยุทธศาสตร์ที่ 1'!G9 -> 0
A8: รวม | B8: =COUNT(A6:A7) -> 1 | C8: โครงการ | D8: =SUM(D6:D7) -> 0 | E8: =SUM(E6:E7) -> #REF! | F8: =SUM(F6:F7) -> 0 | G8: =SUM(G6:G7) -> 0 | H8: =SUM(H6:H7) -> 0 | I8: =SUM(I6:I7) -> 0
A9: ยุทธศาสตร์ที่ 2 การปรับปรุงระบบโครงสร้างพื้นฐานเพื่อรองรับการพัฒนาเศรษฐกิจและสังคม
A10: 1 | B10: =#REF! -> #REF! | C10: =#REF! -> #REF! | D10: =#REF! -> #REF! | E10: =#REF! -> #REF! | F10: =#REF! -> #REF! | G10: =#REF! -> #REF! | H10: =#REF! -> #REF! | I10: =#REF! -> #REF! | ... M10: =#REF! -> #REF!
A11: 4 | B11: =#REF! -> #REF! | C11: =#REF! -> #REF! | D11: =#REF! -> #REF! | E11: =#REF! -> #REF! | F11: =#REF! -> #REF! | G11: =#REF! -> #REF! | H11: =#REF! -> #REF! | I11: =#REF! -> #REF! | ... N11: =#REF! -> #REF!
A12: 5 | B12: =#REF! -> #REF! | C12: =#REF! -> #REF! | D12: =#REF! -> #REF! | E12: =#REF! -> #REF! | F12: =#REF! -> #REF! | G12: =#REF! -> #REF! | H12: =#REF! -> #REF! | I12: =#REF! -> #REF! | ... N12: =#REF! -> #REF!
A14: รวม | B14: =COUNT(A10:A13) -> 3 | C14: โครงการ | D14: =SUM(D10:D13) -> #REF! | E14: =SUM(E10:E13) -> #REF! | F14: =SUM(F10:F13) -> #REF! | G14: =SUM(G10:G13) -> #REF! | H14: =SUM(H10:H13) -> #REF! | I14: =SUM(I10:I13) -> #REF!
A15: ยุทธศาสตร์ที่ 3 การยกระดับการจัดการสิ่งแวดล้อมและความปลอดภัยในพื้นที่
A16: 6 | B16: =#REF! -> #REF! | C16: =#REF! -> #REF! | D16: =#REF! -> #REF! | E16: =#REF! -> #REF! | F16: =#REF! -> #REF! | G16: =#REF! -> #REF! | H16: =#REF! -> #REF! | I16: =#REF! -> #REF! | ... N16: =#REF! -> #REF!
A17: 14 | B17: =#REF! -> #REF! | C17: =#REF! -> #REF! | D17: =#REF! -> #REF! | E17: =#REF! -> #REF! | F17: =#REF! -> #REF! | G17: =#REF! -> #REF! | H17: =#REF! -> #REF! | I17: =#REF! -> #REF! | ... N17: =#REF! -> #REF!
A18: 19 | B18: =#REF! -> #REF! | C18: =#REF! -> #REF! | D18: =#REF! -> #REF! | E18: =#REF! -> #REF! | F18: =#REF! -> #REF! | G18: =#REF! -> #REF! | H18: =#REF! -> #REF! | I18: =#REF! -> #REF! | ... N18: =#REF! -> #REF!
A19: 20 | B19: =#REF! -> #REF! | C19: =#REF! -> #REF! | D19: =#REF! -> #REF! | E19: =#REF! -> #REF! | F19: =#REF! -> #REF! | G19: =#REF! -> #REF! | H19: =#REF! -> #REF! | I19: =#REF! -> #REF! | ... N19: =#REF! -> #REF!
A20: 21 | B20: =#REF! -> #REF! | C20: =#REF! -> #REF! | D20: =#REF! -> #REF! | E20: =#REF! -> #REF! | F20: =#REF! -> #REF! | G20: =#REF! -> #REF! | H20: =#REF! -> #REF! | I20: =#REF! -> #REF! | ... N20: =#REF! -> #REF!
A21: 22 | B21: =#REF! -> #REF! | C21: =#REF! -> #REF! | D21: =#REF! -> #REF! | E21: =#REF! -> #REF! | F21: =#REF! -> #REF! | G21: =#REF! -> #REF! | H21: =#REF! -> #REF! | I21: =#REF! -> #REF! | ... N21: =#REF! -> #REF!
A22: 23 | B22: =#REF! -> #REF! | C22: =#REF! -> #REF! | D22: =#REF! -> #REF! | E22: =#REF! -> #REF! | F22: =#REF! -> #REF! | G22: =#REF! -> #REF! | H22: =#REF! -> #REF! | I22: =#REF! -> #REF! | ... N22: =#REF! -> #REF!
A23: 24 | B23: =#REF! -> #REF! | C23: =#REF! -> #REF! | D23: =#REF! -> #REF! | E23: =#REF! -> #REF! | F23: =#REF! -> #REF! | G23: =#REF! -> #REF! | H23: =#REF! -> #REF! | I23: =#REF! -> #REF! | ... N23: =#REF! -> #REF!
A24: 26 | B24: =#REF! -> #REF! | C24: =#REF! -> #REF! | D24: =#REF! -> #REF! | E24: =#REF! -> #REF! | F24: =#REF! -> #REF! | G24: =#REF! -> #REF! | H24: =#REF! -> #REF! | I24: =#REF! -> #REF! | ... N24: =#REF! -> #REF!
A26: รวม | B26: =COUNT(A16:A25) -> 9 | C26: โครงการ | D26: =SUM(D16:D25) -> #REF! | E26: =SUM(E16:E25) -> #REF! | F26: =SUM(F16:F25) -> #REF! | G26: =SUM(G16:G25) -> #REF! | H26: =SUM(H16:H25) -> #REF! | I26: =SUM(I16:I25) -> #REF!
B27: ยุทธศาสตร์ที่ 4 การสร้างความเชื่อมโยงเศรษฐกิจชุมชนและอุตสาหกรรมในพื้นที่
B29: งบประมาณรวมยุทธศาสตร์ที่ 4 ( 0 โครงการ) | D29: =SUM(D28:D28) -> 0 | E29: =SUM(E28:E28) -> 0 | F29: =SUM(F28:F28) -> 0 | G29: =SUM(G28:G28) -> 0 | H29: =SUM(H28:H28) -> 0 | I29: =SUM(I28:I28) -> 0
B30: ยุทธศาสตร์ที่ 5 การพัฒนาสังคมและยกระดับคุณภาพชีวิต
B32: งบประมาณรวมยุทธศาสตร์ที่ 5 ( 0 โครงการ) | D32: =SUM(D31:D31) -> 0 | E32: =SUM(E31:E31) -> 0 | F32: =SUM(F31:F31) -> 0 | G32: =SUM(G31:G31) -> 0 | H32: =SUM(H31:H31) -> 0 | I32: =SUM(I31:I31) -> 0
A33: ยุทธศาสตร์ที่ 4 การสร้างความเชื่อมโยงเศรษฐกิจชุมชนและอุตสาหกรรมในพื้นที่
A34: 6 | B34: =#REF! -> #REF! | C34: =#REF! -> #REF! | D34: =#REF! -> #REF! | E34: =#REF! -> #REF! | F34: =#REF! -> #REF! | G34: =#REF! -> #REF! | H34: =#REF! -> #REF! | I34: =#REF! -> #REF! | ... N34: =#REF! -> #REF!
A36: รวม | B36: =COUNT(A34:A35) -> 1 | C36: โครงการ | D36: =SUM(D34:D35) -> #REF! | E36: =SUM(E34:E35) -> #REF! | F36: =SUM(F34:F35) -> #REF! | G36: =SUM(G34:G35) -> #REF! | H36: =SUM(H34:H35) -> #REF! | I36: =SUM(I34:I35) -> #REF!
B38: งบประมาณรวมยุทธศาสตร์ที่ 1 (0 โครงการ) | D38: =SUM(D37:D37) -> 0 | E38: =SUM(E37:E37) -> 0 | F38: =SUM(F37:F37) -> 0 | G38: =SUM(G37:G37) -> 0 | H38: =SUM(H37:H37) -> 0 | I38: =SUM(I37:I37) -> 0
B41: งบประมาณรวมยุทธศาสตร์ที่ 2 (0 โครงการ) | D41: =SUM(D40:D40) -> 0 | E41: =SUM(E40:E40) -> 0 | F41: =SUM(F40:F40) -> 0 | G41: =SUM(G40:G40) -> 0 | H41: =SUM(H40:H40) -> 0 | I41: =SUM(I40:I40) -> 0
A42: ยุทธศาสตร์ที่ 5 การพัฒนาสังคมและยกระดับคุณภาพชีวิต
A43: 1 | B43: ='ยุทธศาสตร์ที่ 5'!#REF! -> #REF! | C43: ='ยุทธศาสตร์ที่ 5'!#REF! -> #REF! | D43: ='ยุทธศาสตร์ที่ 5'!#REF! -> #REF! | E43: ='ยุทธศาสตร์ที่ 5'!#REF! -> #REF! | F43: ='ยุทธศาสตร์ที่ 5'!#REF! -> #REF! | G43: ='ยุทธศาสตร์ที่ 5'!#REF! -> #REF! | H43: ='ยุทธศาสตร์ที่ 5'!#REF! -> #REF! | I43: ='ยุทธศาสตร์ที่ 5'!#REF! -> #REF! | ... N43: ='ยุทธศาสตร์ที่ 5'!#REF! -> #REF!
A44: 18 | B44: ='ยุทธศาสตร์ที่ 5'!#REF! -> #REF! | C44: ='ยุทธศาสตร์ที่ 5'!#REF! -> #REF! | D44: ='ยุทธศาสตร์ที่ 5'!#REF! -> #REF! | E44: ='ยุทธศาสตร์ที่ 5'!#REF! -> #REF! | F44: ='ยุทธศาสตร์ที่ 5'!#REF! -> #REF! | G44: ='ยุทธศาสตร์ที่ 5'!#REF! -> #REF! | H44: ='ยุทธศาสตร์ที่ 5'!#REF! -> #REF! | I44: ='ยุทธศาสตร์ที่ 5'!#REF! -> #REF! | ... N44: ='ยุทธศาสตร์ที่ 5'!#REF! -> #REF!
A46: รวม | B46: =COUNT(A43:A45) -> 2 | C46: โครงการ | D46: =SUM(D43:D45) -> #REF! | E46: =SUM(E43:E45) -> #REF! | F46: =SUM(F43:F45) -> #REF! | G46: =SUM(G43:G45) -> #REF! | H46: =SUM(H43:H45) -> #REF! | I46: =SUM(I43:I45) -> #REF!
B48: งบประมาณรวมยุทธศาสตร์ที่ 6 (0 โครงการ) | D48: =SUM(D47:D47) -> 0 | E48: =SUM(E47:E47) -> 0 | F48: =SUM(F47:F47) -> 0 | G48: =SUM(G47:G47) -> 0 | H48: =SUM(H47:H47) -> 0 | I48: =SUM(I47:I47) -> 0
A49: ยุทธศาสตร์ที่ 6 การพัฒนาระบบการบริหารจัดการ องค์ความรู้ และบุคลากร
A53: รวม | B53: =COUNT(A50:A52) -> 0 | C53: โครงการ | D53: =SUM(D50:D52) -> 0 | E53: =SUM(E50:E52) -> 0 | F53: =SUM(F50:F52) -> 0 | G53: =SUM(G50:G52) -> 0 | H53: =SUM(H50:H52) -> 0 | I53: =SUM(I50:I52) -> 0

Sheet ยธ
A1: ลำดับที่ | B1: โครงการ | C1: แหล่งงบประมาณ | D1: งบประมาณรวม (ล้านบาท) | E1: ระยะเวลาดำเนินโครงการ | J1: หน่วยงานรับผิดชอบ
E2: 60 | F2: 61 | G2: 62 | H2: 63 | I2: 64 | J2: หลัก | K2: สนับสนุน
C4: =B8+B14+B23+B33+B43+B50 -> 1 | D4: =D8+D14+D23+D33+D43+D50 -> 0 | E4: =E8+E14+E23+E33+E43+E50 -> #REF! | F4: =F8+F14+F23+F33+F43+F50 -> 0 | G4: =G8+G14+G23+G33+G43+G50 -> 0 | H4: =H8+H14+H23+H33+H43+H50 -> 0 | I4: =I8+I14+I23+I33+I43+I50 -> 0
A5: ยุทธศาสตร์ที่ 1 การจัดทำผังเมืองที่เหมาะสมกับศักยภาพพื้นที่
A6: 1 | B6: ='ยุทธศาสตร์ที่ 1'!F9 -> 0 | C6: ='ยุทธศาสตร์ที่ 1'!H9 -> 0 | D6: ='ยุทธศาสตร์ที่ 1'!I9 -> 0 | E6: ='ยุทธศาสตร์ที่ 1'!#REF! -> #REF! | F6: ='ยุทธศาสตร์ที่ 1'!Q9 -> 0 | G6: ='ยุทธศาสตร์ที่ 1'!R9 -> 0 | H6: ='ยุทธศาสตร์ที่ 1'!S9 -> 0 | I6: ='ยุทธศาสตร์ที่ 1'!U9 -> 0 | J6: ='ยุทธศาสตร์ที่ 1'!V9 -> 0 | K6: ='ยุทธศาสตร์ที่ 1'!W9 -> 0 | L6: ='ยุทธศาสตร์ที่ 1'!#REF! -> #REF! | M6: ='ยุทธศาสตร์ที่ 1'!#REF! -> #REF! | N6: ='ยุทธศาสตร์ที่ 1'!G9 -> 0
A8: รวม | B8: =COUNT(A6:A7) -> 1 | C8: โครงการ | D8: =SUM(D6:D7) -> 0 | E8: =SUM(E6:E7) -> #REF! | F8: =SUM(F6:F7) -> 0 | G8: =SUM(G6:G7) -> 0 | H8: =SUM(H6:H7) -> 0 | I8: =SUM(I6:I7) -> 0
A9: ยุทธศาสตร์ที่ 2 การปรับปรุงระบบโครงสร้างพื้นฐานเพื่อรองรับการพัฒนาเศรษฐกิจและสังคม
A14: รวม | B14: =COUNT(A10:A13) -> 0 | C14: โครงการ | D14: =SUM(D10:D13) -> 0 | E14: =SUM(E10:E13) -> 0 | F14: =SUM(F10:F13) -> 0 | G14: =SUM(G10:G13) -> 0 | H14: =SUM(H10:H13) -> 0 | I14: =SUM(I10:I13) -> 0
A15: ยุทธศาสตร์ที่ 3 การยกระดับการจัดการสิ่งแวดล้อมและความปลอดภัยในพื้นที่
A23: รวม | B23: =COUNT(A16:A22) -> 0 | C23: โครงการ | D23: =SUM(D16:D22) -> 0 | E23: =SUM(E16:E22) -> 0 | F23: =SUM(F16:F22) -> 0 | G23: =SUM(G16:G22) -> 0 | H23: =SUM(H16:H22) -> 0 | I23: =SUM(I16:I22) -> 0
B24: ยุทธศาสตร์ที่ 4 การสร้างความเชื่อมโยงเศรษฐกิจชุมชนและอุตสาหกรรมในพื้นที่
B26: งบประมาณรวมยุทธศาสตร์ที่ 4 ( 0 โครงการ) | D26: =SUM(D25:D25) -> 0 | E26: =SUM(E25:E25) -> 0 | F26: =SUM(F25:F25) -> 0 | G26: =SUM(G25:G25) -> 0 | H26: =SUM(H25:H25) -> 0 | I26: =SUM(I25:I25) -> 0
B27: ยุทธศาสตร์ที่ 5 การพัฒนาสังคมและยกระดับคุณภาพชีวิต
B29: งบประมาณรวมยุทธศาสตร์ที่ 5 ( 0 โครงการ) | D29: =SUM(D28:D28) -> 0 | E29: =SUM(E28:E28) -> 0 | F29: =SUM(F28:F28) -> 0 | G29: =SUM(G28:G28) -> 0 | H29: =SUM(H28:H28) -> 0 | I29: =SUM(I28:I28) -> 0
A30: ยุทธศาสตร์ที่ 4 การสร้างความเชื่อมโยงเศรษฐกิจชุมชนและอุตสาหกรรมในพื้นที่
A33: รวม | B33: =COUNT(A31:A32) -> 0 | C33: โครงการ | D33: =SUM(D31:D32) -> 0 | E33: =SUM(E31:E32) -> 0 | F33: =SUM(F31:F32) -> 0 | G33: =SUM(G31:G32) -> 0 | H33: =SUM(H31:H32) -> 0 | I33: =SUM(I31:I32) -> 0
B35: งบประมาณรวมยุทธศาสตร์ที่ 1 (0 โครงการ) | D35: =SUM(D34:D34) -> 0 | E35: =SUM(E34:E34) -> 0 | F35: =SUM(F34:F34) -> 0 | G35: =SUM(G34:G34) -> 0 | H35: =SUM(H34:H34) -> 0 | I35: =SUM(I34:I34) -> 0
B38: งบประมาณรวมยุทธศาสตร์ที่ 2 (0 โครงการ) | D38: =SUM(D37:D37) -> 0 | E38: =SUM(E37:E37) -> 0 | F38: =SUM(F37:F37) -> 0 | G38: =SUM(G37:G37) -> 0 | H38: =SUM(H37:H37) -> 0 | I38: =SUM(I37:I37) -> 0
A39: ยุทธศาสตร์ที่ 5 การพัฒนาสังคมและยกระดับคุณภาพชีวิต
A43: รวม | B43: =COUNT(A40:A42) -> 0 | C43: โครงการ | D43: =SUM(D40:D42) -> 0 | E43: =SUM(E40:E42) -> 0 | F43: =SUM(F40:F42) -> 0 | G43: =SUM(G40:G42) -> 0 | H43: =SUM(H40:H42) -> 0 | I43: =SUM(I40:I42) -> 0
B45: งบประมาณรวมยุทธศาสตร์ที่ 6 (0 โครงการ) | D45: =SUM(D44:D44) -> 0 | E45: =SUM(E44:E44) -> 0 | F45: =SUM(F44:F44) -> 0 | G45: =SUM(G44:G44) -> 0 | H45: =SUM(H44:H44) -> 0 | I45: =SUM(I44:I44) -> 0
A46: ยุทธศาสตร์ที่ 6 การพัฒนาระบบการบริหารจัดการ องค์ความรู้ และบุคลากร
A50: รวม | B50: =COUNT(A47:A49) -> 0 | C50: โครงการ | D50: =SUM(D47:D49) -> 0 | E50: =SUM(E47:E49) -> 0 | F50: =SUM(F47:F49) -> 0 | G50: =SUM(G47:G49) -> 0 | H50: =SUM(H47:H49) -> 0 | I50: =SUM(I47:I49) -> 0

Sheet อปท.
A1: ลำดับที่ | B1: โครงการ | C1: แหล่งงบประมาณ | D1: งบประมาณรวม (ล้านบาท) | E1: ระยะเวลาดำเนินโครงการ | J1: หน่วยงานรับผิดชอบ
E2: 60 | F2: 61 | G2: 62 | H2: 63 | I2: 64 | J2: หลัก | K2: สนับสนุน
C4: =B8+B13+B23+B33+B43+B50 -> 12 | D4: =D8+D13+D23+D33+D43+D50 -> #REF! | E4: =E8+E13+E23+E33+E43+E50 -> #REF! | F4: =F8+F13+F23+F33+F43+F50 -> #REF! | G4: =G8+G13+G23+G33+G43+G50 -> #REF! | H4: =H8+H13+H23+H33+H43+H50 -> #REF! | I4: =I8+I13+I23+I33+I43+I50 -> #REF!
A5: ยุทธศาสตร์ที่ 1 การจัดทำผังเมืองที่เหมาะสมกับศักยภาพพื้นที่
A8: รวม | B8: =COUNT(A6:A7) -> 0 | C8: โครงการ | D8: =SUM(D6:D7) -> 0 | E8: =SUM(E6:E7) -> 0 | F8: =SUM(F6:F7) -> 0 | G8: =SUM(G6:G7) -> 0 | H8: =SUM(H6:H7) -> 0 | I8: =SUM(I6:I7) -> 0
A9: ยุทธศาสตร์ที่ 2 การปรับปรุงระบบโครงสร้างพื้นฐานเพื่อรองรับการพัฒนาเศรษฐกิจและสังคม
A10: 4 | B10: =#REF! -> #REF! | C10: =#REF! -> #REF! | D10: =#REF! -> #REF! | E10: =#REF! -> #REF! | F10: =#REF! -> #REF! | G10: =#REF! -> #REF! | H10: =#REF! -> #REF! | I10: =#REF! -> #REF! | ... N10: =#REF! -> #REF!
A11: 5 | B11: =#REF! -> #REF! | C11: =#REF! -> #REF! | D11: =#REF! -> #REF! | E11: =#REF! -> #REF! | F11: =#REF! -> #REF! | G11: =#REF! -> #REF! | H11: =#REF! -> #REF! | I11: =#REF! -> #REF! | ... N11: =#REF! -> #REF!
A13: รวม | B13: =COUNT(A10:A12) -> 2 | C13: โครงการ | D13: =SUM(D10:D12) -> #REF! | E13: =SUM(E10:E12) -> #REF! | F13: =SUM(F10:F12) -> #REF! | G13: =SUM(G10:G12) -> #REF! | H13: =SUM(H10:H12) -> #REF! | I13: =SUM(I10:I12) -> #REF!
A14: ยุทธศาสตร์ที่ 3 การยกระดับการจัดการสิ่งแวดล้อมและความปลอดภัยในพื้นที่
A15: 19 | B15: =#REF! -> #REF! | C15: =#REF! -> #REF! | D15: =#REF! -> #REF! | E15: =#REF! -> #REF! | F15: =#REF! -> #REF! | G15: =#REF! -> #REF! | H15: =#REF! -> #REF! | I15: =#REF! -> #REF! | ... N15: =#REF! -> #REF!
A16: 20 | B16: =#REF! -> #REF! | C16: =#REF! -> #REF! | D16: =#REF! -> #REF! | E16: =#REF! -> #REF! | F16: =#REF! -> #REF! | G16: =#REF! -> #REF! | H16: =#REF! -> #REF! | I16: =#REF! -> #REF! | ... N16: =#REF! -> #REF!
A17: 21 | B17: =#REF! -> #REF! | C17: =#REF! -> #REF! | D17: =#REF! -> #REF! | E17: =#REF! -> #REF! | F17: =#REF! -> #REF! | G17: =#REF! -> #REF! | H17: =#REF! -> #REF! | I17: =#REF! -> #REF! | ... N17: =#REF! -> #REF!
A18: 22 | B18: =#REF! -> #REF! | C18: =#REF! -> #REF! | D18: =#REF! -> #REF! | E18: =#REF! -> #REF! | F18: =#REF! -> #REF! | G18: =#REF! -> #REF! | H18: =#REF! -> #REF! | I18: =#REF! -> #REF! | ... N18: =#REF! -> #REF!
A19: 23 | B19: =#REF! -> #REF! | C19: =#REF! -> #REF! | D19: =#REF! -> #REF! | E19: =#REF! -> #REF! | F19: =#REF! -> #REF! | G19: =#REF! -> #REF! | H19: =#REF! -> #REF! | I19: =#REF! -> #REF! | ... N19: =#REF! -> #REF!
A20: 24 | B20: =#REF! -> #REF! | C20: =#REF! -> #REF! | D20: =#REF! -> #REF! | E20: =#REF! -> #REF! | F20: =#REF! -> #REF! | G20: =#REF! -> #REF! | H20: =#REF! -> #REF! | I20: =#REF! -> #REF! | ... N20: =#REF! -> #REF!
A21: 26 | B21: =#REF! -> #REF! | C21: =#REF! -> #REF! | D21: =#REF! -> #REF! | E21: =#REF! -> #REF! | F21: =#REF! -> #REF! | G21: =#REF! -> #REF! | H21: =#REF! -> #REF! | I21: =#REF! -> #REF! | ... N21: =#REF! -> #REF!
A23: รวม | B23: =COUNT(A15:A22) -> 7 | C23: โครงการ | D23: =SUM(D15:D22) -> #REF! | E23: =SUM(E15:E22) -> #REF! | F23: =SUM(F15:F22) -> #REF! | G23: =SUM(G15:G22) -> #REF! | H23: =SUM(H15:H22) -> #REF! | I23: =SUM(I15:I22) -> #REF!
B24: ยุทธศาสตร์ที่ 4 การสร้างความเชื่อมโยงเศรษฐกิจชุมชนและอุตสาหกรรมในพื้นที่
B26: งบประมาณรวมยุทธศาสตร์ที่ 4 ( 0 โครงการ) | D26: =SUM(D25:D25) -> 0 | E26: =SUM(E25:E25) -> 0 | F26: =SUM(F25:F25) -> 0 | G26: =SUM(G25:G25) -> 0 | H26: =SUM(H25:H25) -> 0 | I26: =SUM(I25:I25) -> 0
B27: ยุทธศาสตร์ที่ 5 การพัฒนาสังคมและยกระดับคุณภาพชีวิต
B29: งบประมาณรวมยุทธศาสตร์ที่ 5 ( 0 โครงการ) | D29: =SUM(D28:D28) -> 0 | E29: =SUM(E28:E28) -> 0 | F29: =SUM(F28:F28) -> 0 | G29: =SUM(G28:G28) -> 0 | H29: =SUM(H28:H28) -> 0 | I29: =SUM(I28:I28) -> 0
A30: ยุทธศาสตร์ที่ 4 การสร้างความเชื่อมโยงเศรษฐกิจชุมชนและอุตสาหกรรมในพื้นที่
A31: 6 | B31: =#REF! -> #REF! | C31: =#REF! -> #REF! | D31: =#REF! -> #REF! | E31: =#REF! -> #REF! | F31: =#REF! -> #REF! | G31: =#REF! -> #REF! | H31: =#REF! -> #REF! | I31: =#REF! -> #REF! | ... N31: =#REF! -> #REF!
A33: รวม | B33: =COUNT(A31:A32) -> 1 | C33: โครงการ | D33: =SUM(D31:D32) -> #REF! | E33: =SUM(E31:E32) -> #REF! | F33: =SUM(F31:F32) -> #REF! | G33: =SUM(G31:G32) -> #REF! | H33: =SUM(H31:H32) -> #REF! | I33: =SUM(I31:I32) -> #REF!
B35: งบประมาณรวมยุทธศาสตร์ที่ 1 (0 โครงการ) | D35: =SUM(D34:D34) -> 0 | E35: =SUM(E34:E34) -> 0 | F35: =SUM(F34:F34) -> 0 | G35: =SUM(G34:G34) -> 0 | H35: =SUM(H34:H34) -> 0 | I35: =SUM(I34:I34) -> 0
B38: งบประมาณรวมยุทธศาสตร์ที่ 2 (0 โครงการ) | D38: =SUM(D37:D37) -> 0 | E38: =SUM(E37:E37) -> 0 | F38: =SUM(F37:F37) -> 0 | G38: =SUM(G37:G37) -> 0 | H38: =SUM(H37:H37) -> 0 | I38: =SUM(I37:I37) -> 0
A39: ยุทธศาสตร์ที่ 5 การพัฒนาสังคมและยกระดับคุณภาพชีวิต
A40: 1 | B40: ='ยุทธศาสตร์ที่ 5'!#REF! -> #REF! | C40: ='ยุทธศาสตร์ที่ 5'!#REF! -> #REF! | D40: ='ยุทธศาสตร์ที่ 5'!#REF! -> #REF! | E40: ='ยุทธศาสตร์ที่ 5'!#REF! -> #REF! | F40: ='ยุทธศาสตร์ที่ 5'!#REF! -> #REF! | G40: ='ยุทธศาสตร์ที่ 5'!#REF! -> #REF! | H40: ='ยุทธศาสตร์ที่ 5'!#REF! -> #REF! | I40: ='ยุทธศาสตร์ที่ 5'!#REF! -> #REF! | ... N40: ='ยุทธศาสตร์ที่ 5'!#REF! -> #REF!
A41: 18 | B41: ='ยุทธศาสตร์ที่ 5'!#REF! -> #REF! | C41: ='ยุทธศาสตร์ที่ 5'!#REF! -> #REF! | D41: ='ยุทธศาสตร์ที่ 5'!#REF! -> #REF! | E41: ='ยุทธศาสตร์ที่ 5'!#REF! -> #REF! | F41: ='ยุทธศาสตร์ที่ 5'!#REF! -> #REF! | G41: ='ยุทธศาสตร์ที่ 5'!#REF! -> #REF! | H41: ='ยุทธศาสตร์ที่ 5'!#REF! -> #REF! | I41: ='ยุทธศาสตร์ที่ 5'!#REF! -> #REF! | ... N41: ='ยุทธศาสตร์ที่ 5'!#REF! -> #REF!
A43: รวม | B43: =COUNT(A40:A42) -> 2 | C43: โครงการ | D43: =SUM(D40:D42) -> #REF! | E43: =SUM(E40:E42) -> #REF! | F43: =SUM(F40:F42) -> #REF! | G43: =SUM(G40:G42) -> #REF! | H43: =SUM(H40:H42) -> #REF! | I43: =SUM(I40:I42) -> #REF!
B45: งบประมาณรวมยุทธศาสตร์ที่ 6 (0 โครงการ) | D45: =SUM(D44:D44) -> 0 | E45: =SUM(E44:E44) -> 0 | F45: =SUM(F44:F44) -> 0 | G45: =SUM(G44:G44) -> 0 | H45: =SUM(H44:H44) -> 0 | I45: =SUM(I44:I44) -> 0
A46: ยุทธศาสตร์ที่ 6 การพัฒนาระบบการบริหารจัดการ องค์ความรู้ และบุคลากร
A50: รวม | B50: =COUNT(A47:A49) -> 0 | C50: โครงการ | D50: =SUM(D47:D49) -> 0 | E50: =SUM(E47:E49) -> 0 | F50: =SUM(F47:F49) -> 0 | G50: =SUM(G47:G49) -> 0 | H50: =SUM(H47:H49) -> 0 | I50: =SUM(I47:I49) -> 0

Sheet อื่นๆ
A1: ลำดับที่ | B1: โครงการ | C1: แหล่งงบประมาณ | D1: งบประมาณรวม (ล้านบาท) | E1: ระยะเวลาดำเนินโครงการ | J1: หน่วยงานรับผิดชอบ
E2: 60 | F2: 61 | G2: 62 | H2: 63 | I2: 64 | J2: หลัก | K2: สนับสนุน
C4: =B8+B12+B17+B27+B37+B44 -> 3 | D4: =D8+D12+D17+D27+D37+D44 -> #REF! | E4: =E8+E12+E17+E27+E37+E44 -> #REF! | F4: =F8+F12+F17+F27+F37+F44 -> #REF! | G4: =G8+G12+G17+G27+G37+G44 -> #REF! | H4: =H8+H12+H17+H27+H37+H44 -> #REF! | I4: =I8+I12+I17+I27+I37+I44 -> #REF!
A5: ยุทธศาสตร์ที่ 1 การจัดทำผังเมืองที่เหมาะสมกับศักยภาพพื้นที่
A8: รวม | B8: =COUNT(A6:A7) -> 0 | C8: โครงการ | D8: =SUM(D6:D7) -> 0 | E8: =SUM(E6:E7) -> 0 | F8: =SUM(F6:F7) -> 0 | G8: =SUM(G6:G7) -> 0 | H8: =SUM(H6:H7) -> 0 | I8: =SUM(I6:I7) -> 0
A9: ยุทธศาสตร์ที่ 2 การปรับปรุงระบบโครงสร้างพื้นฐานเพื่อรองรับการพัฒนาเศรษฐกิจและสังคม
A10: 1 | B10: =#REF! -> #REF! | C10: =#REF! -> #REF! | D10: =#REF! -> #REF! | E10: =#REF! -> #REF! | F10: =#REF! -> #REF! | G10: =#REF! -> #REF! | H10: =#REF! -> #REF! | I10: =#REF! -> #REF! | ... M10: =#REF! -> #REF!
A12: รวม | B12: =COUNT(A10:A11) -> 1 | C12: โครงการ | D12: =SUM(D10:D11) -> #REF! | E12: =SUM(E10:E11) -> #REF! | F12: =SUM(F10:F11) -> #REF! | G12: =SUM(G10:G11) -> #REF! | H12: =SUM(H10:H11) -> #REF! | I12: =SUM(I10:I11) -> #REF!
A13: ยุทธศาสตร์ที่ 3 การยกระดับการจัดการสิ่งแวดล้อมและความปลอดภัยในพื้นที่
A14: 6 | B14: =#REF! -> #REF! | C14: =#REF! -> #REF! | D14: =#REF! -> #REF! | E14: =#REF! -> #REF! | F14: =#REF! -> #REF! | G14: =#REF! -> #REF! | H14: =#REF! -> #REF! | I14: =#REF! -> #REF! | ... N14: =#REF! -> #REF!
A15: 14 | B15: =#REF! -> #REF! | C15: =#REF! -> #REF! | D15: =#REF! -> #REF! | E15: =#REF! -> #REF! | F15: =#REF! -> #REF! | G15: =#REF! -> #REF! | H15: =#REF! -> #REF! | I15: =#REF! -> #REF! | ... N15: =#REF! -> #REF!
A17: รวม | B17: =COUNT(A14:A16) -> 2 | C17: โครงการ | D17: =SUM(D14:D16) -> #REF! | E17: =SUM(E14:E16) -> #REF! | F17: =SUM(F14:F16) -> #REF! | G17: =SUM(G14:G16) -> #REF! | H17: =SUM(H14:H16) -> #REF! | I17: =SUM(I14:I16) -> #REF!
B18: ยุทธศาสตร์ที่ 4 การสร้างความเชื่อมโยงเศรษฐกิจชุมชนและอุตสาหกรรมในพื้นที่
B20: งบประมาณรวมยุทธศาสตร์ที่ 4 ( 0 โครงการ) | D20: =SUM(D19:D19) -> 0 | E20: =SUM(E19:E19) -> 0 | F20: =SUM(F19:F19) -> 0 | G20: =SUM(G19:G19) -> 0 | H20: =SUM(H19:H19) -> 0 | I20: =SUM(I19:I19) -> 0
B21: ยุทธศาสตร์ที่ 5 การพัฒนาสังคมและยกระดับคุณภาพชีวิต
B23: งบประมาณรวมยุทธศาสตร์ที่ 5 ( 0 โครงการ) | D23: =SUM(D22:D22) -> 0 | E23: =SUM(E22:E22) -> 0 | F23: =SUM(F22:F22) -> 0 | G23: =SUM(G22:G22) -> 0 | H23: =SUM(H22:H22) -> 0 | I23: =SUM(I22:I22) -> 0
A24: ยุทธศาสตร์ที่ 4 การสร้างความเชื่อมโยงเศรษฐกิจชุมชนและอุตสาหกรรมในพื้นที่
A27: รวม | B27: =COUNT(A25:A26) -> 0 | C27: โครงการ | D27: =SUM(D25:D26) -> 0 | E27: =SUM(E25:E26) -> 0 | F27: =SUM(F25:F26) -> 0 | G27: =SUM(G25:G26) -> 0 | H27: =SUM(H25:H26) -> 0 | I27: =SUM(I25:I26) -> 0
B29: งบประมาณรวมยุทธศาสตร์ที่ 1 (0 โครงการ) | D29: =SUM(D28:D28) -> 0 | E29: =SUM(E28:E28) -> 0 | F29: =SUM(F28:F28) -> 0 | G29: =SUM(G28:G28) -> 0 | H29: =SUM(H28:H28) -> 0 | I29: =SUM(I28:I28) -> 0
B32: งบประมาณรวมยุทธศาสตร์ที่ 2 (0 โครงการ) | D32: =SUM(D31:D31) -> 0 | E32: =SUM(E31:E31) -> 0 | F32: =SUM(F31:F31) -> 0 | G32: =SUM(G31:G31) -> 0 | H32: =SUM(H31:H31) -> 0 | I32: =SUM(I31:I31) -> 0
A33: ยุทธศาสตร์ที่ 5 การพัฒนาสังคมและยกระดับคุณภาพชีวิต
A37: รวม | B37: =COUNT(A34:A36) -> 0 | C37: โครงการ | D37: =SUM(D34:D36) -> 0 | E37: =SUM(E34:E36) -> 0 | F37: =SUM(F34:F36) -> 0 | G37: =SUM(G34:G36) -> 0 | H37: =SUM(H34:H36) -> 0 | I37: =SUM(I34:I36) -> 0
B39: งบประมาณรวมยุทธศาสตร์ที่ 6 (0 โครงการ) | D39: =SUM(D38:D38) -> 0 | E39: =SUM(E38:E38) -> 0 | F39: =SUM(F38:F38) -> 0 | G39: =SUM(G38:G38) -> 0 | H39: =SUM(H38:H38) -> 0 | I39: =SUM(I38:I38) -> 0
A40: ยุทธศาสตร์ที่ 6 การพัฒนาระบบการบริหารจัดการ องค์ความรู้ และบุคลากร
A44: รวม | B44: =COUNT(A41:A43) -> 0 | C44: โครงการ | D44: =SUM(D41:D43) -> 0 | E44: =SUM(E41:E43) -> 0 | F44: =SUM(F41:F43) -> 0 | G44: =SUM(G41:G43) -> 0 | H44: =SUM(H41:H43) -> 0 | I44: =SUM(I41:I43) -> 0

Sheet อก
A1: ลำดับที่ | B1: โครงการ | C1: แหล่งงบประมาณ | D1: งบประมาณรวม (ล้านบาท) | E1: ระยะเวลาดำเนินโครงการ | J1: หน่วยงานรับผิดชอบ
E2: 60 | F2: 61 | G2: 62 | H2: 63 | I2: 64 | J2: หลัก | K2: สนับสนุน
C4: =B8+B13+B25+B36+B47+B53 -> 13 | D4: =D8+D13+D25+D36+D47+D53 -> #REF! | E4: =E8+E13+E25+E36+E47+E53 -> #REF! | F4: =F8+F13+F25+F36+F47+F53 -> #REF! | G4: =G8+G13+G25+G36+G47+G53 -> #REF! | H4: =H8+H13+H25+H36+H47+H53 -> #REF! | I4: =I8+I13+I25+I36+I47+I53 -> #REF!
A5: ยุทธศาสตร์ที่ 1 การจัดทำผังเมืองที่เหมาะสมกับศักยภาพพื้นที่
A6: 2 | B6: ='ยุทธศาสตร์ที่ 1'!#REF! -> #REF! | C6: ='ยุทธศาสตร์ที่ 1'!#REF! -> #REF! | D6: ='ยุทธศาสตร์ที่ 1'!#REF! -> #REF! | E6: ='ยุทธศาสตร์ที่ 1'!#REF! -> #REF! | F6: ='ยุทธศาสตร์ที่ 1'!#REF! -> #REF! | G6: ='ยุทธศาสตร์ที่ 1'!#REF! -> #REF! | H6: ='ยุทธศาสตร์ที่ 1'!#REF! -> #REF! | I6: ='ยุทธศาสตร์ที่ 1'!#REF! -> #REF! | ... N6: ='ยุทธศาสตร์ที่ 1'!#REF! -> #REF!
A8: รวม | B8: =COUNT(A6:A7) -> 1 | C8: โครงการ | D8: =SUM(D6:D7) -> #REF! | E8: =SUM(E6:E7) -> #REF! | F8: =SUM(F6:F7) -> #REF! | G8: =SUM(G6:G7) -> #REF! | H8: =SUM(H6:H7) -> #REF! | I8: =SUM(I6:I7) -> #REF!
A9: ยุทธศาสตร์ที่ 2 การปรับปรุงระบบโครงสร้างพื้นฐานเพื่อรองรับการพัฒนาเศรษฐกิจและสังคม
A13: รวม | B13: =COUNT(A10:A12) -> 0 | C13: โครงการ | D13: =SUM(D10:D12) -> 0 | E13: =SUM(E10:E12) -> 0 | F13: =SUM(F10:F12) -> 0 | G13: =SUM(G10:G12) -> 0 | H13: =SUM(H10:H12) -> 0 | I13: =SUM(I10:I12) -> 0
A14: ยุทธศาสตร์ที่ 3 การยกระดับการจัดการสิ่งแวดล้อมและความปลอดภัยในพื้นที่
A15: 1 | B15: =#REF! -> #REF! | C15: =#REF! -> #REF! | D15: =#REF! -> #REF! | E15: =#REF! -> #REF! | F15: =#REF! -> #REF! | G15: =#REF! -> #REF! | H15: =#REF! -> #REF! | I15: =#REF! -> #REF! | ... N15: =#REF! -> #REF!
A16: 2 | B16: =#REF! -> #REF! | C16: =#REF! -> #REF! | D16: =#REF! -> #REF! | E16: =#REF! -> #REF! | F16: =#REF! -> #REF! | G16: =#REF! -> #REF! | H16: =#REF! -> #REF! | I16: =#REF! -> #REF! | ... N16: =#REF! -> #REF!
A17: 3 | B17: =#REF! -> #REF! | C17: =#REF! -> #REF! | D17: =#REF! -> #REF! | E17: =#REF! -> #REF! | F17: =#REF! -> #REF! | G17: =#REF! -> #REF! | H17: =#REF! -> #REF! | I17: =#REF! -> #REF! | ... N17: =#REF! -> #REF!
A18: 12 | B18: =#REF! -> #REF! | C18: =#REF! -> #REF! | D18: =#REF! -> #REF! | E18: =#REF! -> #REF! | F18: =#REF! -> #REF! | G18: =#REF! -> #REF! | H18: =#REF! -> #REF! | I18: =#REF! -> #REF! | ... N18: =#REF! -> #REF!
A19: 13 | B19: =#REF! -> #REF! | C19: =#REF! -> #REF! | D19: =#REF! -> #REF! | E19: =#REF! -> #REF! | F19: =#REF! -> #REF! | G19: =#REF! -> #REF! | H19: =#REF! -> #REF! | I19: =#REF! -> #REF! | ... N19: =#REF! -> #REF!
A20: 15 | B20: =#REF! -> #REF! | C20: =#REF! -> #REF! | D20: =#REF! -> #REF! | E20: =#REF! -> #REF! | F20: =#REF! -> #REF! | G20: =#REF! -> #REF! | H20: =#REF! -> #REF! | I20: =#REF! -> #REF! | ... N20: =#REF! -> #REF!
A21: 16 | B21: =#REF! -> #REF! | C21: =#REF! -> #REF! | D21: =#REF! -> #REF! | E21: =#REF! -> #REF! | F21: =#REF! -> #REF! | G21: =#REF! -> #REF! | H21: =#REF! -> #REF! | I21: =#REF! -> #REF! | ... N21: =#REF! -> #REF!
A22: 17 | B22: =#REF! -> #REF! | C22: =#REF! -> #REF! | D22: =#REF! -> #REF! | E22: =#REF! -> #REF! | F22: =#REF! -> #REF! | G22: =#REF! -> #REF! | H22: =#REF! -> #REF! | I22: =#REF! -> #REF! | ... N22: =#REF! -> #REF!
A23: 18 | B23: =#REF! -> #REF! | C23: =#REF! -> #REF! | D23: =#REF! -> #REF! | E23: =#REF! -> #REF! | F23: =#REF! -> #REF! | G23: =#REF! -> #REF! | H23: =#REF! -> #REF! | I23: =#REF! -> #REF! | ... N23: =#REF! -> #REF!
A25: รวม | B25: =COUNT(A15:A24) -> 9 | C25: โครงการ | D25: =SUM(D15:D24) -> #REF! | E25: =SUM(E15:E24) -> #REF! | F25: =SUM(F15:F24) -> #REF! | G25: =SUM(G15:G24) -> #REF! | H25: =SUM(H15:H24) -> #REF! | I25: =SUM(I15:I24) -> #REF!
B26: ยุทธศาสตร์ที่ 4 การสร้างความเชื่อมโยงเศรษฐกิจชุมชนและอุตสาหกรรมในพื้นที่
B28: งบประมาณรวมยุทธศาสตร์ที่ 4 ( 0 โครงการ) | D28: =SUM(D27:D27) -> 0 | E28: =SUM(E27:E27) -> 0 | F28: =SUM(F27:F27) -> 0 | G28: =SUM(G27:G27) -> 0 | H28: =SUM(H27:H27) -> 0 | I28: =SUM(I27:I27) -> 0
B29: ยุทธศาสตร์ที่ 5 การพัฒนาสังคมและยกระดับคุณภาพชีวิต
B31: งบประมาณรวมยุทธศาสตร์ที่ 5 ( 0 โครงการ) | D31: =SUM(D30:D30) -> 0 | E31: =SUM(E30:E30) -> 0 | F31: =SUM(F30:F30) -> 0 | G31: =SUM(G30:G30) -> 0 | H31: =SUM(H30:H30) -> 0 | I31: =SUM(I30:I30) -> 0
A32: ยุทธศาสตร์ที่ 4 การสร้างความเชื่อมโยงเศรษฐกิจชุมชนและอุตสาหกรรมในพื้นที่
A33: 1 | B33: =#REF! -> #REF! | C33: =#REF! -> #REF! | D33: =#REF! -> #REF! | E33: =#REF! -> #REF! | F33: =#REF! -> #REF! | G33: =#REF! -> #REF! | H33: =#REF! -> #REF! | I33: =#REF! -> #REF! | ... N33: =#REF! -> #REF!
A34: 2 | B34: =#REF! -> #REF! | C34: =#REF! -> #REF! | D34: =#REF! -> #REF! | E34: =#REF! -> #REF! | F34: =#REF! -> #REF! | G34: =#REF! -> #REF! | H34: =#REF! -> #REF! | I34: =#REF! -> #REF! | ... N34: =#REF! -> #REF!
A36: รวม | B36: =COUNT(A33:A35) -> 2 | C36: โครงการ | D36: =SUM(D33:D35) -> #REF! | E36: =SUM(E33:E35) -> #REF! | F36: =SUM(F33:F35) -> #REF! | G36: =SUM(G33:G35) -> #REF! | H36: =SUM(H33:H35) -> #REF! | I36: =SUM(I33:I35) -> #REF!
B38: งบประมาณรวมยุทธศาสตร์ที่ 1 (0 โครงการ) | D38: =SUM(D37:D37) -> 0 | E38: =SUM(E37:E37) -> 0 | F38: =SUM(F37:F37) -> 0 | G38: =SUM(G37:G37) -> 0 | H38: =SUM(H37:H37) -> 0 | I38: =SUM(I37:I37) -> 0
B41: งบประมาณรวมยุทธศาสตร์ที่ 2 (0 โครงการ) | D41: =SUM(D40:D40) -> 0 | E41: =SUM(E40:E40) -> 0 | F41: =SUM(F40:F40) -> 0 | G41: =SUM(G40:G40) -> 0 | H41: =SUM(H40:H40) -> 0 | I41: =SUM(I40:I40) -> 0
A42: ยุทธศาสตร์ที่ 5 การพัฒนาสังคมและยกระดับคุณภาพชีวิต
A47: รวม | B47: =COUNT(A43:A46) -> 0 | C47: โครงการ | D47: =SUM(D43:D46) -> 0 | E47: =SUM(E43:E46) -> 0 | F47: =SUM(F43:F46) -> 0 | G47: =SUM(G43:G46) -> 0 | H47: =SUM(H43:H46) -> 0 | I47: =SUM(I43:I46) -> 0
B49: งบประมาณรวมยุทธศาสตร์ที่ 6 (0 โครงการ) | D49: =SUM(D48:D48) -> 0 | E49: =SUM(E48:E48) -> 0 | F49: =SUM(F48:F48) -> 0 | G49: =SUM(G48:G48) -> 0 | H49: =SUM(H48:H48) -> 0 | I49: =SUM(I48:I48) -> 0
A50: ยุทธศาสตร์ที่ 6 การพัฒนาระบบการบริหารจัดการ องค์ความรู้ และบุคลากร
A51: 1 | B51: ='ยุทธศาสตร์ที่ 6'!#REF! -> #REF! | C51: ='ยุทธศาสตร์ที่ 6'!#REF! -> #REF! | D51: ='ยุทธศาสตร์ที่ 6'!#REF! -> #REF! | E51: ='ยุทธศาสตร์ที่ 6'!#REF! -> #REF! | F51: ='ยุทธศาสตร์ที่ 6'!#REF! -> #REF! | G51: ='ยุทธศาสตร์ที่ 6'!#REF! -> #REF! | H51: ='ยุทธศาสตร์ที่ 6'!#REF! -> #REF! | I51: ='ยุทธศาสตร์ที่ 6'!#REF! -> #REF! | ... O51: ='ยุทธศาสตร์ที่ 6'!#REF! -> #REF!
A53: รวม | B53: =COUNT(A51:A52) -> 1 | C53: โครงการ | D53: =SUM(D51:D52) -> #REF! | E53: =SUM(E51:E52) -> #REF! | F53: =SUM(F51:F52) -> #REF! | G53: =SUM(G51:G52) -> #REF! | H53: =SUM(H51:H52) -> #REF! | I53: =SUM(I51:I52) -> #REF!

Sheet กรอ
A1: ลำดับที่ | B1: โครงการ | C1: แหล่งงบประมาณ | D1: งบประมาณรวม (ล้านบาท) | E1: ระยะเวลาดำเนินโครงการ | J1: หน่วยงานรับผิดชอบ
E2: 60 | F2: 61 | G2: 62 | H2: 63 | I2: 64 | J2: หลัก | K2: สนับสนุน
C4: =B8+B13+B23+B33+B44+B49 -> 9 | D4: =D8+D13+D23+D33+D44+D49 -> #REF! | E4: =E8+E13+E23+E33+E44+E49 -> #REF! | F4: =F8+F13+F23+F33+F44+F49 -> #REF! | G4: =G8+G13+G23+G33+G44+G49 -> #REF! | H4: =H8+H13+H23+H33+H44+H49 -> #REF! | I4: =I8+I13+I23+I33+I44+I49 -> #REF!
A5: ยุทธศาสตร์ที่ 1 การจัดทำผังเมืองที่เหมาะสมกับศักยภาพพื้นที่
A6: 2 | B6: ='ยุทธศาสตร์ที่ 1'!#REF! -> #REF! | C6: ='ยุทธศาสตร์ที่ 1'!#REF! -> #REF! | D6: ='ยุทธศาสตร์ที่ 1'!#REF! -> #REF! | E6: ='ยุทธศาสตร์ที่ 1'!#REF! -> #REF! | F6: ='ยุทธศาสตร์ที่ 1'!#REF! -> #REF! | G6: ='ยุทธศาสตร์ที่ 1'!#REF! -> #REF! | H6: ='ยุทธศาสตร์ที่ 1'!#REF! -> #REF! | I6: ='ยุทธศาสตร์ที่ 1'!#REF! -> #REF! | ... N6: ='ยุทธศาสตร์ที่ 1'!#REF! -> #REF!
A8: รวม | B8: =COUNT(A6:A7) -> 1 | C8: โครงการ | D8: =SUM(D6:D7) -> #REF! | E8: =SUM(E6:E7) -> #REF! | F8: =SUM(F6:F7) -> #REF! | G8: =SUM(G6:G7) -> #REF! | H8: =SUM(H6:H7) -> #REF! | I8: =SUM(I6:I7) -> #REF!
A9: ยุทธศาสตร์ที่ 2 การปรับปรุงระบบโครงสร้างพื้นฐานเพื่อรองรับการพัฒนาเศรษฐกิจและสังคม
A13: รวม | B13: =COUNT(A10:A12) -> 0 | C13: โครงการ | D13: =SUM(D10:D12) -> 0 | E13: =SUM(E10:E12) -> 0 | F13: =SUM(F10:F12) -> 0 | G13: =SUM(G10:G12) -> 0 | H13: =SUM(H10:H12) -> 0 | I13: =SUM(I10:I12) -> 0
A14: ยุทธศาสตร์ที่ 3 การยกระดับการจัดการสิ่งแวดล้อมและความปลอดภัยในพื้นที่
A15: 2 | B15: =#REF! -> #REF! | C15: =#REF! -> #REF! | D15: =#REF! -> #REF! | E15: =#REF! -> #REF! | F15: =#REF! -> #REF! | G15: =#REF! -> #REF! | H15: =#REF! -> #REF! | I15: =#REF! -> #REF! | ... N15: =#REF! -> #REF!
A16: 3 | B16: =#REF! -> #REF! | C16: =#REF! -> #REF! | D16: =#REF! -> #REF! | E16: =#REF! -> #REF! | F16: =#REF! -> #REF! | G16: =#REF! -> #REF! | H16: =#REF! -> #REF! | I16: =#REF! -> #REF! | ... N16: =#REF! -> #REF!
A17: 13 | B17: =#REF! -> #REF! | C17: =#REF! -> #REF! | D17: =#REF! -> #REF! | E17: =#REF! -> #REF! | F17: =#REF! -> #REF! | G17: =#REF! -> #REF! | H17: =#REF! -> #REF! | I17: =#REF! -> #REF! | ... N17: =#REF! -> #REF!
A18: 15 | B18: =#REF! -> #REF! | C18: =#REF! -> #REF! | D18: =#REF! -> #REF! | E18: =#REF! -> #REF! | F18: =#REF! -> #REF! | G18: =#REF! -> #REF! | H18: =#REF! -> #REF! | I18: =#REF! -> #REF! | ... N18: =#REF! -> #REF!
A19: 16 | B19: =#REF! -> #REF! | C19: =#REF! -> #REF! | D19: =#REF! -> #REF! | E19: =#REF! -> #REF! | F19: =#REF! -> #REF! | G19: =#REF! -> #REF! | H19: =#REF! -> #REF! | I19: =#REF! -> #REF! | ... N19: =#REF! -> #REF!
A20: 17 | B20: =#REF! -> #REF! | C20: =#REF! -> #REF! | D20: =#REF! -> #REF! | E20: =#REF! -> #REF! | F20: =#REF! -> #REF! | G20: =#REF! -> #REF! | H20: =#REF! -> #REF! | I20: =#REF! -> #REF! | ... N20: =#REF! -> #REF!
A21: 18 | B21: =#REF! -> #REF! | C21: =#REF! -> #REF! | D21: =#REF! -> #REF! | E21: =#REF! -> #REF! | F21: =#REF! -> #REF! | G21: =#REF! -> #REF! | H21: =#REF! -> #REF! | I21: =#REF! -> #REF! | ... N21: =#REF! -> #REF!
A23: รวม | B23: =COUNT(A15:A22) -> 7 | C23: โครงการ | D23: =SUM(D15:D22) -> #REF! | E23: =SUM(E15:E22) -> #REF! | F23: =SUM(F15:F22) -> #REF! | G23: =SUM(G15:G22) -> #REF! | H23: =SUM(H15:H22) -> #REF! | I23: =SUM(I15:I22) -> #REF!
B24: ยุทธศาสตร์ที่ 4 การสร้างความเชื่อมโยงเศรษฐกิจชุมชนและอุตสาหกรรมในพื้นที่
B26: งบประมาณรวมยุทธศาสตร์ที่ 4 ( 0 โครงการ) | D26: =SUM(D25:D25) -> 0 | E26: =SUM(E25:E25) -> 0 | F26: =SUM(F25:F25) -> 0 | G26: =SUM(G25:G25) -> 0 | H26: =SUM(H25:H25) -> 0 | I26: =SUM(I25:I25) -> 0
B27: ยุทธศาสตร์ที่ 5 การพัฒนาสังคมและยกระดับคุณภาพชีวิต
B29: งบประมาณรวมยุทธศาสตร์ที่ 5 ( 0 โครงการ) | D29: =SUM(D28:D28) -> 0 | E29: =SUM(E28:E28) -> 0 | F29: =SUM(F28:F28) -> 0 | G29: =SUM(G28:G28) -> 0 | H29: =SUM(H28:H28) -> 0 | I29: =SUM(I28:I28) -> 0
A30: ยุทธศาสตร์ที่ 4 การสร้างความเชื่อมโยงเศรษฐกิจชุมชนและอุตสาหกรรมในพื้นที่
A31: 1 | B31: =#REF! -> #REF! | C31: =#REF! -> #REF! | D31: =#REF! -> #REF! | E31: =#REF! -> #REF! | F31: =#REF! -> #REF! | G31: =#REF! -> #REF! | H31: =#REF! -> #REF! | I31: =#REF! -> #REF! | ... N31: =#REF! -> #REF!
A33: รวม | B33: =COUNT(A31:A32) -> 1 | C33: โครงการ | D33: =SUM(D31:D32) -> #REF! | E33: =SUM(E31:E32) -> #REF! | F33: =SUM(F31:F32) -> #REF! | G33: =SUM(G31:G32) -> #REF! | H33: =SUM(H31:H32) -> #REF! | I33: =SUM(I31:I32) -> #REF!
B35: งบประมาณรวมยุทธศาสตร์ที่ 1 (0 โครงการ) | D35: =SUM(D34:D34) -> 0 | E35: =SUM(E34:E34) -> 0 | F35: =SUM(F34:F34) -> 0 | G35: =SUM(G34:G34) -> 0 | H35: =SUM(H34:H34) -> 0 | I35: =SUM(I34:I34) -> 0
B38: งบประมาณรวมยุทธศาสตร์ที่ 2 (0 โครงการ) | D38: =SUM(D37:D37) -> 0 | E38: =SUM(E37:E37) -> 0 | F38: =SUM(F37:F37) -> 0 | G38: =SUM(G37:G37) -> 0 | H38: =SUM(H37:H37) -> 0 | I38: =SUM(I37:I37) -> 0
A39: ยุทธศาสตร์ที่ 5 การพัฒนาสังคมและยกระดับคุณภาพชีวิต
A44: รวม | B44: =COUNT(A40:A43) -> 0 | C44: โครงการ | D44: =SUM(D40:D43) -> 0 | E44: =SUM(E40:E43) -> 0 | F44: =SUM(F40:F43) -> 0 | G44: =SUM(G40:G43) -> 0 | H44: =SUM(H40:H43) -> 0 | I44: =SUM(I40:I43) -> 0
B46: งบประมาณรวมยุทธศาสตร์ที่ 6 (0 โครงการ) | D46: =SUM(D45:D45) -> 0 | E46: =SUM(E45:E45) -> 0 | F46: =SUM(F45:F45) -> 0 | G46: =SUM(G45:G45) -> 0 | H46: =SUM(H45:H45) -> 0 | I46: =SUM(I45:I45) -> 0
A47: ยุทธศาสตร์ที่ 6 การพัฒนาระบบการบริหารจัดการ องค์ความรู้ และบุคลากร
A49: รวม | B49: =COUNT(A48:A48) -> 0 | C49: โครงการ | D49: =SUM(D48:D48) -> 0 | E49: =SUM(E48:E48) -> 0 | F49: =SUM(F48:F48) -> 0 | G49: =SUM(G48:G48) -> 0 | H49: =SUM(H48:H48) -> 0 | I49: =SUM(I48:I48) -> 0

Sheet กสอ
A1: ลำดับที่ | B1: โครงการ | C1: แหล่งงบประมาณ | D1: งบประมาณรวม (ล้านบาท) | E1: ระยะเวลาดำเนินโครงการ | J1: หน่วยงานรับผิดชอบ
E2: 60 | F2: 61 | G2: 62 | H2: 63 | I2: 64 | J2: หลัก | K2: สนับสนุน
C4: =B8+B13+B25+B35+B46+B52 -> 1 | D4: =D8+D13+D25+D35+D46+D52 -> #REF! | E4: =E8+E13+E25+E35+E46+E52 -> #REF! | F4: =F8+F13+F25+F35+F46+F52 -> #REF! | G4: =G8+G13+G25+G35+G46+G52 -> #REF! | H4: =H8+H13+H25+H35+H46+H52 -> #REF! | I4: =I8+I13+I25+I35+I46+I52 -> #REF!
A5: ยุทธศาสตร์ที่ 1 การจัดทำผังเมืองที่เหมาะสมกับศักยภาพพื้นที่
A8: รวม | B8: =COUNT(A6:A7) -> 0 | C8: โครงการ | D8: =SUM(D6:D7) -> 0 | E8: =SUM(E6:E7) -> 0 | F8: =SUM(F6:F7) -> 0 | G8: =SUM(G6:G7) -> 0 | H8: =SUM(H6:H7) -> 0 | I8: =SUM(I6:I7) -> 0
A9: ยุทธศาสตร์ที่ 2 การปรับปรุงระบบโครงสร้างพื้นฐานเพื่อรองรับการพัฒนาเศรษฐกิจและสังคม
A13: รวม | B13: =COUNT(A10:A12) -> 0 | C13: โครงการ | D13: =SUM(D10:D12) -> 0 | E13: =SUM(E10:E12) -> 0 | F13: =SUM(F10:F12) -> 0 | G13: =SUM(G10:G12) -> 0 | H13: =SUM(H10:H12) -> 0 | I13: =SUM(I10:I12) -> 0
A14: ยุทธศาสตร์ที่ 3 การยกระดับการจัดการสิ่งแวดล้อมและความปลอดภัยในพื้นที่
A25: รวม | B25: =COUNT(A15:A24) -> 0 | C25: โครงการ | D25: =SUM(D15:D24) -> 0 | E25: =SUM(E15:E24) -> 0 | F25: =SUM(F15:F24) -> 0 | G25: =SUM(G15:G24) -> 0 | H25: =SUM(H15:H24) -> 0 | I25: =SUM(I15:I24) -> 0
B26: ยุทธศาสตร์ที่ 4 การสร้างความเชื่อมโยงเศรษฐกิจชุมชนและอุตสาหกรรมในพื้นที่
B28: งบประมาณรวมยุทธศาสตร์ที่ 4 ( 0 โครงการ) | D28: =SUM(D27:D27) -> 0 | E28: =SUM(E27:E27) -> 0 | F28: =SUM(F27:F27) -> 0 | G28: =SUM(G27:G27) -> 0 | H28: =SUM(H27:H27) -> 0 | I28: =SUM(I27:I27) -> 0
B29: ยุทธศาสตร์ที่ 5 การพัฒนาสังคมและยกระดับคุณภาพชีวิต
B31: งบประมาณรวมยุทธศาสตร์ที่ 5 ( 0 โครงการ) | D31: =SUM(D30:D30) -> 0 | E31: =SUM(E30:E30) -> 0 | F31: =SUM(F30:F30) -> 0 | G31: =SUM(G30:G30) -> 0 | H31: =SUM(H30:H30) -> 0 | I31: =SUM(I30:I30) -> 0
A32: ยุทธศาสตร์ที่ 4 การสร้างความเชื่อมโยงเศรษฐกิจชุมชนและอุตสาหกรรมในพื้นที่
A33: 2 | B33: =#REF! -> #REF! | C33: =#REF! -> #REF! | D33: =#REF! -> #REF! | E33: =#REF! -> #REF! | F33: =#REF! -> #REF! | G33: =#REF! -> #REF! | H33: =#REF! -> #REF! | I33: =#REF! -> #REF! | ... N33: =#REF! -> #REF!
A35: รวม | B35: =COUNT(A33:A34) -> 1 | C35: โครงการ | D35: =SUM(D33:D34) -> #REF! | E35: =SUM(E33:E34) -> #REF! | F35: =SUM(F33:F34) -> #REF! | G35: =SUM(G33:G34) -> #REF! | H35: =SUM(H33:H34) -> #REF! | I35: =SUM(I33:I34) -> #REF!
B37: งบประมาณรวมยุทธศาสตร์ที่ 1 (0 โครงการ) | D37: =SUM(D36:D36) -> 0 | E37: =SUM(E36:E36) -> 0 | F37: =SUM(F36:F36) -> 0 | G37: =SUM(G36:G36) -> 0 | H37: =SUM(H36:H36) -> 0 | I37: =SUM(I36:I36) -> 0
B40: งบประมาณรวมยุทธศาสตร์ที่ 2 (0 โครงการ) | D40: =SUM(D39:D39) -> 0 | E40: =SUM(E39:E39) -> 0 | F40: =SUM(F39:F39) -> 0 | G40: =SUM(G39:G39) -> 0 | H40: =SUM(H39:H39) -> 0 | I40: =SUM(I39:I39) -> 0
A41: ยุทธศาสตร์ที่ 5 การพัฒนาสังคมและยกระดับคุณภาพชีวิต
A46: รวม | B46: =COUNT(A42:A45) -> 0 | C46: โครงการ | D46: =SUM(D42:D45) -> 0 | E46: =SUM(E42:E45) -> 0 | F46: =SUM(F42:F45) -> 0 | G46: =SUM(G42:G45) -> 0 | H46: =SUM(H42:H45) -> 0 | I46: =SUM(I42:I45) -> 0
B48: งบประมาณรวมยุทธศาสตร์ที่ 6 (0 โครงการ) | D48: =SUM(D47:D47) -> 0 | E48: =SUM(E47:E47) -> 0 | F48: =SUM(F47:F47) -> 0 | G48: =SUM(G47:G47) -> 0 | H48: =SUM(H47:H47) -> 0 | I48: =SUM(I47:I47) -> 0
A49: ยุทธศาสตร์ที่ 6 การพัฒนาระบบการบริหารจัดการ องค์ความรู้ และบุคลากร
A52: รวม | B52: =COUNT(A50:A51) -> 0 | C52: โครงการ | D52: =SUM(D50:D51) -> 0 | E52: =SUM(E50:E51) -> 0 | F52: =SUM(F50:F51) -> 0 | G52: =SUM(G50:G51) -> 0 | H52: =SUM(H50:H51) -> 0 | I52: =SUM(I50:I51) -> 0

Sheet สป.
A1: ลำดับที่ | B1: โครงการ | C1: แหล่งงบประมาณ | D1: งบประมาณรวม (ล้านบาท) | E1: ระยะเวลาดำเนินโครงการ | J1: หน่วยงานรับผิดชอบ
E2: 60 | F2: 61 | G2: 62 | H2: 63 | I2: 64 | J2: หลัก | K2: สนับสนุน
C4: ง | D4: =D8+D13+D18+D29+D40+D46 -> #REF! | E4: =E8+E13+E18+E29+E40+E46 -> #REF! | F4: =F8+F13+F18+F29+F40+F46 -> #REF! | G4: =G8+G13+G18+G29+G40+G46 -> #REF! | H4: =H8+H13+H18+H29+H40+H46 -> #REF! | I4: =I8+I13+I18+I29+I40+I46 -> #REF!
A5: ยุทธศาสตร์ที่ 1 การจัดทำผังเมืองที่เหมาะสมกับศักยภาพพื้นที่
A8: รวม | B8: =COUNT(A6:A7) -> 0 | C8: โครงการ | D8: =SUM(D6:D7) -> 0 | E8: =SUM(E6:E7) -> 0 | F8: =SUM(F6:F7) -> 0 | G8: =SUM(G6:G7) -> 0 | H8: =SUM(H6:H7) -> 0 | I8: =SUM(I6:I7) -> 0
A9: ยุทธศาสตร์ที่ 2 การปรับปรุงระบบโครงสร้างพื้นฐานเพื่อรองรับการพัฒนาเศรษฐกิจและสังคม
A13: รวม | B13: =COUNT(A10:A12) -> 0 | C13: โครงการ | D13: =SUM(D10:D12) -> 0 | E13: =SUM(E10:E12) -> 0 | F13: =SUM(F10:F12) -> 0 | G13: =SUM(G10:G12) -> 0 | H13: =SUM(H10:H12) -> 0 | I13: =SUM(I10:I12) -> 0
A14: ยุทธศาสตร์ที่ 3 การยกระดับการจัดการสิ่งแวดล้อมและความปลอดภัยในพื้นที่
A15: 1 | B15: =#REF! -> #REF! | C15: =#REF! -> #REF! | D15: =#REF! -> #REF! | E15: =#REF! -> #REF! | F15: =#REF! -> #REF! | G15: =#REF! -> #REF! | H15: =#REF! -> #REF! | I15: =#REF! -> #REF! | ... N15: =#REF! -> #REF!
A16: 12 | B16: =#REF! -> #REF! | C16: =#REF! -> #REF! | D16: =#REF! -> #REF! | E16: =#REF! -> #REF! | F16: =#REF! -> #REF! | G16: =#REF! -> #REF! | H16: =#REF! -> #REF! | I16: =#REF! -> #REF! | ... N16: =#REF! -> #REF!
A18: รวม | B18: =COUNT(A15:A17) -> 2 | C18: โครงการ | D18: =SUM(D15:D17) -> #REF! | E18: =SUM(E15:E17) -> #REF! | F18: =SUM(F15:F17) -> #REF! | G18: =SUM(G15:G17) -> #REF! | H18: =SUM(H15:H17) -> #REF! | I18: =SUM(I15:I17) -> #REF!
B19: ยุทธศาสตร์ที่ 4 การสร้างความเชื่อมโยงเศรษฐกิจชุมชนและอุตสาหกรรมในพื้นที่
B21: งบประมาณรวมยุทธศาสตร์ที่ 4 ( 0 โครงการ) | D21: =SUM(D20:D20) -> 0 | E21: =SUM(E20:E20) -> 0 | F21: =SUM(F20:F20) -> 0 | G21: =SUM(G20:G20) -> 0 | H21: =SUM(H20:H20) -> 0 | I21: =SUM(I20:I20) -> 0
B22: ยุทธศาสตร์ที่ 5 การพัฒนาสังคมและยกระดับคุณภาพชีวิต
B24: งบประมาณรวมยุทธศาสตร์ที่ 5 ( 0 โครงการ) | D24: =SUM(D23:D23) -> 0 | E24: =SUM(E23:E23) -> 0 | F24: =SUM(F23:F23) -> 0 | G24: =SUM(G23:G23) -> 0 | H24: =SUM(H23:H23) -> 0 | I24: =SUM(I23:I23) -> 0
A25: ยุทธศาสตร์ที่ 4 การสร้างความเชื่อมโยงเศรษฐกิจชุมชนและอุตสาหกรรมในพื้นที่
A29: รวม | B29: =COUNT(A26:A28) -> 0 | C29: โครงการ | D29: =SUM(D26:D28) -> 0 | E29: =SUM(E26:E28) -> 0 | F29: =SUM(F26:F28) -> 0 | G29: =SUM(G26:G28) -> 0 | H29: =SUM(H26:H28) -> 0 | I29: =SUM(I26:I28) -> 0
B31: งบประมาณรวมยุทธศาสตร์ที่ 1 (0 โครงการ) | D31: =SUM(D30:D30) -> 0 | E31: =SUM(E30:E30) -> 0 | F31: =SUM(F30:F30) -> 0 | G31: =SUM(G30:G30) -> 0 | H31: =SUM(H30:H30) -> 0 | I31: =SUM(I30:I30) -> 0
B34: งบประมาณรวมยุทธศาสตร์ที่ 2 (0 โครงการ) | D34: =SUM(D33:D33) -> 0 | E34: =SUM(E33:E33) -> 0 | F34: =SUM(F33:F33) -> 0 | G34: =SUM(G33:G33) -> 0 | H34: =SUM(H33:H33) -> 0 | I34: =SUM(I33:I33) -> 0
A35: ยุทธศาสตร์ที่ 5 การพัฒนาสังคมและยกระดับคุณภาพชีวิต
A40: รวม | B40: =COUNT(A36:A39) -> 0 | C40: โครงการ | D40: =SUM(D36:D39) -> 0 | E40: =SUM(E36:E39) -> 0 | F40: =SUM(F36:F39) -> 0 | G40: =SUM(G36:G39) -> 0 | H40: =SUM(H36:H39) -> 0 | I40: =SUM(I36:I39) -> 0
B42: งบประมาณรวมยุทธศาสตร์ที่ 6 (0 โครงการ) | D42: =SUM(D41:D41) -> 0 | E42: =SUM(E41:E41) -> 0 | F42: =SUM(F41:F41) -> 0 | G42: =SUM(G41:G41) -> 0 | H42: =SUM(H41:H41) -> 0 | I42: =SUM(I41:I41) -> 0
A43: ยุทธศาสตร์ที่ 6 การพัฒนาระบบการบริหารจัดการ องค์ความรู้ และบุคลากร
A44: 1 | B44: ='ยุทธศาสตร์ที่ 6'!#REF! -> #REF! | C44: ='ยุทธศาสตร์ที่ 6'!#REF! -> #REF! | D44: ='ยุทธศาสตร์ที่ 6'!#REF! -> #REF! | E44: ='ยุทธศาสตร์ที่ 6'!#REF! -> #REF! | F44: ='ยุทธศาสตร์ที่ 6'!#REF! -> #REF! | G44: ='ยุทธศาสตร์ที่ 6'!#REF! -> #REF! | H44: ='ยุทธศาสตร์ที่ 6'!#REF! -> #REF! | I44: ='ยุทธศาสตร์ที่ 6'!#REF! -> #REF! | ... O44: ='ยุทธศาสตร์ที่ 6'!#REF! -> #REF!
A46: รวม | B46: =COUNT(A44:A45) -> 1 | C46: โครงการ | D46: =SUM(D44:D45) -> #REF! | E46: =SUM(E44:E45) -> #REF! | F46: =SUM(F44:F45) -> #REF! | G46: =SUM(G44:G45) -> #REF! | H46: =SUM(H44:H45) -> #REF! | I46: =SUM(I44:I45) -> #REF!

Sheet ทส
A1: ลำดับที่ | B1: โครงการ | C1: แหล่งงบประมาณ | D1: งบประมาณรวม (ล้านบาท) | E1: ระยะเวลาดำเนินโครงการ | J1: หน่วยงานรับผิดชอบ
E2: 60 | F2: 61 | G2: 62 | H2: 63 | I2: 64 | J2: หลัก | K2: สนับสนุน
C4: =B10+B16+B20+B29+B39+B46 -> 1 | D4: =D10+D16+D20+D29+D39+D46 -> #REF! | E4: =E10+E16+E20+E29+E39+E46 -> #REF! | F4: =F10+F16+F20+F29+F39+F46 -> #REF! | G4: =G10+G16+G20+G29+G39+G46 -> #REF! | H4: =H10+H16+H20+H29+H39+H46 -> #REF! | I4: =I10+I16+I20+I29+I39+I46 -> #REF!
A5: ยุทธศาสตร์ที่ 1 การจัดทำผังเมืองที่เหมาะสมกับศักยภาพพื้นที่
A10: รวม | B10: =COUNT(A6:A9) -> 0 | C10: โครงการ | D10: =SUM(D6:D9) -> 0 | E10: =SUM(E6:E9) -> 0 | F10: =SUM(F6:F9) -> 0 | G10: =SUM(G6:G9) -> 0 | H10: =SUM(H6:H9) -> 0 | I10: =SUM(I6:I9) -> 0
A11: ยุทธศาสตร์ที่ 2 การปรับปรุงระบบโครงสร้างพื้นฐานเพื่อรองรับการพัฒนาเศรษฐกิจและสังคม
A16: รวม | B16: =COUNT(A12:A15) -> 0 | C16: โครงการ | D16: =SUM(D12:D15) -> 0 | E16: =SUM(E12:E15) -> 0 | F16: =SUM(F12:F15) -> 0 | G16: =SUM(G12:G15) -> 0 | H16: =SUM(H12:H15) -> 0 | I16: =SUM(I12:I15) -> 0
A17: ยุทธศาสตร์ที่ 3 การยกระดับการจัดการสิ่งแวดล้อมและความปลอดภัยในพื้นที่
A18: 25 | B18: =#REF! -> #REF! | C18: =#REF! -> #REF! | D18: =#REF! -> #REF! | E18: =#REF! -> #REF! | F18: =#REF! -> #REF! | G18: =#REF! -> #REF! | H18: =#REF! -> #REF! | I18: =#REF! -> #REF! | ... N18: =#REF! -> #REF!
A20: รวม | B20: =COUNT(A18:A19) -> 1 | C20: โครงการ | D20: =SUM(D18:D19) -> #REF! | E20: =SUM(E18:E19) -> #REF! | F20: =SUM(F18:F19) -> #REF! | G20: =SUM(G18:G19) -> #REF! | H20: =SUM(H18:H19) -> #REF! | I20: =SUM(I18:I19) -> #REF!
B21: ยุทธศาสตร์ที่ 4 การสร้างความเชื่อมโยงเศรษฐกิจชุมชนและอุตสาหกรรมในพื้นที่
B23: งบประมาณรวมยุทธศาสตร์ที่ 4 ( 0 โครงการ) | D23: =SUM(D22:D22) -> 0 | E23: =SUM(E22:E22) -> 0 | F23: =SUM(F22:F22) -> 0 | G23: =SUM(G22:G22) -> 0 | H23: =SUM(H22:H22) -> 0 | I23: =SUM(I22:I22) -> 0
B24: ยุทธศาสตร์ที่ 5 การพัฒนาสังคมและยกระดับคุณภาพชีวิต
B26: งบประมาณรวมยุทธศาสตร์ที่ 5 ( 0 โครงการ) | D26: =SUM(D25:D25) -> 0 | E26: =SUM(E25:E25) -> 0 | F26: =SUM(F25:F25) -> 0 | G26: =SUM(G25:G25) -> 0 | H26: =SUM(H25:H25) -> 0 | I26: =SUM(I25:I25) -> 0
A27: ยุทธศาสตร์ที่ 4 การสร้างความเชื่อมโยงเศรษฐกิจชุมชนและอุตสาหกรรมในพื้นที่
A29: รวม | B29: =COUNT(A28:A28) -> 0 | C29: โครงการ | D29: =SUM(D28:D28) -> 0 | E29: =SUM(E28:E28) -> 0 | F29: =SUM(F28:F28) -> 0 | G29: =SUM(G28:G28) -> 0 | H29: =SUM(H28:H28) -> 0 | I29: =SUM(I28:I28) -> 0
B31: งบประมาณรวมยุทธศาสตร์ที่ 1 (0 โครงการ) | D31: =SUM(D30:D30) -> 0 | E31: =SUM(E30:E30) -> 0 | F31: =SUM(F30:F30) -> 0 | G31: =SUM(G30:G30) -> 0 | H31: =SUM(H30:H30) -> 0 | I31: =SUM(I30:I30) -> 0
B34: งบประมาณรวมยุทธศาสตร์ที่ 2 (0 โครงการ) | D34: =SUM(D33:D33) -> 0 | E34: =SUM(E33:E33) -> 0 | F34: =SUM(F33:F33) -> 0 | G34: =SUM(G33:G33) -> 0 | H34: =SUM(H33:H33) -> 0 | I34: =SUM(I33:I33) -> 0
A35: ยุทธศาสตร์ที่ 5 การพัฒนาสังคมและยกระดับคุณภาพชีวิต
A39: รวม | B39: =COUNT(A36:A38) -> 0 | C39: โครงการ | D39: =SUM(D36:D38) -> 0 | E39: =SUM(E36:E38) -> 0 | F39: =SUM(F36:F38) -> 0 | G39: =SUM(G36:G38) -> 0 | H39: =SUM(H36:H38) -> 0 | I39: =SUM(I36:I38) -> 0
B41: งบประมาณรวมยุทธศาสตร์ที่ 6 (0 โครงการ) | D41: =SUM(D40:D40) -> 0 | E41: =SUM(E40:E40) -> 0 | F41: =SUM(F40:F40) -> 0 | G41: =SUM(G40:G40) -> 0 | H41: =SUM(H40:H40) -> 0 | I41: =SUM(I40:I40) -> 0
A42: ยุทธศาสตร์ที่ 6 การพัฒนาระบบการบริหารจัดการ องค์ความรู้ และบุคลากร
A46: รวม | B46: =COUNT(A43:A45) -> 0 | C46: โครงการ | D46: =SUM(D43:D45) -> 0 | E46: =SUM(E43:E45) -> 0 | F46: =SUM(F43:F45) -> 0 | G46: =SUM(G43:G45) -> 0 | H46: =SUM(H43:H45) -> 0 | I46: =SUM(I43:I45) -> 0

Sheet คค
A1: ลำดับที่ | B1: โครงการ | C1: แหล่งงบประมาณ | D1: งบประมาณรวม (ล้านบาท) | E1: ระยะเวลาดำเนินโครงการ | J1: หน่วยงานรับผิดชอบ
E2: 60 | F2: 61 | G2: 62 | H2: 63 | I2: 64 | J2: หลัก | K2: สนับสนุน
C4: =B7+B11+B17+B28+B38+B45 -> 1 | D4: =D7+D11+D17+D28+D38+D45 -> #REF! | E4: =E7+E11+E17+E28+E38+E45 -> #REF! | F4: =F7+F11+F17+F28+F38+F45 -> #REF! | G4: =G7+G11+G17+G28+G38+G45 -> #REF! | H4: =H7+H11+H17+H28+H38+H45 -> #REF! | I4: =I7+I11+I17+I28+I38+I45 -> #REF!
A5: ยุทธศาสตร์ที่ 1 การจัดทำผังเมืองที่เหมาะสมกับศักยภาพพื้นที่
A7: รวม | B7: =COUNT(A6:A6) -> 0 | C7: โครงการ | D7: =SUM(D6:D6) -> 0 | E7: =SUM(E6:E6) -> 0 | F7: =SUM(F6:F6) -> 0 | G7: =SUM(G6:G6) -> 0 | H7: =SUM(H6:H6) -> 0 | I7: =SUM(I6:I6) -> 0
A8: ยุทธศาสตร์ที่ 2 การปรับปรุงระบบโครงสร้างพื้นฐานเพื่อรองรับการพัฒนาเศรษฐกิจและสังคม
A9: 2 | B9: =#REF! -> #REF! | C9: =#REF! -> #REF! | D9: =#REF! -> #REF! | E9: =#REF! -> #REF! | F9: =#REF! -> #REF! | G9: =#REF! -> #REF! | H9: =#REF! -> #REF! | I9: =#REF! -> #REF! | ... N9: =#REF! -> #REF!
A11: รวม | B11: =COUNT(A9:A10) -> 1 | C11: โครงการ | D11: =SUM(D9:D10) -> #REF! | E11: =SUM(E9:E10) -> #REF! | F11: =SUM(F9:F10) -> #REF! | G11: =SUM(G9:G10) -> #REF! | H11: =SUM(H9:H10) -> #REF! | I11: =SUM(I9:I10) -> #REF!
A12: ยุทธศาสตร์ที่ 3 การยกระดับการจัดการสิ่งแวดล้อมและความปลอดภัยในพื้นที่
A17: รวม | B17: =COUNT(A13:A16) -> 0 | C17: โครงการ | D17: =SUM(D13:D16) -> 0 | E17: =SUM(E13:E16) -> 0 | F17: =SUM(F13:F16) -> 0 | G17: =SUM(G13:G16) -> 0 | H17: =SUM(H13:H16) -> 0 | I17: =SUM(I13:I16) -> 0
B18: ยุทธศาสตร์ที่ 4 การสร้างความเชื่อมโยงเศรษฐกิจชุมชนและอุตสาหกรรมในพื้นที่
B20: งบประมาณรวมยุทธศาสตร์ที่ 4 ( 0 โครงการ) | D20: =SUM(D19:D19) -> 0 | E20: =SUM(E19:E19) -> 0 | F20: =SUM(F19:F19) -> 0 | G20: =SUM(G19:G19) -> 0 | H20: =SUM(H19:H19) -> 0 | I20: =SUM(I19:I19) -> 0
B21: ยุทธศาสตร์ที่ 5 การพัฒนาสังคมและยกระดับคุณภาพชีวิต
B23: งบประมาณรวมยุทธศาสตร์ที่ 5 ( 0 โครงการ) | D23: =SUM(D22:D22) -> 0 | E23: =SUM(E22:E22) -> 0 | F23: =SUM(F22:F22) -> 0 | G23: =SUM(G22:G22) -> 0 | H23: =SUM(H22:H22) -> 0 | I23: =SUM(I22:I22) -> 0
A24: ยุทธศาสตร์ที่ 4 การสร้างความเชื่อมโยงเศรษฐกิจชุมชนและอุตสาหกรรมในพื้นที่
A28: รวม | B28: =COUNT(A25:A27) -> 0 | C28: โครงการ | D28: =SUM(D25:D27) -> 0 | E28: =SUM(E25:E27) -> 0 | F28: =SUM(F25:F27) -> 0 | G28: =SUM(G25:G27) -> 0 | H28: =SUM(H25:H27) -> 0 | I28: =SUM(I25:I27) -> 0
B30: งบประมาณรวมยุทธศาสตร์ที่ 1 (0 โครงการ) | D30: =SUM(D29:D29) -> 0 | E30: =SUM(E29:E29) -> 0 | F30: =SUM(F29:F29) -> 0 | G30: =SUM(G29:G29) -> 0 | H30: =SUM(H29:H29) -> 0 | I30: =SUM(I29:I29) -> 0
B33: งบประมาณรวมยุทธศาสตร์ที่ 2 (0 โครงการ) | D33: =SUM(D32:D32) -> 0 | E33: =SUM(E32:E32) -> 0 | F33: =SUM(F32:F32) -> 0 | G33: =SUM(G32:G32) -> 0 | H33: =SUM(H32:H32) -> 0 | I33: =SUM(I32:I32) -> 0
A34: ยุทธศาสตร์ที่ 5 การพัฒนาสังคมและยกระดับคุณภาพชีวิต
A38: รวม | B38: =COUNT(A35:A37) -> 0 | C38: โครงการ | D38: =SUM(D35:D37) -> 0 | E38: =SUM(E35:E37) -> 0 | F38: =SUM(F35:F37) -> 0 | G38: =SUM(G35:G37) -> 0 | H38: =SUM(H35:H37) -> 0 | I38: =SUM(I35:I37) -> 0
B40: งบประมาณรวมยุทธศาสตร์ที่ 6 (0 โครงการ) | D40: =SUM(D39:D39) -> 0 | E40: =SUM(E39:E39) -> 0 | F40: =SUM(F39:F39) -> 0 | G40: =SUM(G39:G39) -> 0 | H40: =SUM(H39:H39) -> 0 | I40: =SUM(I39:I39) -> 0
A41: ยุทธศาสตร์ที่ 6 การพัฒนาระบบการบริหารจัดการ องค์ความรู้ และบุคลากร
A45: รวม | B45: =COUNT(A42:A44) -> 0 | C45: โครงการ | D45: =SUM(D42:D44) -> 0 | E45: =SUM(E42:E44) -> 0 | F45: =SUM(F42:F44) -> 0 | G45: =SUM(G42:G44) -> 0 | H45: =SUM(H42:H44) -> 0 | I45: =SUM(I42:I44) -> 0

Sheet สธ
A1: ลำดับที่ | B1: โครงการ | C1: แหล่งงบประมาณ | D1: งบประมาณรวม (ล้านบาท) | E1: ระยะเวลาดำเนินโครงการ | J1: หน่วยงานรับผิดชอบ
E2: 60 | F2: 61 | G2: 62 | H2: 63 | I2: 64 | J2: หลัก | K2: สนับสนุน
C4: =B10+B16+B21+B36+B46+B53 -> 1 | D4: =D10+D16+D21+D36+D46+D53 -> #REF! | E4: =E10+E16+E21+E36+E46+E53 -> #REF! | F4: =F10+F16+F21+F36+F46+F53 -> #REF! | G4: =G10+G16+G21+G36+G46+G53 -> #REF! | H4: =H10+H16+H21+H36+H46+H53 -> #REF! | I4: =I10+I16+I21+I36+I46+I53 -> #REF!
A5: ยุทธศาสตร์ที่ 1 การจัดทำผังเมืองที่เหมาะสมกับศักยภาพพื้นที่
A10: รวม | B10: =COUNT(A6:A9) -> 0 | C10: โครงการ | D10: =SUM(D6:D9) -> 0 | E10: =SUM(E6:E9) -> 0 | F10: =SUM(F6:F9) -> 0 | G10: =SUM(G6:G9) -> 0 | H10: =SUM(H6:H9) -> 0 | I10: =SUM(I6:I9) -> 0
A11: ยุทธศาสตร์ที่ 2 การปรับปรุงระบบโครงสร้างพื้นฐานเพื่อรองรับการพัฒนาเศรษฐกิจและสังคม
A16: รวม | B16: =COUNT(A12:A15) -> 0 | C16: โครงการ | D16: =SUM(D12:D15) -> 0 | E16: =SUM(E12:E15) -> 0 | F16: =SUM(F12:F15) -> 0 | G16: =SUM(G12:G15) -> 0 | H16: =SUM(H12:H15) -> 0 | I16: =SUM(I12:I15) -> 0
A17: ยุทธศาสตร์ที่ 3 การยกระดับการจัดการสิ่งแวดล้อมและความปลอดภัยในพื้นที่
A21: รวม | B21: =COUNT(A18:A20) -> 0 | C21: โครงการ | D21: =SUM(D18:D20) -> 0 | E21: =SUM(E18:E20) -> 0 | F21: =SUM(F18:F20) -> 0 | G21: =SUM(G18:G20) -> 0 | H21: =SUM(H18:H20) -> 0 | I21: =SUM(I18:I20) -> 0
B22: ยุทธศาสตร์ที่ 4 การสร้างความเชื่อมโยงเศรษฐกิจชุมชนและอุตสาหกรรมในพื้นที่
B24: งบประมาณรวมยุทธศาสตร์ที่ 4 ( 0 โครงการ) | D24: =SUM(D23:D23) -> 0 | E24: =SUM(E23:E23) -> 0 | F24: =SUM(F23:F23) -> 0 | G24: =SUM(G23:G23) -> 0 | H24: =SUM(H23:H23) -> 0 | I24: =SUM(I23:I23) -> 0
B25: ยุทธศาสตร์ที่ 5 การพัฒนาสังคมและยกระดับคุณภาพชีวิต
B27: งบประมาณรวมยุทธศาสตร์ที่ 5 ( 0 โครงการ) | D27: =SUM(D26:D26) -> 0 | E27: =SUM(E26:E26) -> 0 | F27: =SUM(F26:F26) -> 0 | G27: =SUM(G26:G26) -> 0 | H27: =SUM(H26:H26) -> 0 | I27: =SUM(I26:I26) -> 0
A28: ยุทธศาสตร์ที่ 4 การสร้างความเชื่อมโยงเศรษฐกิจชุมชนและอุตสาหกรรมในพื้นที่
A36: รวม | B36: =COUNT(A29:A35) -> 0 | C36: โครงการ | D36: =SUM(D29:D35) -> 0 | E36: =SUM(E29:E35) -> 0 | F36: =SUM(F29:F35) -> 0 | G36: =SUM(G29:G35) -> 0 | H36: =SUM(H29:H35) -> 0 | I36: =SUM(I29:I35) -> 0
B38: งบประมาณรวมยุทธศาสตร์ที่ 1 (0 โครงการ) | D38: =SUM(D37:D37) -> 0 | E38: =SUM(E37:E37) -> 0 | F38: =SUM(F37:F37) -> 0 | G38: =SUM(G37:G37) -> 0 | H38: =SUM(H37:H37) -> 0 | I38: =SUM(I37:I37) -> 0
B41: งบประมาณรวมยุทธศาสตร์ที่ 2 (0 โครงการ) | D41: =SUM(D40:D40) -> 0 | E41: =SUM(E40:E40) -> 0 | F41: =SUM(F40:F40) -> 0 | G41: =SUM(G40:G40) -> 0 | H41: =SUM(H40:H40) -> 0 | I41: =SUM(I40:I40) -> 0
A42: ยุทธศาสตร์ที่ 5 การพัฒนาสังคมและยกระดับคุณภาพชีวิต
A43: 5 | B43: ='ยุทธศาสตร์ที่ 5'!#REF! -> #REF! | C43: ='ยุทธศาสตร์ที่ 5'!#REF! -> #REF! | D43: ='ยุทธศาสตร์ที่ 5'!#REF! -> #REF! | E43: ='ยุทธศาสตร์ที่ 5'!#REF! -> #REF! | F43: ='ยุทธศาสตร์ที่ 5'!#REF! -> #REF! | G43: ='ยุทธศาสตร์ที่ 5'!#REF! -> #REF! | H43: ='ยุทธศาสตร์ที่ 5'!#REF! -> #REF! | I43: ='ยุทธศาสตร์ที่ 5'!#REF! -> #REF! | ... N43: ='ยุทธศาสตร์ที่ 5'!#REF! -> #REF!
A46: รวม | B46: =COUNT(A43:A45) -> 1 | C46: โครงการ | D46: =SUM(D43:D45) -> #REF! | E46: =SUM(E43:E45) -> #REF! | F46: =SUM(F43:F45) -> #REF! | G46: =SUM(G43:G45) -> #REF! | H46: =SUM(H43:H45) -> #REF! | I46: =SUM(I43:I45) -> #REF!
B48: งบประมาณรวมยุทธศาสตร์ที่ 6 (0 โครงการ) | D48: =SUM(D47:D47) -> 0 | E48: =SUM(E47:E47) -> 0 | F48: =SUM(F47:F47) -> 0 | G48: =SUM(G47:G47) -> 0 | H48: =SUM(H47:H47) -> 0 | I48: =SUM(I47:I47) -> 0
A49: ยุทธศาสตร์ที่ 6 การพัฒนาระบบการบริหารจัดการ องค์ความรู้ และบุคลากร
A53: รวม | B53: =COUNT(A50:A52) -> 0 | C53: โครงการ | D53: =SUM(D50:D52) -> 0 | E53: =SUM(E50:E52) -> 0 | F53: =SUM(F50:F52) -> 0 | G53: =SUM(G50:G52) -> 0 | H53: =SUM(H50:H52) -> 0 | I53: =SUM(I50:I52) -> 0

Sheet เอกชน
A1: ลำดับที่ | B1: โครงการ | C1: แหล่งงบประมาณ | D1: งบประมาณรวม (ล้านบาท) | E1: ระยะเวลาดำเนินโครงการ | J1: หน่วยงานรับผิดชอบ
E2: 60 | F2: 61 | G2: 62 | H2: 63 | I2: 64 | J2: หลัก | K2: สนับสนุน
C4: =B8+B13+B21+B33+B56+B62 -> 27 | D4: =D8+D13+D21+D33+D56+D62 -> #REF! | E4: =E8+E13+E21+E33+E56+E62 -> #REF! | F4: =F8+F13+F21+F33+F56+F62 -> #REF! | G4: =G8+G13+G21+G33+G56+G62 -> #REF! | H4: =H8+H13+H21+H33+H56+H62 -> #REF! | I4: =I8+I13+I21+I33+I56+I62 -> #REF!
A5: ยุทธศาสตร์ที่ 1 การจัดทำผังเมืองที่เหมาะสมกับศักยภาพพื้นที่
A6: 3 | B6: ='ยุทธศาสตร์ที่ 1'!#REF! -> #REF! | C6: ='ยุทธศาสตร์ที่ 1'!#REF! -> #REF! | D6: ='ยุทธศาสตร์ที่ 1'!#REF! -> #REF! | E6: ='ยุทธศาสตร์ที่ 1'!#REF! -> #REF! | F6: ='ยุทธศาสตร์ที่ 1'!#REF! -> #REF! | G6: ='ยุทธศาสตร์ที่ 1'!#REF! -> #REF! | H6: ='ยุทธศาสตร์ที่ 1'!#REF! -> #REF! | I6: ='ยุทธศาสตร์ที่ 1'!#REF! -> #REF! | ... N6: ='ยุทธศาสตร์ที่ 1'!#REF! -> #REF!
A8: รวม | B8: =COUNT(A6:A7) -> 1 | C8: โครงการ | D8: =SUM(D6:D7) -> #REF! | E8: =SUM(E6:E7) -> #REF! | F8: =SUM(F6:F7) -> #REF! | G8: =SUM(G6:G7) -> #REF! | H8: =SUM(H6:H7) -> #REF! | I8: =SUM(I6:I7) -> #REF!
A9: ยุทธศาสตร์ที่ 2 การปรับปรุงระบบโครงสร้างพื้นฐานเพื่อรองรับการพัฒนาเศรษฐกิจและสังคม
A10: 3 | B10: =#REF! -> #REF! | C10: =#REF! -> #REF! | D10: =#REF! -> #REF! | E10: =#REF! -> #REF! | F10: =#REF! -> #REF! | G10: =#REF! -> #REF! | H10: =#REF! -> #REF! | I10: =#REF! -> #REF! | ... N10: =#REF! -> #REF!
A11: 6 | B11: =#REF! -> #REF! | C11: =#REF! -> #REF! | D11: =#REF! -> #REF! | E11: =#REF! -> #REF! | F11: =#REF! -> #REF! | G11: =#REF! -> #REF! | H11: =#REF! -> #REF! | I11: =#REF! -> #REF! | ... N11: =#REF! -> #REF!
A13: รวม | B13: =COUNT(A10:A12) -> 2 | C13: โครงการ | D13: =SUM(D10:D12) -> #REF! | E13: =SUM(E10:E12) -> #REF! | F13: =SUM(F10:F12) -> #REF! | G13: =SUM(G10:G12) -> #REF! | H13: =SUM(H10:H12) -> #REF! | I13: =SUM(I10:I12) -> #REF!
A14: ยุทธศาสตร์ที่ 3 การยกระดับการจัดการสิ่งแวดล้อมและความปลอดภัยในพื้นที่
A15: 7 | B15: =#REF! -> #REF! | C15: =#REF! -> #REF! | D15: =#REF! -> #REF! | E15: =#REF! -> #REF! | F15: =#REF! -> #REF! | G15: =#REF! -> #REF! | H15: =#REF! -> #REF! | I15: =#REF! -> #REF! | ... N15: =#REF! -> #REF!
A16: 8 | B16: =#REF! -> #REF! | C16: =#REF! -> #REF! | D16: =#REF! -> #REF! | E16: =#REF! -> #REF! | F16: =#REF! -> #REF! | G16: =#REF! -> #REF! | H16: =#REF! -> #REF! | I16: =#REF! -> #REF! | ... N16: =#REF! -> #REF!
A17: 9 | B17: =#REF! -> #REF! | C17: =#REF! -> #REF! | D17: =#REF! -> #REF! | E17: =#REF! -> #REF! | F17: =#REF! -> #REF! | G17: =#REF! -> #REF! | H17: =#REF! -> #REF! | I17: =#REF! -> #REF! | ... N17: =#REF! -> #REF!
A18: 10 | B18: =#REF! -> #REF! | C18: =#REF! -> #REF! | D18: =#REF! -> #REF! | E18: =#REF! -> #REF! | F18: =#REF! -> #REF! | G18: =#REF! -> #REF! | H18: =#REF! -> #REF! | I18: =#REF! -> #REF! | ... N18: =#REF! -> #REF!
A19: 11 | B19: =#REF! -> #REF! | C19: =#REF! -> #REF! | D19: =#REF! -> #REF! | E19: =#REF! -> #REF! | F19: =#REF! -> #REF! | G19: =#REF! -> #REF! | H19: =#REF! -> #REF! | I19: =#REF! -> #REF! | ... N19: =#REF! -> #REF!
A21: รวม | B21: =COUNT(A15:A20) -> 5 | C21: โครงการ | D21: =SUM(D15:D20) -> #REF! | E21: =SUM(E15:E20) -> #REF! | F21: =SUM(F15:F20) -> #REF! | G21: =SUM(G15:G20) -> #REF! | H21: =SUM(H15:H20) -> #REF! | I21: =SUM(I15:I20) -> #REF!
B22: ยุทธศาสตร์ที่ 4 การสร้างความเชื่อมโยงเศรษฐกิจชุมชนและอุตสาหกรรมในพื้นที่
B24: งบประมาณรวมยุทธศาสตร์ที่ 4 ( 0 โครงการ) | D24: =SUM(D23:D23) -> 0 | E24: =SUM(E23:E23) -> 0 | F24: =SUM(F23:F23) -> 0 | G24: =SUM(G23:G23) -> 0 | H24: =SUM(H23:H23) -> 0 | I24: =SUM(I23:I23) -> 0
B25: ยุทธศาสตร์ที่ 5 การพัฒนาสังคมและยกระดับคุณภาพชีวิต
B27: งบประมาณรวมยุทธศาสตร์ที่ 5 ( 0 โครงการ) | D27: =SUM(D26:D26) -> 0 | E27: =SUM(E26:E26) -> 0 | F27: =SUM(F26:F26) -> 0 | G27: =SUM(G26:G26) -> 0 | H27: =SUM(H26:H26) -> 0 | I27: =SUM(I26:I26) -> 0
A28: ยุทธศาสตร์ที่ 4 การสร้างความเชื่อมโยงเศรษฐกิจชุมชนและอุตสาหกรรมในพื้นที่
A29: 3 | B29: =#REF! -> #REF! | C29: =#REF! -> #REF! | D29: =#REF! -> #REF! | E29: =#REF! -> #REF! | F29: =#REF! -> #REF! | G29: =#REF! -> #REF! | H29: =#REF! -> #REF! | I29: =#REF! -> #REF! | ... N29: =#REF! -> #REF!
A30: 4 | B30: =#REF! -> #REF! | C30: =#REF! -> #REF! | D30: =#REF! -> #REF! | E30: =#REF! -> #REF! | F30: =#REF! -> #REF! | G30: =#REF! -> #REF! | H30: =#REF! -> #REF! | I30: =#REF! -> #REF! | ... N30: =#REF! -> #REF!
A31: 5 | B31: =#REF! -> #REF! | C31: =#REF! -> #REF! | D31: =#REF! -> #REF! | E31: =#REF! -> #REF! | F31: =#REF! -> #REF! | G31: =#REF! -> #REF! | H31: =#REF! -> #REF! | I31: =#REF! -> #REF! | ... N31: =#REF! -> #REF!
A33: รวม | B33: =COUNT(A29:A32) -> 3 | C33: โครงการ | D33: =SUM(D29:D32) -> #REF! | E33: =SUM(E29:E32) -> #REF! | F33: =SUM(F29:F32) -> #REF! | G33: =SUM(G29:G32) -> #REF! | H33: =SUM(H29:H32) -> #REF! | I33: =SUM(I29:I32) -> #REF!
B35: งบประมาณรวมยุทธศาสตร์ที่ 1 (0 โครงการ) | D35: =SUM(D34:D34) -> 0 | E35: =SUM(E34:E34) -> 0 | F35: =SUM(F34:F34) -> 0 | G35: =SUM(G34:G34) -> 0 | H35: =SUM(H34:H34) -> 0 | I35: =SUM(I34:I34) -> 0
B38: งบประมาณรวมยุทธศาสตร์ที่ 2 (0 โครงการ) | D38: =SUM(D37:D37) -> 0 | E38: =SUM(E37:E37) -> 0 | F38: =SUM(F37:F37) -> 0 | G38: =SUM(G37:G37) -> 0 | H38: =SUM(H37:H37) -> 0 | I38: =SUM(I37:I37) -> 0
A39: ยุทธศาสตร์ที่ 5 การพัฒนาสังคมและยกระดับคุณภาพชีวิต
A40: 2 | B40: ='ยุทธศาสตร์ที่ 5'!#REF! -> #REF! | C40: ='ยุทธศาสตร์ที่ 5'!#REF! -> #REF! | D40: ='ยุทธศาสตร์ที่ 5'!#REF! -> #REF! | E40: ='ยุทธศาสตร์ที่ 5'!#REF! -> #REF! | F40: ='ยุทธศาสตร์ที่ 5'!#REF! -> #REF! | G40: ='ยุทธศาสตร์ที่ 5'!#REF! -> #REF! | H40: ='ยุทธศาสตร์ที่ 5'!#REF! -> #REF! | I40: ='ยุทธศาสตร์ที่ 5'!#REF! -> #REF! | ... N40: ='ยุทธศาสตร์ที่ 5'!#REF! -> #REF!
A41: 3 | B41: ='ยุทธศาสตร์ที่ 5'!#REF! -> #REF! | C41: ='ยุทธศาสตร์ที่ 5'!#REF! -> #REF! | D41: ='ยุทธศาสตร์ที่ 5'!#REF! -> #REF! | E41: ='ยุทธศาสตร์ที่ 5'!#REF! -> #REF! | F41: ='ยุทธศาสตร์ที่ 5'!#REF! -> #REF! | G41: ='ยุทธศาสตร์ที่ 5'!#REF! -> #REF! | H41: ='ยุทธศาสตร์ที่ 5'!#REF! -> #REF! | I41: ='ยุทธศาสตร์ที่ 5'!#REF! -> #REF! | ... N41: ='ยุทธศาสตร์ที่ 5'!#REF! -> #REF!
A42: 4 | B42: ='ยุทธศาสตร์ที่ 5'!#REF! -> #REF! | C42: ='ยุทธศาสตร์ที่ 5'!#REF! -> #REF! | D42: ='ยุทธศาสตร์ที่ 5'!#REF! -> #REF! | E42: ='ยุทธศาสตร์ที่ 5'!#REF! -> #REF! | F42: ='ยุทธศาสตร์ที่ 5'!#REF! -> #REF! | G42: ='ยุทธศาสตร์ที่ 5'!#REF! -> #REF! | H42: ='ยุทธศาสตร์ที่ 5'!#REF! -> #REF! | I42: ='ยุทธศาสตร์ที่ 5'!#REF! -> #REF! | ... N42: ='ยุทธศาสตร์ที่ 5'!#REF! -> #REF!
A43: 6 | B43: ='ยุทธศาสตร์ที่ 5'!#REF! -> #REF! | C43: ='ยุทธศาสตร์ที่ 5'!#REF! -> #REF! | D43: ='ยุทธศาสตร์ที่ 5'!#REF! -> #REF! | E43: ='ยุทธศาสตร์ที่ 5'!#REF! -> #REF! | F43: ='ยุทธศาสตร์ที่ 5'!#REF! -> #REF! | G43: ='ยุทธศาสตร์ที่ 5'!#REF! -> #REF! | H43: ='ยุทธศาสตร์ที่ 5'!#REF! -> #REF! | I43: ='ยุทธศาสตร์ที่ 5'!#REF! -> #REF! | ... N43: ='ยุทธศาสตร์ที่ 5'!#REF! -> #REF!
A44: 7 | B44: ='ยุทธศาสตร์ที่ 5'!#REF! -> #REF! | C44: ='ยุทธศาสตร์ที่ 5'!#REF! -> #REF! | D44: ='ยุทธศาสตร์ที่ 5'!#REF! -> #REF! | E44: ='ยุทธศาสตร์ที่ 5'!#REF! -> #REF! | F44: ='ยุทธศาสตร์ที่ 5'!#REF! -> #REF! | G44: ='ยุทธศาสตร์ที่ 5'!#REF! -> #REF! | H44: ='ยุทธศาสตร์ที่ 5'!#REF! -> #REF! | I44: ='ยุทธศาสตร์ที่ 5'!#REF! -> #REF! | ... N44: ='ยุทธศาสตร์ที่ 5'!#REF! -> #REF!
A45: 8 | B45: ='ยุทธศาสตร์ที่ 5'!#REF! -> #REF! | C45: ='ยุทธศาสตร์ที่ 5'!#REF! -> #REF! | D45: ='ยุทธศาสตร์ที่ 5'!#REF! -> #REF! | E45: ='ยุทธศาสตร์ที่ 5'!#REF! -> #REF! | F45: ='ยุทธศาสตร์ที่ 5'!#REF! -> #REF! | G45: ='ยุทธศาสตร์ที่ 5'!#REF! -> #REF! | H45: ='ยุทธศาสตร์ที่ 5'!#REF! -> #REF! | I45: ='ยุทธศาสตร์ที่ 5'!#REF! -> #REF! | ... N45: ='ยุทธศาสตร์ที่ 5'!#REF! -> #REF!
A46: 9 | B46: ='ยุทธศาสตร์ที่ 5'!#REF! -> #REF! | C46: ='ยุทธศาสตร์ที่ 5'!#REF! -> #REF! | D46: ='ยุทธศาสตร์ที่ 5'!#REF! -> #REF! | E46: ='ยุทธศาสตร์ที่ 5'!#REF! -> #REF! | F46: ='ยุทธศาสตร์ที่ 5'!#REF! -> #REF! | G46: ='ยุทธศาสตร์ที่ 5'!#REF! -> #REF! | H46: ='ยุทธศาสตร์ที่ 5'!#REF! -> #REF! | I46: ='ยุทธศาสตร์ที่ 5'!#REF! -> #REF! | ... N46: ='ยุทธศาสตร์ที่ 5'!#REF! -> #REF!
A47: 10 | B47: ='ยุทธศาสตร์ที่ 5'!#REF! -> #REF! | C47: ='ยุทธศาสตร์ที่ 5'!#REF! -> #REF! | D47: ='ยุทธศาสตร์ที่ 5'!#REF! -> #REF! | E47: ='ยุทธศาสตร์ที่ 5'!#REF! -> #REF! | F47: ='ยุทธศาสตร์ที่ 5'!#REF! -> #REF! | G47: ='ยุทธศาสตร์ที่ 5'!#REF! -> #REF! | H47: ='ยุทธศาสตร์ที่ 5'!#REF! -> #REF! | I47: ='ยุทธศาสตร์ที่ 5'!#REF! -> #REF! | ... N47: ='ยุทธศาสตร์ที่ 5'!#REF! -> #REF!
A48: 11 | B48: ='ยุทธศาสตร์ที่ 5'!#REF! -> #REF! | C48: ='ยุทธศาสตร์ที่ 5'!#REF! -> #REF! | D48: ='ยุทธศาสตร์ที่ 5'!#REF! -> #REF! | E48: ='ยุทธศาสตร์ที่ 5'!#REF! -> #REF! | F48: ='ยุทธศาสตร์ที่ 5'!#REF! -> #REF! | G48: ='ยุทธศาสตร์ที่ 5'!#REF! -> #REF! | H48: ='ยุทธศาสตร์ที่ 5'!#REF! -> #REF! | I48: ='ยุทธศาสตร์ที่ 5'!#REF! -> #REF! | ... N48: ='ยุทธศาสตร์ที่ 5'!#REF! -> #REF!
A49: 12 | B49: ='ยุทธศาสตร์ที่ 5'!#REF! -> #REF! | C49: ='ยุทธศาสตร์ที่ 5'!#REF! -> #REF! | D49: ='ยุทธศาสตร์ที่ 5'!#REF! -> #REF! | E49: ='ยุทธศาสตร์ที่ 5'!#REF! -> #REF! | F49: ='ยุทธศาสตร์ที่ 5'!#REF! -> #REF! | G49: ='ยุทธศาสตร์ที่ 5'!#REF! -> #REF! | H49: ='ยุทธศาสตร์ที่ 5'!#REF! -> #REF! | I49: ='ยุทธศาสตร์ที่ 5'!#REF! -> #REF! | ... N49: ='ยุทธศาสตร์ที่ 5'!#REF! -> #REF!
A50: 13 | B50: ='ยุทธศาสตร์ที่ 5'!#REF! -> #REF! | C50: ='ยุทธศาสตร์ที่ 5'!#REF! -> #REF! | D50: ='ยุทธศาสตร์ที่ 5'!#REF! -> #REF! | E50: ='ยุทธศาสตร์ที่ 5'!#REF! -> #REF! | F50: ='ยุทธศาสตร์ที่ 5'!#REF! -> #REF! | G50: ='ยุทธศาสตร์ที่ 5'!#REF! -> #REF! | H50: ='ยุทธศาสตร์ที่ 5'!#REF! -> #REF! | I50: ='ยุทธศาสตร์ที่ 5'!#REF! -> #REF! | ... N50: ='ยุทธศาสตร์ที่ 5'!#REF! -> #REF!
A51: 14 | B51: ='ยุทธศาสตร์ที่ 5'!#REF! -> #REF! | C51: ='ยุทธศาสตร์ที่ 5'!#REF! -> #REF! | D51: ='ยุทธศาสตร์ที่ 5'!#REF! -> #REF! | E51: ='ยุทธศาสตร์ที่ 5'!#REF! -> #REF! | F51: ='ยุทธศาสตร์ที่ 5'!#REF! -> #REF! | G51: ='ยุทธศาสตร์ที่ 5'!#REF! -> #REF! | H51: ='ยุทธศาสตร์ที่ 5'!#REF! -> #REF! | I51: ='ยุทธศาสตร์ที่ 5'!#REF! -> #REF! | ... N51: ='ยุทธศาสตร์ที่ 5'!#REF! -> #REF!
... A54: 17 | B54: ='ยุทธศาสตร์ที่ 5'!#REF! -> #REF! | C54: ='ยุทธศาสตร์ที่ 5'!#REF! -> #REF! | D54: ='ยุทธศาสตร์ที่ 5'!#REF! -> #REF! | E54: ='ยุทธศาสตร์ที่ 5'!#REF! -> #REF! | F54: ='ยุทธศาสตร์ที่ 5'!#REF! -> #REF! | G54: ='ยุทธศาสตร์ที่ 5'!#REF! -> #REF! | H54: ='ยุทธศาสตร์ที่ 5'!#REF! -> #REF! | I54: ='ยุทธศาสตร์ที่ 5'!#REF! -> #REF! | ... N54: ='ยุทธศาสตร์ที่ 5'!#REF! -> #REF!
A56: รวม | B56: =COUNT(A40:A55) -> 15 | C56: โครงการ | D56: =SUM(D40:D55) -> #REF! | E56: =SUM(E40:E55) -> #REF! | F56: =SUM(F40:F55) -> #REF! | G56: =SUM(G40:G55) -> #REF! | H56: =SUM(H40:H55) -> #REF! | I56: =SUM(I40:I55) -> #REF!
B58: งบประมาณรวมยุทธศาสตร์ที่ 6 (0 โครงการ) | D58: =SUM(D57:D57) -> 0 | E58: =SUM(E57:E57) -> 0 | F58: =SUM(F57:F57) -> 0 | G58: =SUM(G57:G57) -> 0 | H58: =SUM(H57:H57) -> 0 | I58: =SUM(I57:I57) -> 0
A59: ยุทธศาสตร์ที่ 6 การพัฒนาระบบการบริหารจัดการ องค์ความรู้ และบุคลากร
A60: 2 | B60: ='ยุทธศาสตร์ที่ 6'!#REF! -> #REF! | C60: ='ยุทธศาสตร์ที่ 6'!#REF! -> #REF! | D60: ='ยุทธศาสตร์ที่ 6'!#REF! -> #REF! | E60: ='ยุทธศาสตร์ที่ 6'!#REF! -> #REF! | F60: ='ยุทธศาสตร์ที่ 6'!#REF! -> #REF! | G60: ='ยุทธศาสตร์ที่ 6'!#REF! -> #REF! | H60: ='ยุทธศาสตร์ที่ 6'!#REF! -> #REF! | I60: ='ยุทธศาสตร์ที่ 6'!#REF! -> #REF! | ... N60: ='ยุทธศาสตร์ที่ 6'!#REF! -> #REF!
A62: รวม | B62: =COUNT(A60:A61) -> 1 | C62: โครงการ | D62: =SUM(D60:D61) -> #REF! | E62: =SUM(E60:E61) -> #REF! | F62: =SUM(F60:F61) -> #REF! | G62: =SUM(G60:G61) -> #REF! | H62: =SUM(H60:H61) -> #REF! | I62: =SUM(I60:I61) -> #REF!

Sheet กราฟ
B1: จน.เงิน (ลบบ.) | C1: จน.โครงการ
A2: มท. | B2: =มท!$D$4 -> #REF! | C2: =มท!$C$4 -> 16
A3: อก. | B3: =อก!$D$4 -> #REF! | C3: =อก!$C$4 -> 13
A4: ทส. (1 โครง) | B4: =ทส!$D$4 -> #REF! | C4: =ทส!$C$4 -> 1
A5: คค. (1 โครง) | B5: =คค!$D$4 -> #REF! | C5: =คค!$C$4 -> 1
A6: สธ. | B6: =สธ!$D$4 -> #REF! | C6: =สธ!$C$4 -> 1
A7: เอกชน (27 โครง) | B7: =เอกชน!$D$4 -> #REF! | C7: =เอกชน!$C$4 -> 27
B10: =SUM(B2:B8) -> #REF! | C10: =SUM(C2:C8) -> 59
A15: อก
B16: จน.เงิน (ลบบ.) | C16: จน.โครงการ
A17: กรอ | B17: =กรอ!$D$4 -> #REF! | C17: =กรอ!$C$4 -> 9
A18: กสอ | B18: =กสอ!$D$4 -> #REF! | C18: =กสอ!$C$4 -> 1
A19: สป | B19: =สป.!$D$4 -> #REF! | C19: =สป.!$C$4 -> ง
A22: มธ
B23: จน.เงิน (ลบบ.) | C23: จน.โครงการ
A24: ยธ | B24: =ยธ!$D$4 -> 0 | C24: =ยธ!$C$4 -> 1
A25: อปท | B25: =อปท.!$D$4 -> #REF! | C25: =อปท.!$C$4 -> 12
A26: อื่นๆ (ปค./ปภ) | B26: =อื่นๆ!$D$4 -> #REF! | C26: =อื่นๆ!$C$4 -> 3

Sheet แผนจังหวัด
A1: ลำดับที่ | B1: โครงการ | C1: แหล่งงบประมาณ | D1: งบประมาณรวม (ล้านบาท) | E1: ระยะเวลาดำเนินโครงการ | J1: หน่วยงานรับผิดชอบ
E2: 60 | F2: 61 | G2: 62 | H2: 63 | I2: 64 | J2: หลัก | K2: สนับสนุน
C4: =B10+B26+B49+B63+B86+B94 -> 59 | D4: =D10+D26+D49+D63+D86+D94 -> #REF! | E4: =E10+E26+E49+E63+E86+E94 -> #REF! | F4: =F10+F26+F49+F63+F86+F94 -> #REF! | G4: =G10+G26+G49+G63+G86+G94 -> #REF! | H4: =H10+H26+H49+H63+H86+H94 -> #REF! | I4: =I10+I26+I49+I63+I86+I94 -> #REF!
A5: ยุทธศาสตร์ที่ 1 การจัดทำผังเมืองที่เหมาะสมกับศักยภาพพื้นที่
A6: 1 | B6: ='ยุทธศาสตร์ที่ 1'!#REF! -> #REF! | C6: ='ยุทธศาสตร์ที่ 1'!#REF! -> #REF! | D6: ='ยุทธศาสตร์ที่ 1'!#REF! -> #REF! | E6: ='ยุทธศาสตร์ที่ 1'!#REF! -> #REF! | F6: ='ยุทธศาสตร์ที่ 1'!#REF! -> #REF! | G6: ='ยุทธศาสตร์ที่ 1'!#REF! -> #REF! | H6: ='ยุทธศาสตร์ที่ 1'!#REF! -> #REF! | I6: ='ยุทธศาสตร์ที่ 1'!#REF! -> #REF! | ... N6: ='ยุทธศาสตร์ที่ 1'!#REF! -> #REF!
A7: 2 | B7: ='ยุทธศาสตร์ที่ 1'!#REF! -> #REF! | C7: ='ยุทธศาสตร์ที่ 1'!#REF! -> #REF! | D7: ='ยุทธศาสตร์ที่ 1'!#REF! -> #REF! | E7: ='ยุทธศาสตร์ที่ 1'!#REF! -> #REF! | F7: ='ยุทธศาสตร์ที่ 1'!#REF! -> #REF! | G7: ='ยุทธศาสตร์ที่ 1'!#REF! -> #REF! | H7: ='ยุทธศาสตร์ที่ 1'!#REF! -> #REF! | I7: ='ยุทธศาสตร์ที่ 1'!#REF! -> #REF! | ... N7: ='ยุทธศาสตร์ที่ 1'!#REF! -> #REF!
A8: 3 | B8: ='ยุทธศาสตร์ที่ 1'!#REF! -> #REF! | C8: ='ยุทธศาสตร์ที่ 1'!#REF! -> #REF! | D8: ='ยุทธศาสตร์ที่ 1'!#REF! -> #REF! | E8: ='ยุทธศาสตร์ที่ 1'!#REF! -> #REF! | F8: ='ยุทธศาสตร์ที่ 1'!#REF! -> #REF! | G8: ='ยุทธศาสตร์ที่ 1'!#REF! -> #REF! | H8: ='ยุทธศาสตร์ที่ 1'!#REF! -> #REF! | I8: ='ยุทธศาสตร์ที่ 1'!#REF! -> #REF! | ... N8: ='ยุทธศาสตร์ที่ 1'!#REF! -> #REF!
A10: รวม | B10: =COUNT(A6:A9) -> 3 | C10: โครงการ | D10: =SUM(D6:D9) -> #REF! | E10: =SUM(E6:E9) -> #REF! | F10: =SUM(F6:F9) -> #REF! | G10: =SUM(G6:G9) -> #REF! | H10: =SUM(H6:H9) -> #REF! | I10: =SUM(I6:I9) -> #REF!
A11: ยุทธศาสตร์ที่ 2 การปรับปรุงระบบโครงสร้างพื้นฐานเพื่อรองรับการพัฒนาเศรษฐกิจและสังคม
A12: 1 | B12: =#REF! -> #REF! | C12: =#REF! -> #REF! | D12: =#REF! -> #REF! | E12: =#REF! -> #REF! | F12: =#REF! -> #REF! | G12: =#REF! -> #REF! | H12: =#REF! -> #REF! | I12: =#REF! -> #REF! | ... M12: =#REF! -> #REF!
A13: 2 | B13: =#REF! -> #REF! | C13: =#REF! -> #REF! | D13: =#REF! -> #REF! | E13: =#REF! -> #REF! | F13: =#REF! -> #REF! | G13: =#REF! -> #REF! | H13: =#REF! -> #REF! | I13: =#REF! -> #REF! | ... N13: =#REF! -> #REF!
A14: 3 | B14: =#REF! -> #REF! | C14: =#REF! -> #REF! | D14: =#REF! -> #REF! | E14: =#REF! -> #REF! | F14: =#REF! -> #REF! | G14: =#REF! -> #REF! | H14: =#REF! -> #REF! | I14: =#REF! -> #REF! | ... N14: =#REF! -> #REF!
A15: 4 | B15: =#REF! -> #REF! | C15: =#REF! -> #REF! | D15: =#REF! -> #REF! | E15: =#REF! -> #REF! | F15: =#REF! -> #REF! | G15: =#REF! -> #REF! | H15: =#REF! -> #REF! | I15: =#REF! -> #REF! | ... N15: =#REF! -> #REF!
A16: 5 | B16: =#REF! -> #REF! | C16: =#REF! -> #REF! | D16: =#REF! -> #REF! | E16: =#REF! -> #REF! | F16: =#REF! -> #REF! | G16: =#REF! -> #REF! | H16: =#REF! -> #REF! | I16: =#REF! -> #REF! | ... N16: =#REF! -> #REF!
A17: 6 | B17: =#REF! -> #REF! | C17: =#REF! -> #REF! | D17: =#REF! -> #REF! | E17: =#REF! -> #REF! | F17: =#REF! -> #REF! | G17: =#REF! -> #REF! | H17: =#REF! -> #REF! | I17: =#REF! -> #REF! | ... N17: =#REF! -> #REF!
A18: 7 | B18: =#REF! -> #REF! | C18: =#REF! -> #REF! | D18: =#REF! -> #REF! | E18: =#REF! -> #REF! | F18: =#REF! -> #REF! | G18: =#REF! -> #REF! | H18: =#REF! -> #REF! | I18: =#REF! -> #REF! | ... N18: =#REF! -> #REF!
A19: 8 | B19: =#REF! -> #REF! | C19: =#REF! -> #REF! | D19: =#REF! -> #REF! | E19: =#REF! -> #REF! | F19: =#REF! -> #REF! | G19: =#REF! -> #REF! | H19: =#REF! -> #REF! | I19: =#REF! -> #REF! | ... N19: =#REF! -> #REF!
A20: 9 | B20: =#REF! -> #REF! | C20: =#REF! -> #REF! | D20: =#REF! -> #REF! | E20: =#REF! -> #REF! | F20: =#REF! -> #REF! | G20: =#REF! -> #REF! | H20: =#REF! -> #REF! | I20: =#REF! -> #REF! | ... N20: =#REF! -> #REF!
A21: 10 | B21: =#REF! -> #REF! | C21: =#REF! -> #REF! | D21: =#REF! -> #REF! | E21: =#REF! -> #REF! | F21: =#REF! -> #REF! | G21: =#REF! -> #REF! | H21: =#REF! -> #REF! | I21: =#REF! -> #REF! | ... N21: =#REF! -> #REF!
A22: 11 | B22: =#REF! -> #REF! | C22: =#REF! -> #REF! | D22: =#REF! -> #REF! | E22: =#REF! -> #REF! | F22: =#REF! -> #REF! | G22: =#REF! -> #REF! | H22: =#REF! -> #REF! | I22: =#REF! -> #REF! | ... N22: =#REF! -> #REF!
A23: 12 | B23: =#REF! -> #REF! | C23: =#REF! -> #REF! | D23: =#REF! -> #REF! | E23: =#REF! -> #REF! | F23: =#REF! -> #REF! | G23: =#REF! -> #REF! | H23: =#REF! -> #REF! | I23: =#REF! -> #REF! | ... N23: =#REF! -> #REF!
A24: 13 | B24: =#REF! -> #REF! | C24: =#REF! -> #REF! | D24: =#REF! -> #REF! | E24: =#REF! -> #REF! | F24: =#REF! -> #REF! | G24: =#REF! -> #REF! | H24: =#REF! -> #REF! | I24: =#REF! -> #REF! | ... N24: =#REF! -> #REF!
A26: รวม | B26: =COUNT(A12:A25) -> 13 | C26: โครงการ | D26: =SUM(D12:D25) -> #REF! | E26: =SUM(E12:E25) -> #REF! | F26: =SUM(F12:F25) -> #REF! | G26: =SUM(G12:G25) -> #REF! | H26: =SUM(H12:H25) -> #REF! | I26: =SUM(I12:I25) -> #REF!
A27: ยุทธศาสตร์ที่ 3 การยกระดับการจัดการสิ่งแวดล้อมและความปลอดภัยในพื้นที่
A28: 1 | B28: =#REF! -> #REF! | C28: =#REF! -> #REF! | D28: =#REF! -> #REF! | E28: =#REF! -> #REF! | F28: =#REF! -> #REF! | G28: =#REF! -> #REF! | H28: =#REF! -> #REF! | I28: =#REF! -> #REF! | ... N28: =#REF! -> #REF!
A29: 2 | B29: =#REF! -> #REF! | C29: =#REF! -> #REF! | D29: =#REF! -> #REF! | E29: =#REF! -> #REF! | F29: =#REF! -> #REF! | G29: =#REF! -> #REF! | H29: =#REF! -> #REF! | I29: =#REF! -> #REF! | ... N29: =#REF! -> #REF!
A30: 3 | B30: =#REF! -> #REF! | C30: =#REF! -> #REF! | D30: =#REF! -> #REF! | E30: =#REF! -> #REF! | F30: =#REF! -> #REF! | G30: =#REF! -> #REF! | H30: =#REF! -> #REF! | I30: =#REF! -> #REF! | ... N30: =#REF! -> #REF!
A31: 4 | B31: =#REF! -> #REF! | C31: =#REF! -> #REF! | D31: =#REF! -> #REF! | E31: =#REF! -> #REF! | F31: =#REF! -> #REF! | G31: =#REF! -> #REF! | H31: =#REF! -> #REF! | I31: =#REF! -> #REF! | ... N31: =#REF! -> #REF!
A32: 5 | B32: =#REF! -> #REF! | C32: =#REF! -> #REF! | D32: =#REF! -> #REF! | E32: =#REF! -> #REF! | F32: =#REF! -> #REF! | G32: =#REF! -> #REF! | H32: =#REF! -> #REF! | I32: =#REF! -> #REF! | ... N32: =#REF! -> #REF!
A33: 6 | B33: =#REF! -> #REF! | C33: =#REF! -> #REF! | D33: =#REF! -> #REF! | E33: =#REF! -> #REF! | F33: =#REF! -> #REF! | G33: =#REF! -> #REF! | H33: =#REF! -> #REF! | I33: =#REF! -> #REF! | ... N33: =#REF! -> #REF!
A34: 7 | B34: =#REF! -> #REF! | C34: =#REF! -> #REF! | D34: =#REF! -> #REF! | E34: =#REF! -> #REF! | F34: =#REF! -> #REF! | G34: =#REF! -> #REF! | H34: =#REF! -> #REF! | I34: =#REF! -> #REF! | ... N34: =#REF! -> #REF!
A35: 8 | B35: =#REF! -> #REF! | C35: =#REF! -> #REF! | D35: =#REF! -> #REF! | E35: =#REF! -> #REF! | F35: =#REF! -> #REF! | G35: =#REF! -> #REF! | H35: =#REF! -> #REF! | I35: =#REF! -> #REF! | ... N35: =#REF! -> #REF!
A36: 9 | B36: =#REF! -> #REF! | C36: =#REF! -> #REF! | D36: =#REF! -> #REF! | E36: =#REF! -> #REF! | F36: =#REF! -> #REF! | G36: =#REF! -> #REF! | H36: =#REF! -> #REF! | I36: =#REF! -> #REF! | ... N36: =#REF! -> #REF!
A37: 10 | B37: =#REF! -> #REF! | C37: =#REF! -> #REF! | D37: =#REF! -> #REF! | E37: =#REF! -> #REF! | F37: =#REF! -> #REF! | G37: =#REF! -> #REF! | H37: =#REF! -> #REF! | I37: =#REF! -> #REF! | ... N37: =#REF! -> #REF!
A38: 11 | B38: =#REF! -> #REF! | C38: =#REF! -> #REF! | D38: =#REF! -> #REF! | E38: =#REF! -> #REF! | F38: =#REF! -> #REF! | G38: =#REF! -> #REF! | H38: =#REF! -> #REF! | I38: =#REF! -> #REF! | ... N38: =#REF! -> #REF!
A39: 12 | B39: =#REF! -> #REF! | C39: =#REF! -> #REF! | D39: =#REF! -> #REF! | E39: =#REF! -> #REF! | F39: =#REF! -> #REF! | G39: =#REF! -> #REF! | H39: =#REF! -> #REF! | I39: =#REF! -> #REF! | ... O39: =#REF! -> #REF!
A40: 13 | B40: =#REF! -> #REF! | C40: =#REF! -> #REF! | D40: =#REF! -> #REF! | E40: =#REF! -> #REF! | F40: =#REF! -> #REF! | G40: =#REF! -> #REF! | H40: =#REF! -> #REF! | I40: =#REF! -> #REF! | ... O40: =#REF! -> #REF!
A41: 14 | B41: =#REF! -> #REF! | C41: =#REF! -> #REF! | D41: =#REF! -> #REF! | E41: =#REF! -> #REF! | F41: =#REF! -> #REF! | G41: =#REF! -> #REF! | H41: =#REF! -> #REF! | I41: =#REF! -> #REF! | ... O41: =#REF! -> #REF!
A42: 15 | B42: =#REF! -> #REF! | C42: =#REF! -> #REF! | D42: =#REF! -> #REF! | E42: =#REF! -> #REF! | F42: =#REF! -> #REF! | G42: =#REF! -> #REF! | H42: =#REF! -> #REF! | I42: =#REF! -> #REF! | ... O42: =#REF! -> #REF!
A43: 16 | B43: =#REF! -> #REF! | C43: =#REF! -> #REF! | D43: =#REF! -> #REF! | E43: =#REF! -> #REF! | F43: =#REF! -> #REF! | G43: =#REF! -> #REF! | H43: =#REF! -> #REF! | I43: =#REF! -> #REF! | ... O43: =#REF! -> #REF!
A44: 17 | B44: =#REF! -> #REF! | C44: =#REF! -> #REF! | D44: =#REF! -> #REF! | E44: =#REF! -> #REF! | F44: =#REF! -> #REF! | G44: =#REF! -> #REF! | H44: =#REF! -> #REF! | I44: =#REF! -> #REF! | ... O44: =#REF! -> #REF!
A45: 18 | B45: =#REF! -> #REF! | C45: =#REF! -> #REF! | D45: =#REF! -> #REF! | E45: =#REF! -> #REF! | F45: =#REF! -> #REF! | G45: =#REF! -> #REF! | H45: =#REF! -> #REF! | I45: =#REF! -> #REF! | ... N45: =#REF! -> #REF!
A46: 19 | B46: =#REF! -> #REF! | C46: =#REF! -> #REF! | D46: =#REF! -> #REF! | E46: =#REF! -> #REF! | F46: =#REF! -> #REF! | G46: =#REF! -> #REF! | H46: =#REF! -> #REF! | I46: =#REF! -> #REF! | ... N46: =#REF! -> #REF!
A47: 20 | B47: =#REF! -> #REF! | C47: =#REF! -> #REF! | D47: =#REF! -> #REF! | E47: =#REF! -> #REF! | F47: =#REF! -> #REF! | G47: =#REF! -> #REF! | H47: =#REF! -> #REF! | I47: =#REF! -> #REF! | ... N47: =#REF! -> #REF!
A49: รวม | B49: =COUNT(A28:A48) -> 20 | C49: โครงการ | D49: =SUM(D28:D48) -> #REF! | E49: =SUM(E28:E48) -> #REF! | F49: =SUM(F28:F48) -> #REF! | G49: =SUM(G28:G48) -> #REF! | H49: =SUM(H28:H48) -> #REF! | I49: =SUM(I28:I48) -> #REF!
B50: ยุทธศาสตร์ที่ 4 การสร้างความเชื่อมโยงเศรษฐกิจชุมชนและอุตสาหกรรมในพื้นที่
B52: งบประมาณรวมยุทธศาสตร์ที่ 4 ( 0 โครงการ) | D52: =SUM(D51:D51) -> 0 | E52: =SUM(E51:E51) -> 0 | F52: =SUM(F51:F51) -> 0 | G52: =SUM(G51:G51) -> 0 | H52: =SUM(H51:H51) -> 0 | I52: =SUM(I51:I51) -> 0
B53: ยุทธศาสตร์ที่ 5 การพัฒนาสังคมและยกระดับคุณภาพชีวิต
B55: งบประมาณรวมยุทธศาสตร์ที่ 5 ( 0 โครงการ) | D55: =SUM(D54:D54) -> 0 | E55: =SUM(E54:E54) -> 0 | F55: =SUM(F54:F54) -> 0 | G55: =SUM(G54:G54) -> 0 | H55: =SUM(H54:H54) -> 0 | I55: =SUM(I54:I54) -> 0
A56: ยุทธศาสตร์ที่ 4 การสร้างความเชื่อมโยงเศรษฐกิจชุมชนและอุตสาหกรรมในพื้นที่
A57: 1 | B57: =#REF! -> #REF! | C57: =#REF! -> #REF! | D57: =#REF! -> #REF! | E57: =#REF! -> #REF! | F57: =#REF! -> #REF! | G57: =#REF! -> #REF! | H57: =#REF! -> #REF! | I57: =#REF! -> #REF! | ... N57: =#REF! -> #REF!
A58: 2 | B58: =#REF! -> #REF! | C58: =#REF! -> #REF! | D58: =#REF! -> #REF! | E58: =#REF! -> #REF! | F58: =#REF! -> #REF! | G58: =#REF! -> #REF! | H58: =#REF! -> #REF! | I58: =#REF! -> #REF! | ... N58: =#REF! -> #REF!
A59: 3 | B59: =#REF! -> #REF! | C59: =#REF! -> #REF! | D59: =#REF! -> #REF! | E59: =#REF! -> #REF! | F59: =#REF! -> #REF! | G59: =#REF! -> #REF! | H59: =#REF! -> #REF! | I59: =#REF! -> #REF! | ... N59: =#REF! -> #REF!
A60: 4 | B60: =#REF! -> #REF! | C60: =#REF! -> #REF! | D60: =#REF! -> #REF! | E60: =#REF! -> #REF! | F60: =#REF! -> #REF! | G60: =#REF! -> #REF! | H60: =#REF! -> #REF! | I60: =#REF! -> #REF! | ... N60: =#REF! -> #REF!
A61: 5 | B61: =#REF! -> #REF! | C61: =#REF! -> #REF! | D61: =#REF! -> #REF! | E61: =#REF! -> #REF! | F61: =#REF! -> #REF! | G61: =#REF! -> #REF! | H61: =#REF! -> #REF! | I61: =#REF! -> #REF! | ... N61: =#REF! -> #REF!
A63: รวม | B63: =COUNT(A57:A62) -> 5 | C63: โครงการ | D63: =SUM(D57:D62) -> #REF! | E63: =SUM(E57:E62) -> #REF! | F63: =SUM(F57:F62) -> #REF! | G63: =SUM(G57:G62) -> #REF! | H63: =SUM(H57:H62) -> #REF! | I63: =SUM(I57:I62) -> #REF!
B65: งบประมาณรวมยุทธศาสตร์ที่ 1 (0 โครงการ) | D65: =SUM(D64:D64) -> 0 | E65: =SUM(E64:E64) -> 0 | F65: =SUM(F64:F64) -> 0 | G65: =SUM(G64:G64) -> 0 | H65: =SUM(H64:H64) -> 0 | I65: =SUM(I64:I64) -> 0
B68: งบประมาณรวมยุทธศาสตร์ที่ 2 (0 โครงการ) | D68: =SUM(D67:D67) -> 0 | E68: =SUM(E67:E67) -> 0 | F68: =SUM(F67:F67) -> 0 | G68: =SUM(G67:G67) -> 0 | H68: =SUM(H67:H67) -> 0 | I68: =SUM(I67:I67) -> 0
A69: ยุทธศาสตร์ที่ 5 การพัฒนาสังคมและยกระดับคุณภาพชีวิต
A70: 1 | B70: ='ยุทธศาสตร์ที่ 5'!#REF! -> #REF! | C70: ='ยุทธศาสตร์ที่ 5'!#REF! -> #REF! | D70: ='ยุทธศาสตร์ที่ 5'!#REF! -> #REF! | E70: ='ยุทธศาสตร์ที่ 5'!#REF! -> #REF! | F70: ='ยุทธศาสตร์ที่ 5'!#REF! -> #REF! | G70: ='ยุทธศาสตร์ที่ 5'!#REF! -> #REF! | H70: ='ยุทธศาสตร์ที่ 5'!#REF! -> #REF! | I70: ='ยุทธศาสตร์ที่ 5'!#REF! -> #REF! | ... N70: ='ยุทธศาสตร์ที่ 5'!#REF! -> #REF!
A71: 2 | B71: ='ยุทธศาสตร์ที่ 5'!#REF! -> #REF! | C71: ='ยุทธศาสตร์ที่ 5'!#REF! -> #REF! | D71: ='ยุทธศาสตร์ที่ 5'!#REF! -> #REF! | E71: ='ยุทธศาสตร์ที่ 5'!#REF! -> #REF! | F71: ='ยุทธศาสตร์ที่ 5'!#REF! -> #REF! | G71: ='ยุทธศาสตร์ที่ 5'!#REF! -> #REF! | H71: ='ยุทธศาสตร์ที่ 5'!#REF! -> #REF! | I71: ='ยุทธศาสตร์ที่ 5'!#REF! -> #REF! | ... N71: ='ยุทธศาสตร์ที่ 5'!#REF! -> #REF!
A72: 3 | B72: ='ยุทธศาสตร์ที่ 5'!#REF! -> #REF! | C72: ='ยุทธศาสตร์ที่ 5'!#REF! -> #REF! | D72: ='ยุทธศาสตร์ที่ 5'!#REF! -> #REF! | E72: ='ยุทธศาสตร์ที่ 5'!#REF! -> #REF! | F72: ='ยุทธศาสตร์ที่ 5'!#REF! -> #REF! | G72: ='ยุทธศาสตร์ที่ 5'!#REF! -> #REF! | H72: ='ยุทธศาสตร์ที่ 5'!#REF! -> #REF! | I72: ='ยุทธศาสตร์ที่ 5'!#REF! -> #REF! | ... N72: ='ยุทธศาสตร์ที่ 5'!#REF! -> #REF!
A73: 4 | B73: ='ยุทธศาสตร์ที่ 5'!#REF! -> #REF! | C73: ='ยุทธศาสตร์ที่ 5'!#REF! -> #REF! | D73: ='ยุทธศาสตร์ที่ 5'!#REF! -> #REF! | E73: ='ยุทธศาสตร์ที่ 5'!#REF! -> #REF! | F73: ='ยุทธศาสตร์ที่ 5'!#REF! -> #REF! | G73: ='ยุทธศาสตร์ที่ 5'!#REF! -> #REF! | H73: ='ยุทธศาสตร์ที่ 5'!#REF! -> #REF! | I73: ='ยุทธศาสตร์ที่ 5'!#REF! -> #REF! | ... N73: ='ยุทธศาสตร์ที่ 5'!#REF! -> #REF!
A74: 5 | B74: ='ยุทธศาสตร์ที่ 5'!#REF! -> #REF! | C74: ='ยุทธศาสตร์ที่ 5'!#REF! -> #REF! | D74: ='ยุทธศาสตร์ที่ 5'!#REF! -> #REF! | E74: ='ยุทธศาสตร์ที่ 5'!#REF! -> #REF! | F74: ='ยุทธศาสตร์ที่ 5'!#REF! -> #REF! | G74: ='ยุทธศาสตร์ที่ 5'!#REF! -> #REF! | H74: ='ยุทธศาสตร์ที่ 5'!#REF! -> #REF! | I74: ='ยุทธศาสตร์ที่ 5'!#REF! -> #REF! | ... N74: ='ยุทธศาสตร์ที่ 5'!#REF! -> #REF!
A75: 6 | B75: ='ยุทธศาสตร์ที่ 5'!#REF! -> #REF! | C75: ='ยุทธศาสตร์ที่ 5'!#REF! -> #REF! | D75: ='ยุทธศาสตร์ที่ 5'!#REF! -> #REF! | E75: ='ยุทธศาสตร์ที่ 5'!#REF! -> #REF! | F75: ='ยุทธศาสตร์ที่ 5'!#REF! -> #REF! | G75: ='ยุทธศาสตร์ที่ 5'!#REF! -> #REF! | H75: ='ยุทธศาสตร์ที่ 5'!#REF! -> #REF! | I75: ='ยุทธศาสตร์ที่ 5'!#REF! -> #REF! | ... N75: ='ยุทธศาสตร์ที่ 5'!#REF! -> #REF!
A76: 7 | B76: ='ยุทธศาสตร์ที่ 5'!#REF! -> #REF! | C76: ='ยุทธศาสตร์ที่ 5'!#REF! -> #REF! | D76: ='ยุทธศาสตร์ที่ 5'!#REF! -> #REF! | E76: ='ยุทธศาสตร์ที่ 5'!#REF! -> #REF! | F76: ='ยุทธศาสตร์ที่ 5'!#REF! -> #REF! | G76: ='ยุทธศาสตร์ที่ 5'!#REF! -> #REF! | H76: ='ยุทธศาสตร์ที่ 5'!#REF! -> #REF! | I76: ='ยุทธศาสตร์ที่ 5'!#REF! -> #REF! | ... N76: ='ยุทธศาสตร์ที่ 5'!#REF! -> #REF!
A77: 8 | B77: ='ยุทธศาสตร์ที่ 5'!#REF! -> #REF! | C77: ='ยุทธศาสตร์ที่ 5'!#REF! -> #REF! | D77: ='ยุทธศาสตร์ที่ 5'!#REF! -> #REF! | E77: ='ยุทธศาสตร์ที่ 5'!#REF! -> #REF! | F77: ='ยุทธศาสตร์ที่ 5'!#REF! -> #REF! | G77: ='ยุทธศาสตร์ที่ 5'!#REF! -> #REF! | H77: ='ยุทธศาสตร์ที่ 5'!#REF! -> #REF! | I77: ='ยุทธศาสตร์ที่ 5'!#REF! -> #REF! | ... N77: ='ยุทธศาสตร์ที่ 5'!#REF! -> #REF!
A78: 9 | B78: ='ยุทธศาสตร์ที่ 5'!#REF! -> #REF! | C78: ='ยุทธศาสตร์ที่ 5'!#REF! -> #REF! | D78: ='ยุทธศาสตร์ที่ 5'!#REF! -> #REF! | E78: ='ยุทธศาสตร์ที่ 5'!#REF! -> #REF! | F78: ='ยุทธศาสตร์ที่ 5'!#REF! -> #REF! | G78: ='ยุทธศาสตร์ที่ 5'!#REF! -> #REF! | H78: ='ยุทธศาสตร์ที่ 5'!#REF! -> #REF! | I78: ='ยุทธศาสตร์ที่ 5'!#REF! -> #REF! | ... N78: ='ยุทธศาสตร์ที่ 5'!#REF! -> #REF!
A79: 10 | B79: ='ยุทธศาสตร์ที่ 5'!#REF! -> #REF! | C79: ='ยุทธศาสตร์ที่ 5'!#REF! -> #REF! | D79: ='ยุทธศาสตร์ที่ 5'!#REF! -> #REF! | E79: ='ยุทธศาสตร์ที่ 5'!#REF! -> #REF! | F79: ='ยุทธศาสตร์ที่ 5'!#REF! -> #REF! | G79: ='ยุทธศาสตร์ที่ 5'!#REF! -> #REF! | H79: ='ยุทธศาสตร์ที่ 5'!#REF! -> #REF! | I79: ='ยุทธศาสตร์ที่ 5'!#REF! -> #REF! | ... N79: ='ยุทธศาสตร์ที่ 5'!#REF! -> #REF!
A80: 11 | B80: ='ยุทธศาสตร์ที่ 5'!#REF! -> #REF! | C80: ='ยุทธศาสตร์ที่ 5'!#REF! -> #REF! | D80: ='ยุทธศาสตร์ที่ 5'!#REF! -> #REF! | E80: ='ยุทธศาสตร์ที่ 5'!#REF! -> #REF! | F80: ='ยุทธศาสตร์ที่ 5'!#REF! -> #REF! | G80: ='ยุทธศาสตร์ที่ 5'!#REF! -> #REF! | H80: ='ยุทธศาสตร์ที่ 5'!#REF! -> #REF! | I80: ='ยุทธศาสตร์ที่ 5'!#REF! -> #REF! | ... N80: ='ยุทธศาสตร์ที่ 5'!#REF! -> #REF!
A81: 12 | B81: ='ยุทธศาสตร์ที่ 5'!#REF! -> #REF! | C81: ='ยุทธศาสตร์ที่ 5'!#REF! -> #REF! | D81: ='ยุทธศาสตร์ที่ 5'!#REF! -> #REF! | E81: ='ยุทธศาสตร์ที่ 5'!#REF! -> #REF! | F81: ='ยุทธศาสตร์ที่ 5'!#REF! -> #REF! | G81: ='ยุทธศาสตร์ที่ 5'!#REF! -> #REF! | H81: ='ยุทธศาสตร์ที่ 5'!#REF! -> #REF! | I81: ='ยุทธศาสตร์ที่ 5'!#REF! -> #REF! | ... N81: ='ยุทธศาสตร์ที่ 5'!#REF! -> #REF!
... A84: 15 | B84: ='ยุทธศาสตร์ที่ 5'!#REF! -> #REF! | C84: ='ยุทธศาสตร์ที่ 5'!#REF! -> #REF! | D84: ='ยุทธศาสตร์ที่ 5'!#REF! -> #REF! | E84: ='ยุทธศาสตร์ที่ 5'!#REF! -> #REF! | F84: ='ยุทธศาสตร์ที่ 5'!#REF! -> #REF! | G84: ='ยุทธศาสตร์ที่ 5'!#REF! -> #REF! | H84: ='ยุทธศาสตร์ที่ 5'!#REF! -> #REF! | I84: ='ยุทธศาสตร์ที่ 5'!#REF! -> #REF! | ... N84: ='ยุทธศาสตร์ที่ 5'!#REF! -> #REF!
A86: รวม | B86: =COUNT(A70:A85) -> 15 | C86: โครงการ | D86: =SUM(D70:D85) -> #REF! | E86: =SUM(E70:E85) -> #REF! | F86: =SUM(F70:F85) -> #REF! | G86: =SUM(G70:G85) -> #REF! | H86: =SUM(H70:H85) -> #REF! | I86: =SUM(I70:I85) -> #REF!
B88: งบประมาณรวมยุทธศาสตร์ที่ 6 (0 โครงการ) | D88: =SUM(D87:D87) -> 0 | E88: =SUM(E87:E87) -> 0 | F88: =SUM(F87:F87) -> 0 | G88: =SUM(G87:G87) -> 0 | H88: =SUM(H87:H87) -> 0 | I88: =SUM(I87:I87) -> 0
A89: ยุทธศาสตร์ที่ 6 การพัฒนาระบบการบริหารจัดการ องค์ความรู้ และบุคลากร
A90: 1 | B90: ='ยุทธศาสตร์ที่ 6'!#REF! -> #REF! | C90: ='ยุทธศาสตร์ที่ 6'!#REF! -> #REF! | D90: ='ยุทธศาสตร์ที่ 6'!#REF! -> #REF! | E90: ='ยุทธศาสตร์ที่ 6'!#REF! -> #REF! | F90: ='ยุทธศาสตร์ที่ 6'!#REF! -> #REF! | G90: ='ยุทธศาสตร์ที่ 6'!#REF! -> #REF! | H90: ='ยุทธศาสตร์ที่ 6'!#REF! -> #REF! | I90: ='ยุทธศาสตร์ที่ 6'!#REF! -> #REF! | ... O90: ='ยุทธศาสตร์ที่ 6'!#REF! -> #REF!
A91: 2 | B91: ='ยุทธศาสตร์ที่ 6'!#REF! -> #REF! | C91: ='ยุทธศาสตร์ที่ 6'!#REF! -> #REF! | D91: ='ยุทธศาสตร์ที่ 6'!#REF! -> #REF! | E91: ='ยุทธศาสตร์ที่ 6'!#REF! -> #REF! | F91: ='ยุทธศาสตร์ที่ 6'!#REF! -> #REF! | G91: ='ยุทธศาสตร์ที่ 6'!#REF! -> #REF! | H91: ='ยุทธศาสตร์ที่ 6'!#REF! -> #REF! | I91: ='ยุทธศาสตร์ที่ 6'!#REF! -> #REF! | ... O91: ='ยุทธศาสตร์ที่ 6'!#REF! -> #REF!
A92: 3 | B92: ='ยุทธศาสตร์ที่ 6'!#REF! -> #REF! | C92: ='ยุทธศาสตร์ที่ 6'!#REF! -> #REF! | D92: ='ยุทธศาสตร์ที่ 6'!#REF! -> #REF! | E92: ='ยุทธศาสตร์ที่ 6'!#REF! -> #REF! | F92: ='ยุทธศาสตร์ที่ 6'!#REF! -> #REF! | G92: ='ยุทธศาสตร์ที่ 6'!#REF! -> #REF! | H92: ='ยุทธศาสตร์ที่ 6'!#REF! -> #REF! | I92: ='ยุทธศาสตร์ที่ 6'!#REF! -> #REF! | ... O92: ='ยุทธศาสตร์ที่ 6'!#REF! -> #REF!
A94: รวม | B94: =COUNT(A90:A93) -> 3 | C94: โครงการ | D94: =SUM(D90:D93) -> #REF! | E94: =SUM(E90:E93) -> #REF! | F94: =SUM(F90:F93) -> #REF! | G94: =SUM(G90:G93) -> #REF! | H94: =SUM(H90:H93) -> #REF! | I94: =SUM(I90:I93) -> #REF!

Sheet งบบูรณาการ
A1: ลำดับที่ | B1: โครงการ | C1: แหล่งงบประมาณ | D1: งบประมาณรวม (ล้านบาท) | E1: ระยะเวลาดำเนินโครงการ | J1: หน่วยงานรับผิดชอบ
E2: 60 | F2: 61 | G2: 62 | H2: 63 | I2: 64 | J2: หลัก | K2: สนับสนุน
C4: =B9+B44+B62+B75+B97+B105 -> 69 | D4: =D9+D44+D62+D75+D97+D105 -> #REF! | E4: =E9+E44+E62+E75+E97+E105 -> #REF! | F4: =F9+F44+F62+F75+F97+F105 -> 0 | G4: =G9+G44+G62+G75+G97+G105 -> 0 | H4: =H9+H44+H62+H75+H97+H105 -> 0 | I4: =I9+I44+I62+I75+I97+I105 -> #REF!
A5: ยุทธศาสตร์ที่ 1 การจัดทำผังเมืองที่เหมาะสมกับศักยภาพพื้นที่
A6: 1
A7: 2
A9: รวม | B9: =COUNT(A6:A8) -> 2 | C9: โครงการ | D9: =SUM(D6:D8) -> 0 | E9: =SUM(E6:E8) -> 0 | F9: =SUM(F6:F8) -> 0 | G9: =SUM(G6:G8) -> 0 | H9: =SUM(H6:H8) -> 0 | I9: =SUM(I6:I8) -> 0
A10: ยุทธศาสตร์ที่ 2 การปรับปรุงระบบโครงสร้างพื้นฐานเพื่อรองรับการพัฒนาเศรษฐกิจและสังคม
A11: 1
A12: 2
A13: 3
A14: 4
A15: 5
A16: 6
A17: 7
A18: 8
A19: 9
A20: 10
A21: 11
A22: 12
... A41: 31
A44: รวม | B44: =COUNT(A11:A43) -> 31 | C44: โครงการ | D44: =SUM(D11:D43) -> 0 | E44: =SUM(E11:E43) -> 0 | F44: =SUM(F11:F43) -> 0 | G44: =SUM(G11:G43) -> 0 | H44: =SUM(H11:H43) -> 0 | I44: =SUM(I11:I43) -> 0
A45: ยุทธศาสตร์ที่ 3 การยกระดับการจัดการสิ่งแวดล้อมและความปลอดภัยในพื้นที่
A46: 1
A47: 2
A48: 3
A49: 4
A50: 5
A51: 6
A52: 7
A53: 8
A54: 9
A55: 10
A56: 11
A57: 12
... A60: 15
A62: รวม | B62: =COUNT(A46:A61) -> 15 | C62: โครงการ | D62: =SUM(D46:D61) -> 0 | E62: =SUM(E46:E61) -> 0 | F62: =SUM(F46:F61) -> 0 | G62: =SUM(G46:G61) -> 0 | H62: =SUM(H46:H61) -> 0 | I62: =SUM(I46:I61) -> 0
B63: ยุทธศาสตร์ที่ 4 การสร้างความเชื่อมโยงเศรษฐกิจชุมชนและอุตสาหกรรมในพื้นที่
B65: งบประมาณรวมยุทธศาสตร์ที่ 4 ( 0 โครงการ) | D65: =SUM(D64:D64) -> 0 | E65: =SUM(E64:E64) -> 0 | F65: =SUM(F64:F64) -> 0 | G65: =SUM(G64:G64) -> 0 | H65: =SUM(H64:H64) -> 0 | I65: =SUM(I64:I64) -> 0
B66: ยุทธศาสตร์ที่ 5 การพัฒนาสังคมและยกระดับคุณภาพชีวิต
B68: งบประมาณรวมยุทธศาสตร์ที่ 5 ( 0 โครงการ) | D68: =SUM(D67:D67) -> 0 | E68: =SUM(E67:E67) -> 0 | F68: =SUM(F67:F67) -> 0 | G68: =SUM(G67:G67) -> 0 | H68: =SUM(H67:H67) -> 0 | I68: =SUM(I67:I67) -> 0
A69: ยุทธศาสตร์ที่ 4 การสร้างความเชื่อมโยงเศรษฐกิจชุมชนและอุตสาหกรรมในพื้นที่
A70: 1
A71: 2
A72: 3
A73: 4
A75: รวม | B75: =COUNT(A70:A74) -> 4 | C75: โครงการ | D75: =SUM(D70:D74) -> 0 | E75: =SUM(E70:E74) -> 0 | F75: =SUM(F70:F74) -> 0 | G75: =SUM(G70:G74) -> 0 | H75: =SUM(H70:H74) -> 0 | I75: =SUM(I70:I74) -> 0
B77: งบประมาณรวมยุทธศาสตร์ที่ 1 (0 โครงการ) | D77: =SUM(D76:D76) -> 0 | E77: =SUM(E76:E76) -> 0 | F77: =SUM(F76:F76) -> 0 | G77: =SUM(G76:G76) -> 0 | H77: =SUM(H76:H76) -> 0 | I77: =SUM(I76:I76) -> 0
B80: งบประมาณรวมยุทธศาสตร์ที่ 2 (0 โครงการ) | D80: =SUM(D79:D79) -> 0 | E80: =SUM(E79:E79) -> 0 | F80: =SUM(F79:F79) -> 0 | G80: =SUM(G79:G79) -> 0 | H80: =SUM(H79:H79) -> 0 | I80: =SUM(I79:I79) -> 0
A81: ยุทธศาสตร์ที่ 5 การพัฒนาสังคมและยกระดับคุณภาพชีวิต
A82: 1
A83: 2
A84: 3
A85: 4
A86: 5
A87: 6
A88: 7
A89: 8
A90: 9
A91: 10
A92: 11
A93: 12
... A95: 14
A97: รวม | B97: =COUNT(A82:A96) -> 14 | C97: โครงการ | D97: =SUM(D82:D96) -> 0 | E97: =SUM(E82:E96) -> 0 | F97: =SUM(F82:F96) -> 0 | G97: =SUM(G82:G96) -> 0 | H97: =SUM(H82:H96) -> 0 | I97: =SUM(I82:I96) -> 0
B99: งบประมาณรวมยุทธศาสตร์ที่ 6 (0 โครงการ) | D99: =SUM(D98:D98) -> 0 | E99: =SUM(E98:E98) -> 0 | F99: =SUM(F98:F98) -> 0 | G99: =SUM(G98:G98) -> 0 | H99: =SUM(H98:H98) -> 0 | I99: =SUM(I98:I98) -> 0
A100: ยุทธศาสตร์ที่ 6 การพัฒนาระบบการบริหารจัดการ องค์ความรู้ และบุคลากร
A101: 1 | B101: ='ยุทธศาสตร์ที่ 6'!F10 -> 0 | C101: ='ยุทธศาสตร์ที่ 6'!H10 -> 0 | D101: ='ยุทธศาสตร์ที่ 6'!I10 -> 0 | E101: ='ยุทธศาสตร์ที่ 6'!O10 -> 0 | F101: ='ยุทธศาสตร์ที่ 6'!P10 -> 0 | G101: ='ยุทธศาสตร์ที่ 6'!T10 -> 0 | H101: ='ยุทธศาสตร์ที่ 6'!U10 -> 0 | I101: ='ยุทธศาสตร์ที่ 6'!#REF! -> #REF! | J101: ='ยุทธศาสตร์ที่ 6'!V10 -> 0 | K101: ='ยุทธศาสตร์ที่ 6'!W10 -> 0 | L101: ='ยุทธศาสตร์ที่ 6'!#REF! -> #REF! | M101: ='ยุทธศาสตร์ที่ 6'!#REF! -> #REF!
A102: 2 | B102: ='ยุทธศาสตร์ที่ 6'!F21 -> โครงการวิจัยและพัฒนานวัตกรรมการจัดการมลพิษอุตสาหกรรม เพื่อสนับสนุนเมืองอุตสาหกรรมเชิงนิเวศ | C102: ='ยุทธศาสตร์ที่ 6'!H21 -> งบกระทรวง (กระทรวงอุตสาหกรรม) | D102: ='ยุทธศาสตร์ที่ 6'!#REF! -> #REF! | E102: ='ยุทธศาสตร์ที่ 6'!#REF! -> #REF! | F102: ='ยุทธศาสตร์ที่ 6'!O21 -> 0 | G102: ='ยุทธศาสตร์ที่ 6'!P21 -> 0 | H102: ='ยุทธศาสตร์ที่ 6'!T21 -> 0 | I102: ='ยุทธศาสตร์ที่ 6'!U21 -> 0 | J102: ='ยุทธศาสตร์ที่ 6'!V21 -> กรมโรงงานอุตสาหกรรม | K102: ='ยุทธศาสตร์ที่ 6'!#REF! -> #REF! | L102: ='ยุทธศาสตร์ที่ 6'!#REF! -> #REF! | M102: ='ยุทธศาสตร์ที่ 6'!#REF! -> #REF! | N102: ='ยุทธศาสตร์ที่ 6'!G21 -> 2 พื้นที่เป้าหมายจังหวัดระยอง
A103: 3 | B103: ='ยุทธศาสตร์ที่ 6'!F24 -> โครงการศึกษาเพื่อปรับปรุงกฎระเบียบให้เอื้อต่อการพัฒนาเมืองอุตสาหกรรมเชิงนิเวศ - ศึกษาเพื่อปรับปรุงกฎระเบียบที่เกี่ยวข้องให้เอื้อต่อการส่งเสริมและพัฒนาเมืองอุตสาหกรรมเชิงนิเวศ | C103: ='ยุทธศาสตร์ที่ 6'!H24 -> งบกรมโรงงานอุตสาหกรรม กระทรวงอุตสาหกรรม | D103: ='ยุทธศาสตร์ที่ 6'!#REF! -> #REF! | E103: ='ยุทธศาสตร์ที่ 6'!O24 -> 0 | F103: ='ยุทธศาสตร์ที่ 6'!P24 -> 0 | G103: ='ยุทธศาสตร์ที่ 6'!T24 -> 0 | H103: ='ยุทธศาสตร์ที่ 6'!U24 -> 0 | I103: ='ยุทธศาสตร์ที่ 6'!#REF! -> #REF! | J103: ='ยุทธศาสตร์ที่ 6'!V24 -> กรมโรงงานอุตสาหกรรม และสำนักงานอุตสาหกรรมจังหวัด | K103: ='ยุทธศาสตร์ที่ 6'!W24 -> งบกรมโรงงานอุตสาหกรรม กระทรวงอุตสาหกรรม | L103: ='ยุทธศาสตร์ที่ 6'!#REF! -> #REF! | M103: ='ยุทธศาสตร์ที่ 6'!#REF! -> #REF! | N103: ='ยุทธศาสตร์ที่ 6'!G24 -> เขตอุตสาหกรรมหนาแน่น
A105: รวม | B105: =COUNT(A101:A104) -> 3 | C105: โครงการ | D105: =SUM(D101:D104) -> #REF! | E105: =SUM(E101:E104) -> #REF! | F105: =SUM(F101:F104) -> 0 | G105: =SUM(G101:G104) -> 0 | H105: =SUM(H101:H104) -> 0 | I105: =SUM(I101:I104) -> #REF!

Sheet Sheet1
A1: โครงการพัฒนาท่าเรือแห่งที่ 3
A2: โครงการบูรณาการเมืองอุตสาหกรรมเชิงนิเวศ
A3: โครงการจัดตั้งศูนย์เผยแพร่ พัฒนา และบริหารจัดการเมืองอุตสาหกรรมเชิงนิเวศ (Eco Center)
A4: โครงการประเมินและการยอมรับการเป็นเมืองอุตสาหกรรมเชิงนิเวศโดยภาคีต่างๆ
A5: โครงการสนับสนุนส่งเสริมโรงงานในนิคมฯเข้าสู่อุตสาหกรรมสีเขียว (Green Industry)
A6: โครงการตรวจสอบโรงงานที่เข้าข่ายความเสี่ยง 12 ประเภทและความเสี่ยงอัคคีภัยฯ ร่วมดำเนินงาน
A7: โครงการตรวจประเมินความปลอดภัยโรงงานอุตสาหกรรม (Plant Integrity Audit)

Sheet Sheet2
