Workbook

Sheet Update 14032567
A1: โครงการ 1 ท้องถิ่น 1 สินค้าเกษตรมูลค่าสูง
A2: นำร่องปีงบประมาณ พ.ศ. 2567 จำนวน 144 แปลง
A4: ที่ | B4: จังหวัด | C4: อำเภอ | D4: ตำบล | E4: ชื่อกลุ่ม | F4: ผลผลิต/ผลิตภัณฑ์
A5: 1. กรมส่งเสริมการเกษตร 46 แปลง
A6: 1 | B6: =[1]ภาคตะวันตก!B5 -> สมุทรสาคร | C6: =[1]ภาคตะวันตก!C5 -> กระทุ่มแบน | D6: =[1]ภาคตะวันตก!D5 -> หนองนกไข่ | E6: =[1]ภาคตะวันตก!G5 -> กลุ่มแปลงใหญ่กล้วยไม้ ม.2 ต.หนองนกไข่ อ.กระทุ่มแบน จ.สมุทรสาคร | F6: =[1]ภาคตะวันตก!E5 -> กล้วยไม้ตัดดอก พวงมาลัยกล้วยไม้
A7: 2 | B7: =[1]ภาคใต้!B5 -> ชุมพร | C7: =[1]ภาคใต้!C5 -> ละแม | D7: =[1]ภาคใต้!D5 -> ทุ่งคาวัด | E7: =[1]ภาคใต้!G5 -> กลุ่มเกษตรกรทำสวนทุ่งคาวัด | F7: =[1]ภาคใต้!E5 -> กล้วยหอมทอง
A8: 3 | B8: ชุมพร | C8: เมืองชุมพร | D8: ถ้ำสิงห์ | E8: แปลงใหญ่กล้วยหอมตำบลถ้ำสิงห์ อำเภอเมืองชุมพร จังหวัดชุมพร | F8: กล้วยหอมทอง
A9: 4 | B9: =[1]ภาคอีสาน!B5 -> ชัยภูมิ | C9: =[1]ภาคอีสาน!C5 -> หนองบัวแดง | D9: =[1]ภาคอีสาน!D5 -> ถ้ำวัวแดง | E9: =[1]ภาคอีสาน!G5 -> แปลงใหญ่กล้วยหอมทอง หมู่ 7 ตำบลถ้ำวัวแดง อำเภอหนองบัวแดง จังหวัดชัยภูมิ | F9: =[1]ภาคอีสาน!E5 -> กล้วยหอมทอง
A10: 5 | B10: บึงกาฬ | C10: พรเจริญ | D10: หนองหัวช้าง | E10: แปลงใหญ่กล้วยหอมทอง B.K.77 | F10: =[1]ภาคอีสาน!E7 -> กล้วยหอมทอง
A11: 6 | B11: =[1]ภาคกลาง!B3 -> ปทุมธานี | C11: =[1]ภาคกลาง!C3 -> หนองเสือ | D11: =[1]ภาคกลาง!D3 -> นพรัตน์ | E11: =[1]ภาคกลาง!G3 -> แปลงใหญ่กล้วยหอมทองตำบลนพรัตน์ | F11: =[1]ภาคกลาง!E3 -> กล้วยหอมทอง
A12: 7 | B12: อุตรดิตถ์ | C12: ลับแล | D12: ฝายหลวง | E12: แปลงใหญ่ทุเรียนเมืองลับแล | F12: ทุเรียน
A13: 8 | B13: =[1]ภาคใต้!B3 -> ชุมพร | C13: =[1]ภาคใต้!C3 -> ทุ่งตะโก | D13: =[1]ภาคใต้!D3 -> ตะโก | E13: =[1]ภาคใต้!G3 -> แปลงใหญ่ทุเรียนหมู่ที่ 12 ตำบลตะโก | F13: =[1]ภาคใต้!E3 -> ทุเรียน
A14: 9 | B14: สุโขทัย | C14: ศรีสัชนาลัย | D14: บ้านตึก | E14: แปลงใหญ่ทุเรียนบ้านตึก ตำบลบ้านตึก อำเภอศรีสัชนาลัย จังหวัดสุโขทัย | F14: ทุเรียนหมอนทอง
A15: 10 | B15: =[1]ภาคใต้!B6 -> ชุมพร | C15: =[1]ภาคใต้!C6 -> หลังสวน | D15: =[1]ภาคใต้!D6 -> หาดยาย | E15: =[1]ภาคใต้!G6 -> แปลงใหญ่ทุเรียนบ้านห้วยทรายขาว | F15: =[1]ภาคใต้!E6 -> ทุเรียนหมอนทอง
A16: 11 | B16: อุตรดิตถ์ | C16: ฟากท่า | D16: บ้านเสี้ยว | E16: แปลงใหญ่มะขามวิสาหกิจชุมชนกลุ่มมะขาม หมู่ 1 ตำบลบ้านเสี้ยว อำเภอฟากท่า จังหวัดอุตรดิตถ์ | F16: มะขามหวาน
A17: 12 | B17: เพชรบูรณ์ | C17: หล่มเก่า | D17: ตาดกลอย | E17: แปลงใหญ่ตำบลตาดกลอย อำเภอหล่มเก่า จังหวัดเพชรบูรณ์ | F17: มะขามหวาน
A18: 13 | B18: =[1]ภาคตะวันตก!B3 -> ราชบุรี | C18: =[1]ภาคตะวันตก!C3 -> ดำเนินสะดวก | D18: =[1]ภาคตะวันตก!D3 -> ดอนกรวย | E18: =[1]ภาคตะวันตก!G3 -> แปลงใหญ่มะพร้าวน้ำหอม หมู่ 6 ตำบลดอนกรวย อำเภอดำเนินสะดวก จังหวัดราชบุรี | F18: =[1]ภาคตะวันตก!E3 -> มะพร้าวน้ำหอม
A19: 14 | B19: =[1]ภาคตะวันตก!B4 -> สมุทรสงคราม | C19: =[1]ภาคตะวันตก!C4 -> บางคนที | D19: =[1]ภาคตะวันตก!D4 -> จอมปลวก | E19: =[1]ภาคตะวันตก!G4 -> แปลงใหญ่มะพร้าวน้ำหอม ตำบลจอมปลวก อำเภอบางคนที จังหวัดสมุทรสงคราม | F19: =[1]ภาคตะวันตก!E4 -> มะพร้าวน้ำหอม
A20: 15 | B20: =[1]ภาคอีสาน!B8 -> อุดรธานี | C20: =[1]ภาคอีสาน!C8 -> หนองวัวซอ | D20: =[1]ภาคอีสาน!D8 -> อูบมุง | E20: =[1]ภาคอีสาน!G8 -> แปลงใหญ่ผู้ปลูกมะม่วงเพื่อส่งออกต.อูบมุง อ.หนองวัวซอ จ.อุดรธานี | F20: =[1]ภาคอีสาน!E8 -> มะมว่ง
A21: 16 | B21: น่าน | C21: ปัว | D21: ป่ากลาง | E21: แปลงใหญ่มะม่วงตำบลป่ากลาง อำเภอปัว จังหวัดน่าน | F21: มะม่วง
A22: 17 | B22: เชียงใหม่ | C22: พร้าว | D22: ป่าไหน่ | E22: แปลงใหญ่มะม่วง หมู่ 4 ตำบลป่าไหน่ | F22: มะม่วง
A23: 18 | B23: =[1]ภาคอีสาน!B4 -> ขอนแก่น | C23: =[1]ภาคอีสาน!C4 -> บ้านแฮด | D23: =[1]ภาคอีสาน!D4 -> หนองแซง | E23: =[1]ภาคอีสาน!G4 -> แปลงใหญ่มะม่วง ต.หนองแซง อ.บ้านแฮด จ.ขอนแก่น (กลุ่มวิสาหกิจชุมชนมะม่วงบ้านแฮดเพื่อการส่งออก) | F23: =[1]ภาคอีสาน!E4 -> มะม่วง
A24: 19 | B24: =[1]ภาคอีสาน!B9 -> กาฬสินธุ์ | C24: =[1]ภาคอีสาน!C9 -> หนองกุงศรี | D24: =[1]ภาคอีสาน!D9 -> หนองหิน | E24: =[1]ภาคอีสาน!G9 -> แปลงใหญ่มะม่วง ม.2 ตำบลหนองหิน อำเภอหนองกุงศรี จังหวัดกาฬสินธุ์ (ปลูกและแปรรูปมะม่วงมหาชนก) | F24: =[1]ภาคอีสาน!E9 -> มะม่วง
A25: 20 | B25: สุโขทัย | C25: ศรีนคร | D25: น้ำขุม | E25: แปลงใหญ่มะม่วงโชคอนันต์ ตำบลน้ำขุม อำเภอศรีนคร จังหวัดสุโขทัย | F25: มะม่วงโชคอนันต์
A26: 21 | B26: พิษณุโลก | C26: วังทอง | D26: ชัยนาม | E26: แปลงใหญ่มะม่วงน้ำดอกไม้สีทองพิษณุโลก | F26: มะม่วงน้ำดอกไม้
A27: 22 | B27: พิจิตร | C27: สากเหล็ก | D27: วังทับไทร | E27: แปลงใหญ่มะม่วง หมู่ที่ 1 ตำบลวังทับไทร อำเภอสากเหล็ก จังหวัดพิจิตร | F27: มะม่วงน้ำดอกไม้
A28: 23 | B28: เชียงใหม่ | C28: เชียงดาว | D28: ปิงโค้ง | E28: แปลงใหญ่มะม่วงน้ำดอกไม้ตำบลปิงโค้ง | F28: มะม่วงน้ำดอกไม้สีทอง
A29: 24 | B29: ลำพูน | C29: ป่าซาง | D29: น้ำดิบ | E29: แปลงใหญ่มะม่วงตำบลน้ำดิบ | F29: มะม่วง
A30: 25 | B30: ลำพูน | C30: บ้านโฮ่ง | D30: เหล่ายาว | E30: กลุ่มแปลงใหญ่มะม่วงตำบลเหล่ายาว อำเภอบ้านโฮ่ง จังหวัดลำพูน | F30: มะม่วง
A31: 26 | B31: ชัยภูมิ | C31: บ้านแท่น | D31: บ้านแท่น | E31: แปลงใหญ่ส้มโอบ้านหนองผักหลอด ต.บ้านแท่น อ.บ้านแท่น จ.ชัยภูมิ | F31: ส้มโอ
A32: 27 | B32: พิจิตร | C32: โพธิ์ประทับช้าง | D32: โพธิ์ประทับช้าง | E32: แปลงใหญ่ส้มโอ หมู่ที่ 8 ตำบลโพธิ์ประทับช้าง อำเภอโพธิ์ประทับช้าง จังหวัดพิจิตร | F32: ส้มโอ
A33: 28 | B33: =[1]ภาคตะวันออก9!B3 -> จันทบุรี | C33: =[1]ภาคตะวันออก9!C3 -> เขาคิชฌกูฏ | D33: =[1]ภาคตะวันออก9!D3 -> ชากไทย | E33: =[1]ภาคตะวันออก9!G3 -> แปลงใหญ่มังคุดคิชฌกูฎ | F33: =[1]ภาคตะวันออก9!E3 -> มังคุด
A34: 29 | B34: =[1]ภาคตะวันออก9!B4 -> ระยอง | C34: =[1]ภาคตะวันออก9!C4 -> เมืองระยอง | D34: =[1]ภาคตะวันออก9!D4 -> กะเฉด | E34: =[1]ภาคตะวันออก9!G4 -> แปลงใหญ่มังคุดตำบลกะเฉด อำเภอเมืองระยอง จังหวัดระยอง | F34: =[1]ภาคตะวันออก9!E4 -> มังคุด
A35: 30 | B35: =[1]ภาคใต้!B4 -> ชุมพร | C35: =[1]ภาคใต้!C4 -> พะโต๊ะ | D35: =[1]ภาคใต้!D4 -> พะโต๊ะ | E35: =[1]ภาคใต้!G4 -> แปลงใหญ่มังคุดตำบลพะโต๊ะอำเภอพะโต๊ะจังหวัดชุมพร | F35: =[1]ภาคใต้!E4 -> มังคุด
A36: 31 | B36: นครศรีธรรมราช | C36: พิปูน | D36: ยางค้อม | E36: กลุ่มแปลงใหญ่มังคุด ต.ยางค้อม อ.พิปูน | F36: มังคุด
A37: 32 | B37: =[1]ภาคใต้!B9 -> นครศรีธรรมราช | C37: =[1]ภาคใต้!C9 -> ชะอวด | D37: =[1]ภาคใต้!D9 -> เกาะขันธ์ | E37: =[1]ภาคใต้!G9 -> กลุ่มแปลงใหญ่มังคุด ต.เกาะขันธ์ อ.ชะอวด จ.นครศรีธรรมราช | F37: =[1]ภาคใต้!E9 -> มังคุด
A38: 33 | B38: =[1]ภาคใต้!B10 -> ระนอง | C38: =[1]ภาคใต้!C10 -> กระบุรี | D38: =[1]ภาคใต้!D10 -> น้ำจืด | E38: =[1]ภาคใต้!G10 -> แปลงใหญ่มังคุด ม.8 ต.น้ำจืด อ.กระบุรี จ.ระนอง | F38: =[1]ภาคใต้!E10 -> มังคุด
A39: 34 | B39: น่าน | C39: เชียงกลาง | D39: พญาแก้ว | E39: แปลงใหญ่ลำไยตำบลพญาแก้ว อำเภอเชียงกลาง จังหวัดน่าน | F39: ลำไย
A40: 35 | B40: ลำพูน | C40: บ้านโฮ่ง | D40: บ้านโฮ่ง | E40: แปลงใหญ่ลำไย ม.3 ต.บ้านโฮ่ง | F40: ลำไย
A41: 36 | B41: ลำพูน | C41: ป่าซาง | D41: ป่าซาง | E41: แปลงใหญ่ลำไย ตำบลป่าซาง อำเภอป่าซาง จังหวัดลำพูน | F41: ลำไย
A42: 37 | B42: เชียงราย | C42: ป่าแดด | D42: ป่าแงะ | E42: แปลงใหญ่วิสาหกิจชุมชน มหาพืชผลการเกษตรตำบลป่าแงะ อำเภอป่าแดด | F42: ลำไย
A43: 38 | B43: เชียงใหม่ | C43: สารภี | D43: ชมภู | E43: แปลงใหญ่ลำไยตำบลชมภู อำเภอสารภี | F43: ลำไย
A44: 39 | B44: ตาก | C44: สามเงา | D44: สามเงา | E44: กลุ่มแปลงใหญ่ลำไย หมู่ 7 ตำบลสามเงา จังหวัดตาก | F44: ลำไยอีดอ
A45: 40 | B45: สุโขทัย | C45: ศรีสัชนาลัย | D45: แม่สิน | E45: แปลงใหญ่ส้มเขียวหวาน ตำบลแม่สิน อำเภอศรีสัชนาลัย จังหวัดสุโขทัย | F45: ส้มเขียวหวานสีทอง
A46: 41 | B46: =[1]ภาคอีสาน!B3 -> ขอนแก่น | C46: วังสวาบ | D46: ภูผาม่าน | E46: แปลงใหญ่หน่อไม้ฝรั่ง หมู่ 8 ตำบลวังสวาบ อำเภอภูผาม่าน จังหวัดขอนแก่น | F46: =[1]ภาคอีสาน!E3 -> หน่อไม้ฝรั่ง
A47: 42 | B47: พะเยา | C47: แม่ใจ | D47: แม่สุก | E47: แปลงใหญ่ลิ้นจี่ ตำบลแม่สุก อำเภอแม่ใจ จังหวัดพะเยา | F47: ลิ้นจี่
A48: 43 | B48: พะเยา | C48: แม่ใจ | D48: ศรีถ้อย | E48: กลุ่มวิสาหกิจชุมชนผู้ผลิตกาแฟคุณภาพบ้านปางปูเลาะ ตำบลศรีถ้อย อำเภอแม่ใจ จังหวัดพะเยา | F48: กาแฟ
A49: 44 | B49: แม่ฮ่องสอน | C49: สบเมย | D49: สบเมย | E49: แปลงใหญ่กาแฟบ้านเลโค๊ะ ตำบลสบเมย อำเภอสบเมย จังหวัดแม่ฮ่องสอน | F49: กาแฟ
A50: 45 | B50: น่าน | C50: ทุ่งช้าง | D50: งอบ | E50: แปลงใหญ่กาแฟบ้านมณีพฤกษ์ ต.งอบ อ.ทุ่งช้าง จ.น่าน | F50: กาแฟ
A51: 46 | B51: เชียงราย | C51: เมืองเชียงราย | D51: บ้านดู่ | E51: แปลงใหญ่สับปะรดภูแล ตำบลบ้านดู่ อำเภอเมืองเชียงราย จังหวัดเชียงราย | F51: สับปะรด
A53: 2. กรมการข้าว 32 แปลง
A54: 1 | B54: กาฬสินธุ์ | C54: กุฉินารายณ์ | D54: หนองห้าง | E54: นาแปลงใหญ่ หมู่ 6 ตำบลหนองห้าง อำเภอกุฉินารายณ์ จังหวัดกาฬสินธุ์ (ผู้ผลิตข้าวอินทรีย์ตามรอยพ่อ) | F54: ข้าว
A55: 2 | B55: กาฬสินธุ์ | C55: กุฉินารายณ์ | D55: หนองห้าง | E55: นาแปลงใหญ่ หมู่ 1 ตำบลหนองห้าง อำเภอกุฉินารายณ์ จังหวัดกาฬสินธุ์ (ผู้ผลิตข้าวอินทรีย์เกษตรรวมใจ) | F55: ข้าว
A56: 3 | B56: กาฬสินธุ์ | C56: กุฉินารายณ์ | D56: หนองห้าง | E56: นาแปลงใหญ่ หมู่ 9 ตำบลหนองห้าง อำเภอกุฉินารายณ์ (ผู้ผลิตข้าวอินทรีย์นาภู) | F56: ข้าว
A57: 4 | B57: กาฬสินธุ์ | C57: กุฉินารายณ์ | D57: นาโก | E57: แปลงใหญ่ข้าว หมู่ 6 ตำบลนาโก อำเภอกุฉินารายณ์ (กลุ่มข้าวเกษตรอินทรีย์เป็นสุข) | F57: ข้าว
A58: 5 | B58: กาฬสินธุ์ | C58: กุฉินารายณ์ | D58: กุดหว้า | E58: แปลงใหญ่ข้าว ม.2 บ.กุดหว้า ต.กุดหว้า อ.กุฉินารายณ์ (วิสาหกิจชุมชนศูนย์เรียนรู้การเพิ่มประสิทธิภาพการผลิตสินค้าเกษตร) | F58: ข้าว
A59: 6 | B59: กาฬสินธุ์ | C59: กุฉินารายณ์ | D59: หนองห้าง | E59: นาแปลงใหญ่ หมู่ 4 บ.ห้วยม่วง ต.หนองห้าง อ.กุฉินารายณ์ จ.กาาฬสินธุ์ (กลุ่มแปลงใหญ่ข้าวมะลิ 105 บ้านห้วยม่วง) | F59: ข้าว
A60: 7 | B60: นครพนม | C60: บ้านแพง | D60: โพนทอง | E60: โรงสีข้าวกล้อง | F60: ข้าว
A61: 8 | B61: นครราชสีมา | C61: ประทาย | D61: โนนเพ็ด | E61: แปลงใหญ่ข้าว(กลุ่มจังหวัด) ตำบลโนนเพ็ด อำเภอประทาย จังหวัดนครราชสีมา | F61: ข้าว
A62: 9 | B62: นครราชสีมา | C62: บัวใหญ่ | D62: ด่านช้าง | E62: นาแปลงใหญ่บ้านหนองเม็ก ตำบลด่านช้าง อำเภอบัวใหญ่ จังหวัดนครราชสีมา | F62: ข้าว
A63: 10 | B63: นครราชสีมา | C63: บัวใหญ่ | D63: ขุนทอง | E63: นาแปลงใหญ่ตำบลขุนทอง ตำบลขุนทอง อำเภอบัวใหญ่ จังหวัดนครราชสีมา | F63: ข้าว
A64: 11 | B64: บุรีรัมย์ | C64: เมืองบุรีรัมย์ | D64: เสม็ด | E64: แปลงใหญ่ข้าวหมู่ 5 บ้านระเบิกขาม ตำบลเสม็ด อำเภอเมืองบุรีรัมย์ จังหวัดบุรีรัมย์ | F64: ข้าว
A65: 12 | B65: พัทลุง | C65: ควนขนุน | D65: โตนดด้วน | E65: แปลงใหญ่ข้าวอินทรีย์ ตำบลโตนดด้วน อำเภอควนขนุน จังหวัดพัทลุง | F65: ข้าว
... A85: 32 | B85: อุบลราชธานี | C85: เดชอุดม | D85: บัวงาม | E85: แปลงใหญ่ข้าว หมู่1 ตำบลบัวงาม อำเภอเดชอุดม จังหวัดอุบลราชธานี | F85: ข้าว
A86: 3. กรมส่งเสริมสหกรณ์ 5 แปลง
A87: 1 | B87: เพชรบุรี | C87: ท่ายาง | D87: ท่ายาง | E87: สหกรณ์การเกษตรท่ายาง จำกัด | F87: กล้วยหอมทอง
A88: 2 | B88: จันทบุรี | C88: สอยดาว | D88: ปะตง | E88: สหกรณ์การเกษตรสอยดาว จำกัด | F88: ลำไย
A89: 3 | B89: ฉะเชิงเทรา | C89: พนมสารคาม | D89: เขาหินซ้อน | E89: สหกรณ์ชมรมชาวสวนมะม่วงจังหวัดฉะเชิงเทรา จำกัด | F89: มะม่วง
A90: 4 | B90: ตราด | C90: เขาสมิง | D90: วังตะเคียน | E90: สหกรณ์ส่งเสริมธุรกิจภาคเกษตรจังหวัดตราด จำกัด | F90: มังคุด
A91: 5 | B91: ชัยนาท | C91: วัดสิงห์ | D91: มะขามเฒ่า | E91: สหกรณ์การเกษตรทุ่งวัดสิงห์ จำกัด | F91: ข้าว
A92: 4. กรมหม่อนไหม 1 แปลง
A93: 1 | B93: กาญจนบุรี | C93: เมืองกาญจนบุรี | D93: เกาะสำโรง | E93: วิสาหกิจชุมชนผู้ผลิตชาเขียวใบหม่อนถ้ำมังกรทอง | F93: ชาใบหม่อน
A94: 5. กรมปศุสัตว์ 37 แปลง
A95: 1 | B95: ชัยภูมิ | C95: เนินสง่า | D95: กะฮาด | E95: กลุ่มผู้เลี้ยงโคเนื้อบ้านหนองไข่น้ำ | F95: โคเนื้อ
A96: 2 | B96: นครพนม | C96: นาทม | D96: หนองชน | E96: กลุ่มผู้เลี้ยงโคบ้านคำแม่นาง-สามแยก | F96: โคเนื้อ ปุ๋ยอินทรีย์
A97: 3 | B97: นครพนม | C97: นาหว้า | D97: บ้านเสียว | E97: กลุ่มผู้เลี้ยงโคเนื้อตำบลบ้านเสียว | F97: โคเนื้อ
A98: 4 | B98: นครพนม | C98: นาหว้า | D98: บ้านเสียว | E98: กลุ่มผู้เลี้ยงโคเนื้อตำบลบ้านดอนพะธาย | F98: โคเนื้อ ปุ๋ย ผ้าย้อมมูล
A99: 5 | B99: นครราชสีมา | C99: สีคิ้ว | D99: หนองหญ้าขาว | E99: วิสาหกิจชุมชนผู้เลี้ยงโคเนื้อลำตะคอง | F99: เนื้อโคขุน NVK พรีเมี่ยม
A100: 6 | B100: นครสวรรค์ | C100: เมือง | D100: พระนอน | E100: วิสาหกิจชุมชนเพียวพลัสฟาร์ม ฟาร์มโคพันธุ์ดี ปากน้ำโพ | F100: โคขุนคุณภาพ เนื้อโคแช่แข็ง เนื้อพร้อมปรุง
A101: 7 | B101: ปัตตานี | C101: สายบุรี | D101: ตะลุบัน | E101: กลุ่มวิสาหกิจชุมชนกลุ่มเลี้ยงโคช่องเขต | F101: โคเนื้อ
A102: 8 | B102: พัทลุง | C102: เขาสชัยสน | D102: หานโพธิ์ | E102: กลุ่มวิสาหกิจโคเนื้อไทยเขาชัยสน | F102: โคเนื้อ
A103: 9 | B103: มุกดาหาร | C103: หนองสูง | D103: หนองสูงเหนือ | E103: สหกรณ์การเกษตรหนองสูง จำกัด | F103: เนื้อโคขุน เนื้อแปรรูป
A104: 10 | B104: ร้อยเอ็ด | C104: ปทุมรัตต์ | D104: หนองแคน | E104: กลุ่มวิสาหกิจชุมชนเลี้ยงโคบ้านสวนปอ | F104: โคเนื้อ
A105: 11 | B105: ศรีสะเกษ | C105: ห้วยทับทัน | D105: ปราสาท | E105: วิสาหกิจชุมชนคนปลูกข้าวหอมมะลิ(โคเนื้อ หมู่5) | F105: โคขุน
A106: 12 | B106: สกลนคร | C106: เมืองสกลนคร | D106: โนนหอม | E106: สหกรณ์การเลี้ยงปศุสัตว์ กรป.กลางโพนยางคำ จำกัด | F106: เนื้อโคขุน เนื้อแปรรูป
A107: 13 | B107: สตูล | C107: ละงู | D107: กำแพง | E107: กลุ่มแปลงใหญ่โคเนื้อตำบลกำแพง | F107: โคเนื้อ
... A131: 37 | B131: นครราชสีมา | C131: ขามทะเลสอ | D131: บึงอ้อ | E131: วิสาหกิจชุมชนผู้ลี้ยงโคเนื้อโคราชวากิวขามทะเลสอ | F131: หญ้าเนเปียร์
A132: 6. กรมประมง 23 แปลง
A133: ที่ | B133: จังหวัด | C133: อำเภอ | D133: ตำบล | E133: ชื่อกลุ่ม | F133: ผลผลิต/ผลิตภัณฑ์
A135: 1 | B135: ราชบุรี | C135: บ้านโป่ง | D135: ท่าผา | E135: กลุ่มเกษตรกรผู้เพาะเลี้ยงสัตว์น้ำสวยงามจังหวัดราชบุรี | F135: ปลาทอง ปลาคาร์ฟปลาหมอสี
B136: ราชบุรี | C136: บ้านโป่ง | D136: ปากแรต | E136: กลุ่มเกษตรกรผู้เพาะเลี้ยงสัตว์น้ำสวยงามจังหวัดราชบุรี | F136: ปลาทอง ปลาหางนกยูง ปลาหมอสี ปลาคาร์ฟ ปลาม้าลาย กุ้งแคระ
B137: ราชบุรี | C137: โพธาราม | D137: เตาปูน | E137: กลุ่มเกษตรกรผู้เพาะเลี้ยงสัตว์น้ำสวยงามจังหวัดราชบุรี | F137: ปลาทอง ปลาคาร์ฟ
A138: 2 | B138: นครปฐม | C138: เมืองนครปฐม | D138: หนองปากโลง | E138: วิสาหกิจชุมชนกลุ่มผู้เลี้ยงปลากัดสี/ปลาสวยงามตำบลหนองปากโลง | F138: ปลากัด
A139: 3 | B139: นครปฐม | C139: เมืองนครปฐม | D139: สามควายเผือก | E139: ชมรมผู้เพาะเลี้ยงสัตว์น้ำสวยงามเพื่อการส่งออกจังหวัดนครปฐม | F139: ปลาหางนกยุง
A140: 4 | B140: จันทบุรี | C140: นายายอาม | D140: ช้างข้าม | E140: กลุ่มผู้เลี้ยงกุ้งขาว นายายอาม | F140: กุ้งขาวแวนนาไมต้มสุก
A141: 5 | B141: ชุมพร | C141: เมืองชุมพร | D141: บางหมาก | E141: ชมรมผู้เลี้ยงกุ้งคุณภาพชุมพร | F141: กุ้งทะเล
A142: 6 | B142: สมุทรสาคร | C142: บ้านแพ้ว | D142: โรงเข้ | E142: กลุ่มเกษตรกรทำประมงพัฒนาเกษตรพอเพียง 49 | F142: กุ้งขาวแวนนาไมต้มสุก
A143: 7 | B143: ภูเก็ต | C143: เมืองภูเก็ต | D143: ฉลอง | E143: คลัสเตอร์กุ้งกุลาดำไทย | F143: กุ้งกุลาดำมีชีวิต
A144: 8 | B144: พะเยา | C144: เมืองพะเยา | D144: บ้านต๋ำ | E144: แปลงใหญ่ปลานิล ทุกหมู่บ้านตำบลบ้านต่ำ อำเภอเมือง จังหวัดพะเยา | F144: ปลานิลสด
A145: 9 | B145: ชลบุรี | C145: พนัสนิคม | D145: ท่าข้าม | E145: แปลงใหญ่ปลานิล ตำบลท่าข้าม อำเภอพลัสนิคม จังหวัดชลบุรี | F145: ปลานิลแดดเดียว จ๊อปลานิล น้ำพริกปลานิล ปลานิลจับหลัก ทอดมันปลานิล ปลายอ
...

Sheet นครพนม
A1: โครงการ 1 ท้องถิ่น 1 สินค้าเกษตรมูลค่าสูง
A2: นำร่องปีงบประมาณ พ.ศ. 2567 ทั้งประเทศจำนวน 144 แปลง จังหวัดนครพนม 4 แปลง
A3: คัดเลือกโดย คณะกรรมการบริหารและคณะทำงานขับเคลื่อนนโยบายสินค้าเกษตรและบริการมูลค่าสูง 1 ท้องถิ่น 1 สินค้าเกษตรมูลค่าสูง
A4: ที่ | B4: จังหวัด | C4: อำเภอ | D4: ตำบล | E4: ชื่อกลุ่ม | F4: ผลผลิต/ผลิตภัณฑ์ | G4: กรอบแนวทางการขับเคลื่อนและจำแนกประเภทกลุ่มสินค้าและบริการเพื่อพัฒนายกระดับสินค้า
A5: 1. กรมส่งเสริมการเกษตร 46 แปลง
A6: 1 | B6: =[1]ภาคตะวันตก!B5 -> สมุทรสาคร | C6: =[1]ภาคตะวันตก!C5 -> กระทุ่มแบน | D6: =[1]ภาคตะวันตก!D5 -> หนองนกไข่ | E6: =[1]ภาคตะวันตก!G5 -> กลุ่มแปลงใหญ่กล้วยไม้ ม.2 ต.หนองนกไข่ อ.กระทุ่มแบน จ.สมุทรสาคร | F6: =[1]ภาคตะวันตก!E5 -> กล้วยไม้ตัดดอก พวงมาลัยกล้วยไม้
A7: 2 | B7: =[1]ภาคใต้!B5 -> ชุมพร | C7: =[1]ภาคใต้!C5 -> ละแม | D7: =[1]ภาคใต้!D5 -> ทุ่งคาวัด | E7: =[1]ภาคใต้!G5 -> กลุ่มเกษตรกรทำสวนทุ่งคาวัด | F7: =[1]ภาคใต้!E5 -> กล้วยหอมทอง
A8: 3 | B8: ชุมพร | C8: เมืองชุมพร | D8: ถ้ำสิงห์ | E8: แปลงใหญ่กล้วยหอมตำบลถ้ำสิงห์ อำเภอเมืองชุมพร จังหวัดชุมพร | F8: กล้วยหอมทอง
A9: 4 | B9: =[1]ภาคอีสาน!B5 -> ชัยภูมิ | C9: =[1]ภาคอีสาน!C5 -> หนองบัวแดง | D9: =[1]ภาคอีสาน!D5 -> ถ้ำวัวแดง | E9: =[1]ภาคอีสาน!G5 -> แปลงใหญ่กล้วยหอมทอง หมู่ 7 ตำบลถ้ำวัวแดง อำเภอหนองบัวแดง จังหวัดชัยภูมิ | F9: =[1]ภาคอีสาน!E5 -> กล้วยหอมทอง
A10: 5 | B10: บึงกาฬ | C10: พรเจริญ | D10: หนองหัวช้าง | E10: แปลงใหญ่กล้วยหอมทอง B.K.77 | F10: =[1]ภาคอีสาน!E7 -> กล้วยหอมทอง
A11: 6 | B11: =[1]ภาคกลาง!B3 -> ปทุมธานี | C11: =[1]ภาคกลาง!C3 -> หนองเสือ | D11: =[1]ภาคกลาง!D3 -> นพรัตน์ | E11: =[1]ภาคกลาง!G3 -> แปลงใหญ่กล้วยหอมทองตำบลนพรัตน์ | F11: =[1]ภาคกลาง!E3 -> กล้วยหอมทอง
A12: 7 | B12: อุตรดิตถ์ | C12: ลับแล | D12: ฝายหลวง | E12: แปลงใหญ่ทุเรียนเมืองลับแล | F12: ทุเรียน
A13: 8 | B13: =[1]ภาคใต้!B3 -> ชุมพร | C13: =[1]ภาคใต้!C3 -> ทุ่งตะโก | D13: =[1]ภาคใต้!D3 -> ตะโก | E13: =[1]ภาคใต้!G3 -> แปลงใหญ่ทุเรียนหมู่ที่ 12 ตำบลตะโก | F13: =[1]ภาคใต้!E3 -> ทุเรียน
A14: 9 | B14: สุโขทัย | C14: ศรีสัชนาลัย | D14: บ้านตึก | E14: แปลงใหญ่ทุเรียนบ้านตึก ตำบลบ้านตึก อำเภอศรีสัชนาลัย จังหวัดสุโขทัย | F14: ทุเรียนหมอนทอง
A15: 10 | B15: =[1]ภาคใต้!B6 -> ชุมพร | C15: =[1]ภาคใต้!C6 -> หลังสวน | D15: =[1]ภาคใต้!D6 -> หาดยาย | E15: =[1]ภาคใต้!G6 -> แปลงใหญ่ทุเรียนบ้านห้วยทรายขาว | F15: =[1]ภาคใต้!E6 -> ทุเรียนหมอนทอง
A16: 11 | B16: อุตรดิตถ์ | C16: ฟากท่า | D16: บ้านเสี้ยว | E16: แปลงใหญ่มะขามวิสาหกิจชุมชนกลุ่มมะขาม หมู่ 1 ตำบลบ้านเสี้ยว อำเภอฟากท่า จังหวัดอุตรดิตถ์ | F16: มะขามหวาน
A17: 12 | B17: เพชรบูรณ์ | C17: หล่มเก่า | D17: ตาดกลอย | E17: แปลงใหญ่ตำบลตาดกลอย อำเภอหล่มเก่า จังหวัดเพชรบูรณ์ | F17: มะขามหวาน
A18: 13 | B18: =[1]ภาคตะวันตก!B3 -> ราชบุรี | C18: =[1]ภาคตะวันตก!C3 -> ดำเนินสะดวก | D18: =[1]ภาคตะวันตก!D3 -> ดอนกรวย | E18: =[1]ภาคตะวันตก!G3 -> แปลงใหญ่มะพร้าวน้ำหอม หมู่ 6 ตำบลดอนกรวย อำเภอดำเนินสะดวก จังหวัดราชบุรี | F18: =[1]ภาคตะวันตก!E3 -> มะพร้าวน้ำหอม
A19: 14 | B19: =[1]ภาคตะวันตก!B4 -> สมุทรสงคราม | C19: =[1]ภาคตะวันตก!C4 -> บางคนที | D19: =[1]ภาคตะวันตก!D4 -> จอมปลวก | E19: =[1]ภาคตะวันตก!G4 -> แปลงใหญ่มะพร้าวน้ำหอม ตำบลจอมปลวก อำเภอบางคนที จังหวัดสมุทรสงคราม | F19: =[1]ภาคตะวันตก!E4 -> มะพร้าวน้ำหอม
A20: 15 | B20: =[1]ภาคอีสาน!B8 -> อุดรธานี | C20: =[1]ภาคอีสาน!C8 -> หนองวัวซอ | D20: =[1]ภาคอีสาน!D8 -> อูบมุง | E20: =[1]ภาคอีสาน!G8 -> แปลงใหญ่ผู้ปลูกมะม่วงเพื่อส่งออกต.อูบมุง อ.หนองวัวซอ จ.อุดรธานี | F20: =[1]ภาคอีสาน!E8 -> มะมว่ง
A21: 16 | B21: น่าน | C21: ปัว | D21: ป่ากลาง | E21: แปลงใหญ่มะม่วงตำบลป่ากลาง อำเภอปัว จังหวัดน่าน | F21: มะม่วง
A22: 17 | B22: เชียงใหม่ | C22: พร้าว | D22: ป่าไหน่ | E22: แปลงใหญ่มะม่วง หมู่ 4 ตำบลป่าไหน่ | F22: มะม่วง
A23: 18 | B23: =[1]ภาคอีสาน!B4 -> ขอนแก่น | C23: =[1]ภาคอีสาน!C4 -> บ้านแฮด | D23: =[1]ภาคอีสาน!D4 -> หนองแซง | E23: =[1]ภาคอีสาน!G4 -> แปลงใหญ่มะม่วง ต.หนองแซง อ.บ้านแฮด จ.ขอนแก่น (กลุ่มวิสาหกิจชุมชนมะม่วงบ้านแฮดเพื่อการส่งออก) | F23: =[1]ภาคอีสาน!E4 -> มะม่วง
A24: 19 | B24: =[1]ภาคอีสาน!B9 -> กาฬสินธุ์ | C24: =[1]ภาคอีสาน!C9 -> หนองกุงศรี | D24: =[1]ภาคอีสาน!D9 -> หนองหิน | E24: =[1]ภาคอีสาน!G9 -> แปลงใหญ่มะม่วง ม.2 ตำบลหนองหิน อำเภอหนองกุงศรี จังหวัดกาฬสินธุ์ (ปลูกและแปรรูปมะม่วงมหาชนก) | F24: =[1]ภาคอีสาน!E9 -> มะม่วง
A25: 20 | B25: สุโขทัย | C25: ศรีนคร | D25: น้ำขุม | E25: แปลงใหญ่มะม่วงโชคอนันต์ ตำบลน้ำขุม อำเภอศรีนคร จังหวัดสุโขทัย | F25: มะม่วงโชคอนันต์
A26: 21 | B26: พิษณุโลก | C26: วังทอง | D26: ชัยนาม | E26: แปลงใหญ่มะม่วงน้ำดอกไม้สีทองพิษณุโลก | F26: มะม่วงน้ำดอกไม้
A27: 22 | B27: พิจิตร | C27: สากเหล็ก | D27: วังทับไทร | E27: แปลงใหญ่มะม่วง หมู่ที่ 1 ตำบลวังทับไทร อำเภอสากเหล็ก จังหวัดพิจิตร | F27: มะม่วงน้ำดอกไม้
A28: 23 | B28: เชียงใหม่ | C28: เชียงดาว | D28: ปิงโค้ง | E28: แปลงใหญ่มะม่วงน้ำดอกไม้ตำบลปิงโค้ง | F28: มะม่วงน้ำดอกไม้สีทอง
A29: 24 | B29: ลำพูน | C29: ป่าซาง | D29: น้ำดิบ | E29: แปลงใหญ่มะม่วงตำบลน้ำดิบ | F29: มะม่วง
A30: 25 | B30: ลำพูน | C30: บ้านโฮ่ง | D30: เหล่ายาว | E30: กลุ่มแปลงใหญ่มะม่วงตำบลเหล่ายาว อำเภอบ้านโฮ่ง จังหวัดลำพูน | F30: มะม่วง
A31: 26 | B31: ชัยภูมิ | C31: บ้านแท่น | D31: บ้านแท่น | E31: แปลงใหญ่ส้มโอบ้านหนองผักหลอด ต.บ้านแท่น อ.บ้านแท่น จ.ชัยภูมิ | F31: ส้มโอ
A32: 27 | B32: พิจิตร | C32: โพธิ์ประทับช้าง | D32: โพธิ์ประทับช้าง | E32: แปลงใหญ่ส้มโอ หมู่ที่ 8 ตำบลโพธิ์ประทับช้าง อำเภอโพธิ์ประทับช้าง จังหวัดพิจิตร | F32: ส้มโอ
A33: 28 | B33: =[1]ภาคตะวันออก9!B3 -> จันทบุรี | C33: =[1]ภาคตะวันออก9!C3 -> เขาคิชฌกูฏ | D33: =[1]ภาคตะวันออก9!D3 -> ชากไทย | E33: =[1]ภาคตะวันออก9!G3 -> แปลงใหญ่มังคุดคิชฌกูฎ | F33: =[1]ภาคตะวันออก9!E3 -> มังคุด
A34: 29 | B34: =[1]ภาคตะวันออก9!B4 -> ระยอง | C34: =[1]ภาคตะวันออก9!C4 -> เมืองระยอง | D34: =[1]ภาคตะวันออก9!D4 -> กะเฉด | E34: =[1]ภาคตะวันออก9!G4 -> แปลงใหญ่มังคุดตำบลกะเฉด อำเภอเมืองระยอง จังหวัดระยอง | F34: =[1]ภาคตะวันออก9!E4 -> มังคุด
A35: 30 | B35: =[1]ภาคใต้!B4 -> ชุมพร | C35: =[1]ภาคใต้!C4 -> พะโต๊ะ | D35: =[1]ภาคใต้!D4 -> พะโต๊ะ | E35: =[1]ภาคใต้!G4 -> แปลงใหญ่มังคุดตำบลพะโต๊ะอำเภอพะโต๊ะจังหวัดชุมพร | F35: =[1]ภาคใต้!E4 -> มังคุด
A36: 31 | B36: นครศรีธรรมราช | C36: พิปูน | D36: ยางค้อม | E36: กลุ่มแปลงใหญ่มังคุด ต.ยางค้อม อ.พิปูน | F36: มังคุด
A37: 32 | B37: =[1]ภาคใต้!B9 -> นครศรีธรรมราช | C37: =[1]ภาคใต้!C9 -> ชะอวด | D37: =[1]ภาคใต้!D9 -> เกาะขันธ์ | E37: =[1]ภาคใต้!G9 -> กลุ่มแปลงใหญ่มังคุด ต.เกาะขันธ์ อ.ชะอวด จ.นครศรีธรรมราช | F37: =[1]ภาคใต้!E9 -> มังคุด
A38: 33 | B38: =[1]ภาคใต้!B10 -> ระนอง | C38: =[1]ภาคใต้!C10 -> กระบุรี | D38: =[1]ภาคใต้!D10 -> น้ำจืด | E38: =[1]ภาคใต้!G10 -> แปลงใหญ่มังคุด ม.8 ต.น้ำจืด อ.กระบุรี จ.ระนอง | F38: =[1]ภาคใต้!E10 -> มังคุด
A39: 34 | B39: น่าน | C39: เชียงกลาง | D39: พญาแก้ว | E39: แปลงใหญ่ลำไยตำบลพญาแก้ว อำเภอเชียงกลาง จังหวัดน่าน | F39: ลำไย
A40: 35 | B40: ลำพูน | C40: บ้านโฮ่ง | D40: บ้านโฮ่ง | E40: แปลงใหญ่ลำไย ม.3 ต.บ้านโฮ่ง | F40: ลำไย
A41: 36 | B41: ลำพูน | C41: ป่าซาง | D41: ป่าซาง | E41: แปลงใหญ่ลำไย ตำบลป่าซาง อำเภอป่าซาง จังหวัดลำพูน | F41: ลำไย
A42: 37 | B42: เชียงราย | C42: ป่าแดด | D42: ป่าแงะ | E42: แปลงใหญ่วิสาหกิจชุมชน มหาพืชผลการเกษตรตำบลป่าแงะ อำเภอป่าแดด | F42: ลำไย
A43: 38 | B43: เชียงใหม่ | C43: สารภี | D43: ชมภู | E43: แปลงใหญ่ลำไยตำบลชมภู อำเภอสารภี | F43: ลำไย
A44: 39 | B44: ตาก | C44: สามเงา | D44: สามเงา | E44: กลุ่มแปลงใหญ่ลำไย หมู่ 7 ตำบลสามเงา จังหวัดตาก | F44: ลำไยอีดอ
A45: 40 | B45: สุโขทัย | C45: ศรีสัชนาลัย | D45: แม่สิน | E45: แปลงใหญ่ส้มเขียวหวาน ตำบลแม่สิน อำเภอศรีสัชนาลัย จังหวัดสุโขทัย | F45: ส้มเขียวหวานสีทอง
A46: 41 | B46: =[1]ภาคอีสาน!B3 -> ขอนแก่น | C46: วังสวาบ | D46: ภูผาม่าน | E46: แปลงใหญ่หน่อไม้ฝรั่ง หมู่ 8 ตำบลวังสวาบ อำเภอภูผาม่าน จังหวัดขอนแก่น | F46: =[1]ภาคอีสาน!E3 -> หน่อไม้ฝรั่ง
A47: 42 | B47: พะเยา | C47: แม่ใจ | D47: แม่สุก | E47: แปลงใหญ่ลิ้นจี่ ตำบลแม่สุก อำเภอแม่ใจ จังหวัดพะเยา | F47: ลิ้นจี่
A48: 43 | B48: พะเยา | C48: แม่ใจ | D48: ศรีถ้อย | E48: กลุ่มวิสาหกิจชุมชนผู้ผลิตกาแฟคุณภาพบ้านปางปูเลาะ ตำบลศรีถ้อย อำเภอแม่ใจ จังหวัดพะเยา | F48: กาแฟ
A49: 44 | B49: แม่ฮ่องสอน | C49: สบเมย | D49: สบเมย | E49: แปลงใหญ่กาแฟบ้านเลโค๊ะ ตำบลสบเมย อำเภอสบเมย จังหวัดแม่ฮ่องสอน | F49: กาแฟ
A50: 45 | B50: น่าน | C50: ทุ่งช้าง | D50: งอบ | E50: แปลงใหญ่กาแฟบ้านมณีพฤกษ์ ต.งอบ อ.ทุ่งช้าง จ.น่าน | F50: กาแฟ
A51: 46 | B51: เชียงราย | C51: เมืองเชียงราย | D51: บ้านดู่ | E51: แปลงใหญ่สับปะรดภูแล ตำบลบ้านดู่ อำเภอเมืองเชียงราย จังหวัดเชียงราย | F51: สับปะรด
A53: กรมการข้าว | G53: กลุ่มสินค้าเกษตรมูลค่าสูง มีการแปรรูปเป็นสินค้าที่มีตลาดภายใน ประเทศมีการจำหน่ายเป็นผลผลิต โดยตรงหรือมีการแปรรูป ซึ่งถือเป็นกลุ่ม ที่มีศักยภาพในการจะส่งออกสูง
A54: 1 | B54: กาฬสินธุ์ | C54: กุฉินารายณ์ | D54: หนองห้าง | E54: นาแปลงใหญ่ หมู่ 6 ตำบลหนองห้าง อำเภอกุฉินารายณ์ จังหวัดกาฬสินธุ์ (ผู้ผลิตข้าวอินทรีย์ตามรอยพ่อ) | F54: ข้าว
A55: 2 | B55: กาฬสินธุ์ | C55: กุฉินารายณ์ | D55: หนองห้าง | E55: นาแปลงใหญ่ หมู่ 1 ตำบลหนองห้าง อำเภอกุฉินารายณ์ จังหวัดกาฬสินธุ์ (ผู้ผลิตข้าวอินทรีย์เกษตรรวมใจ) | F55: ข้าว
A56: 3 | B56: กาฬสินธุ์ | C56: กุฉินารายณ์ | D56: หนองห้าง | E56: นาแปลงใหญ่ หมู่ 9 ตำบลหนองห้าง อำเภอกุฉินารายณ์ (ผู้ผลิตข้าวอินทรีย์นาภู) | F56: ข้าว
A57: 4 | B57: กาฬสินธุ์ | C57: กุฉินารายณ์ | D57: นาโก | E57: แปลงใหญ่ข้าว หมู่ 6 ตำบลนาโก อำเภอกุฉินารายณ์ (กลุ่มข้าวเกษตรอินทรีย์เป็นสุข) | F57: ข้าว
A58: 5 | B58: กาฬสินธุ์ | C58: กุฉินารายณ์ | D58: กุดหว้า | E58: แปลงใหญ่ข้าว ม.2 บ.กุดหว้า ต.กุดหว้า อ.กุฉินารายณ์ (วิสาหกิจชุมชนศูนย์เรียนรู้การเพิ่มประสิทธิภาพการผลิตสินค้าเกษตร) | F58: ข้าว
A59: 6 | B59: กาฬสินธุ์ | C59: กุฉินารายณ์ | D59: หนองห้าง | E59: นาแปลงใหญ่ หมู่ 4 บ.ห้วยม่วง ต.หนองห้าง อ.กุฉินารายณ์ จ.กาาฬสินธุ์ (กลุ่มแปลงใหญ่ข้าวมะลิ 105 บ้านห้วยม่วง) | F59: ข้าว
A60: 1 | B60: นครพนม | C60: บ้านแพง | D60: โพนทอง | E60: โรงสีข้าวกล้อง | F60: ข้าว
A61: 8 | B61: นครราชสีมา | C61: ประทาย | D61: โนนเพ็ด | E61: แปลงใหญ่ข้าว(กลุ่มจังหวัด) ตำบลโนนเพ็ด อำเภอประทาย จังหวัดนครราชสีมา | F61: ข้าว
A62: 9 | B62: นครราชสีมา | C62: บัวใหญ่ | D62: ด่านช้าง | E62: นาแปลงใหญ่บ้านหนองเม็ก ตำบลด่านช้าง อำเภอบัวใหญ่ จังหวัดนครราชสีมา | F62: ข้าว
A63: 10 | B63: นครราชสีมา | C63: บัวใหญ่ | D63: ขุนทอง | E63: นาแปลงใหญ่ตำบลขุนทอง ตำบลขุนทอง อำเภอบัวใหญ่ จังหวัดนครราชสีมา | F63: ข้าว
A64: 11 | B64: บุรีรัมย์ | C64: เมืองบุรีรัมย์ | D64: เสม็ด | E64: แปลงใหญ่ข้าวหมู่ 5 บ้านระเบิกขาม ตำบลเสม็ด อำเภอเมืองบุรีรัมย์ จังหวัดบุรีรัมย์ | F64: ข้าว
A65: 12 | B65: พัทลุง | C65: ควนขนุน | D65: โตนดด้วน | E65: แปลงใหญ่ข้าวอินทรีย์ ตำบลโตนดด้วน อำเภอควนขนุน จังหวัดพัทลุง | F65: ข้าว
A66: 13 | B66: พิจิตร | C66: โพทะเล | D66: บ้านน้อย | E66: แปลงใหญ่ข้าว หมู่ที่ 5 ตำบลบ้านน้อย อำเภอโพทะเล จังหวัดพิจิตร | F66: ข้าว
A67: 14 | B67: พิจิตร | C67: สามง่าม | D67: เนินปอ | E67: แปลงใหญ่ข้าว หมู่ที่ 5 ตำบลเนินปอ อำเภอสามง่าม จังหวัดพิจิตร ปี 2561 | F67: ข้าว
A68: 15 | B68: พิจิตร | C68: สามง่าม | D68: หนองโสน | E68: แปลงใหญ่ข้าว หมู่ที่ 16 ตำบลหนองโสน อำเภอสามง่าม จังหวัดพิจิตร ปี2561 | F68: ข้าว
A69: 16 | B69: พิจิตร | C69: สามง่าม | D69: สามง่าม | E69: แปลงใหญ่ข้าว หมู่ที่ 12 ตำบลสามง่าม อำเภอสามง่าม จังหวัดพิจิตร ปี2561 | F69: ข้าว
A70: 17 | B70: พิจิตร | C70: สามง่าม | D70: สามง่าม | E70: แปลงใหญ่ข้าว หมู่ที่ 3 ตำบลสามง่าม อำเภอสามง่าม จังหวัดพิจิตร ปี2561 | F70: ข้าว
A71: 18 | B71: ยโสธร | C71: ค้อวัง | D71: น้ำอ้อม | E71: แปลงใหญ่ข้าวอินทรีย์ หมู่ 10 ตำบลน้ำอ้อม อำเภอค้อวัง จังหวัดยโสธร | F71: ข้าว
A72: 19 | B72: ร้อยเอ็ด | C72: ธวัชบุรี | D72: หนองพอก | E72: สหกรณ์เกษตรอินทรีย์ร้อยเอ็ด จำกัด | F72: ข้าว
... A85: 32 | B85: อุบลราชธานี | C85: เดชอุดม | D85: บัวงาม | E85: แปลงใหญ่ข้าว หมู่1 ตำบลบัวงาม อำเภอเดชอุดม จังหวัดอุบลราชธานี | F85: ข้าว
A86: 3. กรมส่งเสริมสหกรณ์ 5 แปลง
A87: 1 | B87: เพชรบุรี | C87: ท่ายาง | D87: ท่ายาง | E87: สหกรณ์การเกษตรท่ายาง จำกัด | F87: กล้วยหอมทอง
A88: 2 | B88: จันทบุรี | C88: สอยดาว | D88: ปะตง | E88: สหกรณ์การเกษตรสอยดาว จำกัด | F88: ลำไย
A89: 3 | B89: ฉะเชิงเทรา | C89: พนมสารคาม | D89: เขาหินซ้อน | E89: สหกรณ์ชมรมชาวสวนมะม่วงจังหวัดฉะเชิงเทรา จำกัด | F89: มะม่วง
A90: 4 | B90: ตราด | C90: เขาสมิง | D90: วังตะเคียน | E90: สหกรณ์ส่งเสริมธุรกิจภาคเกษตรจังหวัดตราด จำกัด | F90: มังคุด
A91: 5 | B91: ชัยนาท | C91: วัดสิงห์ | D91: มะขามเฒ่า | E91: สหกรณ์การเกษตรทุ่งวัดสิงห์ จำกัด | F91: ข้าว
A92: 4. กรมหม่อนไหม 1 แปลง
A93: 1 | B93: กาญจนบุรี | C93: เมืองกาญจนบุรี | D93: เกาะสำโรง | E93: วิสาหกิจชุมชนผู้ผลิตชาเขียวใบหม่อนถ้ำมังกรทอง | F93: ชาใบหม่อน
A94: กรมปศุสัตว์
A95: 1 | B95: ชัยภูมิ | C95: เนินสง่า | D95: กะฮาด | E95: กลุ่มผู้เลี้ยงโคเนื้อบ้านหนองไข่น้ำ | F95: โคเนื้อ
A96: 2 | B96: นครพนม | C96: นาทม | D96: หนองชน | E96: กลุ่มผู้เลี้ยงโคบ้านคำแม่นาง-สามแยก | F96: โคเนื้อ ปุ๋ยอินทรีย์
A97: 3 | B97: นครพนม | C97: นาหว้า | D97: บ้านเสียว | E97: กลุ่มผู้เลี้ยงโคเนื้อตำบลบ้านเสียว | F97: โคเนื้อ
A98: 4 | B98: นครพนม | C98: นาหว้า | D98: บ้านเสียว | E98: กลุ่มผู้เลี้ยงโคเนื้อบ้านดอนพะธาย | F98: โคเนื้อ ปุ๋ย ผ้าย้อมมูล
A99: 5 | B99: นครราชสีมา | C99: สีคิ้ว | D99: หนองหญ้าขาว | E99: วิสาหกิจชุมชนผู้เลี้ยงโคเนื้อลำตะคอง | F99: เนื้อโคขุน NVK พรีเมี่ยม
A100: 6 | B100: นครสวรรค์ | C100: เมือง | D100: พระนอน | E100: วิสาหกิจชุมชนเพียวพลัสฟาร์ม ฟาร์มโคพันธุ์ดี ปากน้ำโพ | F100: โคขุนคุณภาพ เนื้อโคแช่แข็ง เนื้อพร้อมปรุง
A101: 7 | B101: ปัตตานี | C101: สายบุรี | D101: ตะลุบัน | E101: กลุ่มวิสาหกิจชุมชนกลุ่มเลี้ยงโคช่องเขต | F101: โคเนื้อ
A102: 8 | B102: พัทลุง | C102: เขาสชัยสน | D102: หานโพธิ์ | E102: กลุ่มวิสาหกิจโคเนื้อไทยเขาชัยสน | F102: โคเนื้อ
A103: 9 | B103: มุกดาหาร | C103: หนองสูง | D103: หนองสูงเหนือ | E103: สหกรณ์การเกษตรหนองสูง จำกัด | F103: เนื้อโคขุน เนื้อแปรรูป
A104: 10 | B104: ร้อยเอ็ด | C104: ปทุมรัตต์ | D104: หนองแคน | E104: กลุ่มวิสาหกิจชุมชนเลี้ยงโคบ้านสวนปอ | F104: โคเนื้อ
A105: 11 | B105: ศรีสะเกษ | C105: ห้วยทับทัน | D105: ปราสาท | E105: วิสาหกิจชุมชนคนปลูกข้าวหอมมะลิ(โคเนื้อ หมู่5) | F105: โคขุน
A106: 12 | B106: สกลนคร | C106: เมืองสกลนคร | D106: โนนหอม | E106: สหกรณ์การเลี้ยงปศุสัตว์ กรป.กลางโพนยางคำ จำกัด | F106: เนื้อโคขุน เนื้อแปรรูป
A107: 13 | B107: สตูล | C107: ละงู | D107: กำแพง | E107: กลุ่มแปลงใหญ่โคเนื้อตำบลกำแพง | F107: โคเนื้อ
... A131: 37 | B131: นครราชสีมา | C131: ขามทะเลสอ | D131: บึงอ้อ | E131: วิสาหกิจชุมชนผู้ลี้ยงโคเนื้อโคราชวากิวขามทะเลสอ | F131: หญ้าเนเปียร์
A132: 6. กรมประมง 23 แปลง
A133: ที่ | B133: จังหวัด | C133: อำเภอ | D133: ตำบล | E133: ชื่อกลุ่ม | F133: ผลผลิต/ผลิตภัณฑ์
A135: 1 | B135: ราชบุรี | C135: บ้านโป่ง | D135: ท่าผา | E135: กลุ่มเกษตรกรผู้เพาะเลี้ยงสัตว์น้ำสวยงามจังหวัดราชบุรี | F135: ปลาทอง ปลาคาร์ฟปลาหมอสี
B136: ราชบุรี | C136: บ้านโป่ง | D136: ปากแรต | E136: กลุ่มเกษตรกรผู้เพาะเลี้ยงสัตว์น้ำสวยงามจังหวัดราชบุรี | F136: ปลาทอง ปลาหางนกยูง ปลาหมอสี ปลาคาร์ฟ ปลาม้าลาย กุ้งแคระ
B137: ราชบุรี | C137: โพธาราม | D137: เตาปูน | E137: กลุ่มเกษตรกรผู้เพาะเลี้ยงสัตว์น้ำสวยงามจังหวัดราชบุรี | F137: ปลาทอง ปลาคาร์ฟ
...
