Workbook

Sheet Update 14032567
A1: โครงการ 1 ท้องถิ่น 1 สินค้าเกษตรมูลค่าสูง
A2: นำร่องปีงบประมาณ พ.ศ. 2567 จำนวน 144 แปลง
A4: ที่ | B4: จังหวัด | C4: อำเภอ | D4: ตำบล | E4: ชื่อกลุ่ม | F4: ผลผลิต/ผลิตภัณฑ์
A5: 1. กรมส่งเสริมการเกษตร 46 แปลง
A6: 1 | B6: =[1]ภาคตะวันตก!B5 -> สมุทรสาคร | C6: =[1]ภาคตะวันตก!C5 -> กระทุ่มแบน | D6: =[1]ภาคตะวันตก!D5 -> หนองนกไข่ | E6: =[1]ภาคตะวันตก!G5 -> กลุ่มแปลงใหญ่กล้วยไม้ ม.2 ต.หนองนกไข่ อ.กระทุ่มแบน จ.สมุทรสาคร | F6: =[1]ภาคตะวันตก!E5 -> กล้วยไม้ตัดดอก พวงมาลัยกล้วยไม้
A7: 2 | B7: =[1]ภาคใต้!B5 -> ชุมพร | C7: =[1]ภาคใต้!C5 -> ละแม | D7: =[1]ภาคใต้!D5 -> ทุ่งคาวัด | E7: =[1]ภาคใต้!G5 -> กลุ่มเกษตรกรทำสวนทุ่งคาวัด | F7: =[1]ภาคใต้!E5 -> กล้วยหอมทอง
A8: 3 | B8: ชุมพร | C8: เมืองชุมพร | D8: ถ้ำสิงห์ | E8: แปลงใหญ่กล้วยหอมตำบลถ้ำสิงห์ อำเภอเมืองชุมพร จังหวัดชุมพร | F8: กล้วยหอมทอง
A9: 4 | B9: =[1]ภาคอีสาน!B5 -> ชัยภูมิ | C9: =[1]ภาคอีสาน!C5 -> หนองบัวแดง | D9: =[1]ภาคอีสาน!D5 -> ถ้ำวัวแดง | E9: =[1]ภาคอีสาน!G5 -> แปลงใหญ่กล้วยหอมทอง หมู่ 7 ตำบลถ้ำวัวแดง อำเภอหนองบัวแดง จังหวัดชัยภูมิ | F9: =[1]ภาคอีสาน!E5 -> กล้วยหอมทอง
A10: 5 | B10: บึงกาฬ | C10: พรเจริญ | D10: หนองหัวช้าง | E10: แปลงใหญ่กล้วยหอมทอง B.K.77 | F10: =[1]ภาคอีสาน!E7 -> กล้วยหอมทอง
A11: 6 | B11: =[1]ภาคกลาง!B3 -> ปทุมธานี | C11: =[1]ภาคกลาง!C3 -> หนองเสือ | D11: =[1]ภาคกลาง!D3 -> นพรัตน์ | E11: =[1]ภาคกลาง!G3 -> แปลงใหญ่กล้วยหอมทองตำบลนพรัตน์ | F11: =[1]ภาคกลาง!E3 -> กล้วยหอมทอง
A12: 7 | B12: อุตรดิตถ์ | C12: ลับแล | D12: ฝายหลวง | E12: แปลงใหญ่ทุเรียนเมืองลับแล | F12: ทุเรียน
A13: 8 | B13: =[1]ภาคใต้!B3 -> ชุมพร | C13: =[1]ภาคใต้!C3 -> ทุ่งตะโก | D13: =[1]ภาคใต้!D3 -> ตะโก | E13: =[1]ภาคใต้!G3 -> แปลงใหญ่ทุเรียนหมู่ที่ 12 ตำบลตะโก | F13: =[1]ภาคใต้!E3 -> ทุเรียน
A14: 9 | B14: สุโขทัย | C14: ศรีสัชนาลัย | D14: บ้านตึก | E14: แปลงใหญ่ทุเรียนบ้านตึก ตำบลบ้านตึก อำเภอศรีสัชนาลัย จังหวัดสุโขทัย | F14: ทุเรียนหมอนทอง
A15: 10 | B15: =[1]ภาคใต้!B6 -> ชุมพร | C15: =[1]ภาคใต้!C6 -> หลังสวน | D15: =[1]ภาคใต้!D6 -> หาดยาย | E15: =[1]ภาคใต้!G6 -> แปลงใหญ่ทุเรียนบ้านห้วยทรายขาว | F15: =[1]ภาคใต้!E6 -> ทุเรียนหมอนทอง
A16: 11 | B16: อุตรดิตถ์ | C16: ฟากท่า | D16: บ้านเสี้ยว | E16: แปลงใหญ่มะขามวิสาหกิจชุมชนกลุ่มมะขาม หมู่ 1 ตำบลบ้านเสี้ยว อำเภอฟากท่า จังหวัดอุตรดิตถ์ | F16: มะขามหวาน
A17: 12 | B17: เพชรบูรณ์ | C17: หล่มเก่า | D17: ตาดกลอย | E17: แปลงใหญ่ตำบลตาดกลอย อำเภอหล่มเก่า จังหวัดเพชรบูรณ์ | F17: มะขามหวาน
A18: 13 | B18: =[1]ภาคตะวันตก!B3 -> ราชบุรี | C18: =[1]ภาคตะวันตก!C3 -> ดำเนินสะดวก | D18: =[1]ภาคตะวันตก!D3 -> ดอนกรวย | E18: =[1]ภาคตะวันตก!G3 -> แปลงใหญ่มะพร้าวน้ำหอม หมู่ 6 ตำบลดอนกรวย อำเภอดำเนินสะดวก จังหวัดราชบุรี | F18: =[1]ภาคตะวันตก!E3 -> มะพร้าวน้ำหอม
A19: 14 | B19: =[1]ภาคตะวันตก!B4 -> สมุทรสงคราม | C19: =[1]ภาคตะวันตก!C4 -> บางคนที | D19: =[1]ภาคตะวันตก!D4 -> จอมปลวก | E19: =[1]ภาคตะวันตก!G4 -> แปลงใหญ่มะพร้าวน้ำหอม ตำบลจอมปลวก อำเภอบางคนที จังหวัดสมุทรสงคราม | F19: =[1]ภาคตะวันตก!E4 -> มะพร้าวน้ำหอม
A20: 15 | B20: =[1]ภาคอีสาน!B8 -> อุดรธานี | C20: =[1]ภาคอีสาน!C8 -> หนองวัวซอ | D20: =[1]ภาคอีสาน!D8 -> อูบมุง | E20: =[1]ภาคอีสาน!G8 -> แปลงใหญ่ผู้ปลูกมะม่วงเพื่อส่งออกต.อูบมุง อ.หนองวัวซอ จ.อุดรธานี | F20: =[1]ภาคอีสาน!E8 -> มะมว่ง
A21: 16 | B21: น่าน | C21: ปัว | D21: ป่ากลาง | E21: แปลงใหญ่มะม่วงตำบลป่ากลาง อำเภอปัว จังหวัดน่าน | F21: มะม่วง
A22: 17 | B22: เชียงใหม่ | C22: พร้าว | D22: ป่าไหน่ | E22: แปลงใหญ่มะม่วง หมู่ 4 ตำบลป่าไหน่ | F22: มะม่วง
A23: 18 | B23: =[1]ภาคอีสาน!B4 -> ขอนแก่น | C23: =[1]ภาคอีสาน!C4 -> บ้านแฮด | D23: =[1]ภาคอีสาน!D4 -> หนองแซง | E23: =[1]ภาคอีสาน!G4 -> แปลงใหญ่มะม่วง ต.หนองแซง อ.บ้านแฮด จ.ขอนแก่น (กลุ่มวิสาหกิจชุมชนมะม่วงบ้านแฮดเพื่อการส่งออก) | F23: =[1]ภาคอีสาน!E4 -> มะม่วง
A24: 19 | B24: =[1]ภาคอีสาน!B9 -> กาฬสินธุ์ | C24: =[1]ภาคอีสาน!C9 -> หนองกุงศรี | D24: =[1]ภาคอีสาน!D9 -> หนองหิน | E24: =[1]ภาคอีสาน!G9 -> แปลงใหญ่มะม่วง ม.2 ตำบลหนองหิน อำเภอหนองกุงศรี จังหวัดกาฬสินธุ์ (ปลูกและแปรรูปมะม่วงมหาชนก) | F24: =[1]ภาคอีสาน!E9 -> มะม่วง
A25: 20 | B25: สุโขทัย | C25: ศรีนคร | D25: น้ำขุม | E25: แปลงใหญ่มะม่วงโชคอนันต์ ตำบลน้ำขุม อำเภอศรีนคร จังหวัดสุโขทัย | F25: มะม่วงโชคอนันต์
A26: 21 | B26: พิษณุโลก | C26: วังทอง | D26: ชัยนาม | E26: แปลงใหญ่มะม่วงน้ำดอกไม้สีทองพิษณุโลก | F26: มะม่วงน้ำดอกไม้
A27: 22 | B27: พิจิตร | C27: สากเหล็ก | D27: วังทับไทร | E27: แปลงใหญ่มะม่วง หมู่ที่ 1 ตำบลวังทับไทร อำเภอสากเหล็ก จังหวัดพิจิตร | F27: มะม่วงน้ำดอกไม้
A28: 23 | B28: เชียงใหม่ | C28: เชียงดาว | D28: ปิงโค้ง | E28: แปลงใหญ่มะม่วงน้ำดอกไม้ตำบลปิงโค้ง | F28: มะม่วงน้ำดอกไม้สีทอง
A29: 24 | B29: ลำพูน | C29: ป่าซาง | D29: น้ำดิบ | E29: แปลงใหญ่มะม่วงตำบลน้ำดิบ | F29: มะม่วง
A30: 25 | B30: ลำพูน | C30: บ้านโฮ่ง | D30: เหล่ายาว | E30: กลุ่มแปลงใหญ่มะม่วงตำบลเหล่ายาว อำเภอบ้านโฮ่ง จังหวัดลำพูน | F30: มะม่วง
A31: 26 | B31: ชัยภูมิ | C31: บ้านแท่น | D31: บ้านแท่น | E31: แปลงใหญ่ส้มโอบ้านหนองผักหลอด ต.บ้านแท่น อ.บ้านแท่น จ.ชัยภูมิ | F31: ส้มโอ
A32: 27 | B32: พิจิตร | C32: โพธิ์ประทับช้าง | D32: โพธิ์ประทับช้าง | E32: แปลงใหญ่ส้มโอ หมู่ที่ 8 ตำบลโพธิ์ประทับช้าง อำเภอโพธิ์ประทับช้าง จังหวัดพิจิตร | F32: ส้มโอ
A33: 28 | B33: =[1]ภาคตะวันออก9!B3 -> จันทบุรี | C33: =[1]ภาคตะวันออก9!C3 -> เขาคิชฌกูฏ | D33: =[1]ภาคตะวันออก9!D3 -> ชากไทย | E33: =[1]ภาคตะวันออก9!G3 -> แปลงใหญ่มังคุดคิชฌกูฎ | F33: =[1]ภาคตะวันออก9!E3 -> มังคุด
A34: 29 | B34: =[1]ภาคตะวันออก9!B4 -> ระยอง | C34: =[1]ภาคตะวันออก9!C4 -> เมืองระยอง | D34: =[1]ภาคตะวันออก9!D4 -> กะเฉด | E34: =[1]ภาคตะวันออก9!G4 -> แปลงใหญ่มังคุดตำบลกะเฉด อำเภอเมืองระยอง จังหวัดระยอง | F34: =[1]ภาคตะวันออก9!E4 -> มังคุด
A35: 30 | B35: =[1]ภาคใต้!B4 -> ชุมพร | C35: =[1]ภาคใต้!C4 -> พะโต๊ะ | D35: =[1]ภาคใต้!D4 -> พะโต๊ะ | E35: =[1]ภาคใต้!G4 -> แปลงใหญ่มังคุดตำบลพะโต๊ะอำเภอพะโต๊ะจังหวัดชุมพร | F35: =[1]ภาคใต้!E4 -> มังคุด
A36: 31 | B36: นครศรีธรรมราช | C36: พิปูน | D36: ยางค้อม | E36: กลุ่มแปลงใหญ่มังคุด ต.ยางค้อม อ.พิปูน | F36: มังคุด
A37: 32 | B37: =[1]ภาคใต้!B9 -> นครศรีธรรมราช | C37: =[1]ภาคใต้!C9 -> ชะอวด | D37: =[1]ภาคใต้!D9 -> เกาะขันธ์ | E37: =[1]ภาคใต้!G9 -> กลุ่มแปลงใหญ่มังคุด ต.เกาะขันธ์ อ.ชะอวด จ.นครศรีธรรมราช | F37: =[1]ภาคใต้!E9 -> มังคุด
A38: 33 | B38: =[1]ภาคใต้!B10 -> ระนอง | C38: =[1]ภาคใต้!C10 -> กระบุรี | D38: =[1]ภาคใต้!D10 -> น้ำจืด | E38: =[1]ภาคใต้!G10 -> แปลงใหญ่มังคุด ม.8 ต.น้ำจืด อ.กระบุรี จ.ระนอง | F38: =[1]ภาคใต้!E10 -> มังคุด
A39: 34 | B39: น่าน | C39: เชียงกลาง | D39: พญาแก้ว | E39: แปลงใหญ่ลำไยตำบลพญาแก้ว อำเภอเชียงกลาง จังหวัดน่าน | F39: ลำไย
A40: 35 | B40: ลำพูน | C40: บ้านโฮ่ง | D40: บ้านโฮ่ง | E40: แปลงใหญ่ลำไย ม.3 ต.บ้านโฮ่ง | F40: ลำไย
A41: 36 | B41: ลำพูน | C41: ป่าซาง | D41: ป่าซาง | E41: แปลงใหญ่ลำไย ตำบลป่าซาง อำเภอป่าซาง จังหวัดลำพูน | F41: ลำไย
...

Sheet นครพนม
A1: โครงการ 1 ท้องถิ่น 1 สินค้าเกษตรมูลค่าสูง
A2: นำร่องปีงบประมาณ พ.ศ. 2567 ทั้งประเทศจำนวน 144 แปลง จังหวัดนครพนม 4 แปลง
A3: คัดเลือกโดย คณะกรรมการบริหารและคณะทำงานขับเคลื่อนนโยบายสินค้าเกษตรและบริการมูลค่าสูง 1 ท้องถิ่น 1 สินค้าเกษตรมูลค่าสูง
A4: ที่ | B4: จังหวัด | C4: อำเภอ | D4: ตำบล | E4: ชื่อกลุ่ม | F4: ผลผลิต/ผลิตภัณฑ์ | G4: กรอบแนวทางการขับเคลื่อนและจำแนกประเภทกลุ่มสินค้าและบริการเพื่อพัฒนายกระดับสินค้า
A5: 1. กรมส่งเสริมการเกษตร 46 แปลง
A6: 1 | B6: =[1]ภาคตะวันตก!B5 -> สมุทรสาคร | C6: =[1]ภาคตะวันตก!C5 -> กระทุ่มแบน | D6: =[1]ภาคตะวันตก!D5 -> หนองนกไข่ | E6: =[1]ภาคตะวันตก!G5 -> กลุ่มแปลงใหญ่กล้วยไม้ ม.2 ต.หนองนกไข่ อ.กระทุ่มแบน จ.สมุทรสาคร | F6: =[1]ภาคตะวันตก!E5 -> กล้วยไม้ตัดดอก พวงมาลัยกล้วยไม้
A7: 2 | B7: =[1]ภาคใต้!B5 -> ชุมพร | C7: =[1]ภาคใต้!C5 -> ละแม | D7: =[1]ภาคใต้!D5 -> ทุ่งคาวัด | E7: =[1]ภาคใต้!G5 -> กลุ่มเกษตรกรทำสวนทุ่งคาวัด | F7: =[1]ภาคใต้!E5 -> กล้วยหอมทอง
A8: 3 | B8: ชุมพร | C8: เมืองชุมพร | D8: ถ้ำสิงห์ | E8: แปลงใหญ่กล้วยหอมตำบลถ้ำสิงห์ อำเภอเมืองชุมพร จังหวัดชุมพร | F8: กล้วยหอมทอง
A9: 4 | B9: =[1]ภาคอีสาน!B5 -> ชัยภูมิ | C9: =[1]ภาคอีสาน!C5 -> หนองบัวแดง | D9: =[1]ภาคอีสาน!D5 -> ถ้ำวัวแดง | E9: =[1]ภาคอีสาน!G5 -> แปลงใหญ่กล้วยหอมทอง หมู่ 7 ตำบลถ้ำวัวแดง อำเภอหนองบัวแดง จังหวัดชัยภูมิ | F9: =[1]ภาคอีสาน!E5 -> กล้วยหอมทอง
A10: 5 | B10: บึงกาฬ | C10: พรเจริญ | D10: หนองหัวช้าง | E10: แปลงใหญ่กล้วยหอมทอง B.K.77 | F10: =[1]ภาคอีสาน!E7 -> กล้วยหอมทอง
A11: 6 | B11: =[1]ภาคกลาง!B3 -> ปทุมธานี | C11: =[1]ภาคกลาง!C3 -> หนองเสือ | D11: =[1]ภาคกลาง!D3 -> นพรัตน์ | E11: =[1]ภาคกลาง!G3 -> แปลงใหญ่กล้วยหอมทองตำบลนพรัตน์ | F11: =[1]ภาคกลาง!E3 -> กล้วยหอมทอง
A12: 7 | B12: อุตรดิตถ์ | C12: ลับแล | D12: ฝายหลวง | E12: แปลงใหญ่ทุเรียนเมืองลับแล | F12: ทุเรียน
A13: 8 | B13: =[1]ภาคใต้!B3 -> ชุมพร | C13: =[1]ภาคใต้!C3 -> ทุ่งตะโก | D13: =[1]ภาคใต้!D3 -> ตะโก | E13: =[1]ภาคใต้!G3 -> แปลงใหญ่ทุเรียนหมู่ที่ 12 ตำบลตะโก | F13: =[1]ภาคใต้!E3 -> ทุเรียน
A14: 9 | B14: สุโขทัย | C14: ศรีสัชนาลัย | D14: บ้านตึก | E14: แปลงใหญ่ทุเรียนบ้านตึก ตำบลบ้านตึก อำเภอศรีสัชนาลัย จังหวัดสุโขทัย | F14: ทุเรียนหมอนทอง
A15: 10 | B15: =[1]ภาคใต้!B6 -> ชุมพร | C15: =[1]ภาคใต้!C6 -> หลังสวน | D15: =[1]ภาคใต้!D6 -> หาดยาย | E15: =[1]ภาคใต้!G6 -> แปลงใหญ่ทุเรียนบ้านห้วยทรายขาว | F15: =[1]ภาคใต้!E6 -> ทุเรียนหมอนทอง
A16: 11 | B16: อุตรดิตถ์ | C16: ฟากท่า | D16: บ้านเสี้ยว | E16: แปลงใหญ่มะขามวิสาหกิจชุมชนกลุ่มมะขาม หมู่ 1 ตำบลบ้านเสี้ยว อำเภอฟากท่า จังหวัดอุตรดิตถ์ | F16: มะขามหวาน
A17: 12 | B17: เพชรบูรณ์ | C17: หล่มเก่า | D17: ตาดกลอย | E17: แปลงใหญ่ตำบลตาดกลอย อำเภอหล่มเก่า จังหวัดเพชรบูรณ์ | F17: มะขามหวาน
A18: 13 | B18: =[1]ภาคตะวันตก!B3 -> ราชบุรี | C18: =[1]ภาคตะวันตก!C3 -> ดำเนินสะดวก | D18: =[1]ภาคตะวันตก!D3 -> ดอนกรวย | E18: =[1]ภาคตะวันตก!G3 -> แปลงใหญ่มะพร้าวน้ำหอม หมู่ 6 ตำบลดอนกรวย อำเภอดำเนินสะดวก จังหวัดราชบุรี | F18: =[1]ภาคตะวันตก!E3 -> มะพร้าวน้ำหอม
A19: 14 | B19: =[1]ภาคตะวันตก!B4 -> สมุทรสงคราม | C19: =[1]ภาคตะวันตก!C4 -> บางคนที | D19: =[1]ภาคตะวันตก!D4 -> จอมปลวก | E19: =[1]ภาคตะวันตก!G4 -> แปลงใหญ่มะพร้าวน้ำหอม ตำบลจอมปลวก อำเภอบางคนที จังหวัดสมุทรสงคราม | F19: =[1]ภาคตะวันตก!E4 -> มะพร้าวน้ำหอม
A20: 15 | B20: =[1]ภาคอีสาน!B8 -> อุดรธานี | C20: =[1]ภาคอีสาน!C8 -> หนองวัวซอ | D20: =[1]ภาคอีสาน!D8 -> อูบมุง | E20: =[1]ภาคอีสาน!G8 -> แปลงใหญ่ผู้ปลูกมะม่วงเพื่อส่งออกต.อูบมุง อ.หนองวัวซอ จ.อุดรธานี | F20: =[1]ภาคอีสาน!E8 -> มะมว่ง
A21: 16 | B21: น่าน | C21: ปัว | D21: ป่ากลาง | E21: แปลงใหญ่มะม่วงตำบลป่ากลาง อำเภอปัว จังหวัดน่าน | F21: มะม่วง
A22: 17 | B22: เชียงใหม่ | C22: พร้าว | D22: ป่าไหน่ | E22: แปลงใหญ่มะม่วง หมู่ 4 ตำบลป่าไหน่ | F22: มะม่วง
A23: 18 | B23: =[1]ภาคอีสาน!B4 -> ขอนแก่น | C23: =[1]ภาคอีสาน!C4 -> บ้านแฮด | D23: =[1]ภาคอีสาน!D4 -> หนองแซง | E23: =[1]ภาคอีสาน!G4 -> แปลงใหญ่มะม่วง ต.หนองแซง อ.บ้านแฮด จ.ขอนแก่น (กลุ่มวิสาหกิจชุมชนมะม่วงบ้านแฮดเพื่อการส่งออก) | F23: =[1]ภาคอีสาน!E4 -> มะม่วง
A24: 19 | B24: =[1]ภาคอีสาน!B9 -> กาฬสินธุ์ | C24: =[1]ภาคอีสาน!C9 -> หนองกุงศรี | D24: =[1]ภาคอีสาน!D9 -> หนองหิน | E24: =[1]ภาคอีสาน!G9 -> แปลงใหญ่มะม่วง ม.2 ตำบลหนองหิน อำเภอหนองกุงศรี จังหวัดกาฬสินธุ์ (ปลูกและแปรรูปมะม่วงมหาชนก) | F24: =[1]ภาคอีสาน!E9 -> มะม่วง
A25: 20 | B25: สุโขทัย | C25: ศรีนคร | D25: น้ำขุม | E25: แปลงใหญ่มะม่วงโชคอนันต์ ตำบลน้ำขุม อำเภอศรีนคร จังหวัดสุโขทัย | F25: มะม่วงโชคอนันต์
A26: 21 | B26: พิษณุโลก | C26: วังทอง | D26: ชัยนาม | E26: แปลงใหญ่มะม่วงน้ำดอกไม้สีทองพิษณุโลก | F26: มะม่วงน้ำดอกไม้
A27: 22 | B27: พิจิตร | C27: สากเหล็ก | D27: วังทับไทร | E27: แปลงใหญ่มะม่วง หมู่ที่ 1 ตำบลวังทับไทร อำเภอสากเหล็ก จังหวัดพิจิตร | F27: มะม่วงน้ำดอกไม้
A28: 23 | B28: เชียงใหม่ | C28: เชียงดาว | D28: ปิงโค้ง | E28: แปลงใหญ่มะม่วงน้ำดอกไม้ตำบลปิงโค้ง | F28: มะม่วงน้ำดอกไม้สีทอง
A29: 24 | B29: ลำพูน | C29: ป่าซาง | D29: น้ำดิบ | E29: แปลงใหญ่มะม่วงตำบลน้ำดิบ | F29: มะม่วง
A30: 25 | B30: ลำพูน | C30: บ้านโฮ่ง | D30: เหล่ายาว | E30: กลุ่มแปลงใหญ่มะม่วงตำบลเหล่ายาว อำเภอบ้านโฮ่ง จังหวัดลำพูน | F30: มะม่วง
A31: 26 | B31: ชัยภูมิ | C31: บ้านแท่น | D31: บ้านแท่น | E31: แปลงใหญ่ส้มโอบ้านหนองผักหลอด ต.บ้านแท่น อ.บ้านแท่น จ.ชัยภูมิ | F31: ส้มโอ
A32: 27 | B32: พิจิตร | C32: โพธิ์ประทับช้าง | D32: โพธิ์ประทับช้าง | E32: แปลงใหญ่ส้มโอ หมู่ที่ 8 ตำบลโพธิ์ประทับช้าง อำเภอโพธิ์ประทับช้าง จังหวัดพิจิตร | F32: ส้มโอ
A33: 28 | B33: =[1]ภาคตะวันออก9!B3 -> จันทบุรี | C33: =[1]ภาคตะวันออก9!C3 -> เขาคิชฌกูฏ | D33: =[1]ภาคตะวันออก9!D3 -> ชากไทย | E33: =[1]ภาคตะวันออก9!G3 -> แปลงใหญ่มังคุดคิชฌกูฎ | F33: =[1]ภาคตะวันออก9!E3 -> มังคุด
A34: 29 | B34: =[1]ภาคตะวันออก9!B4 -> ระยอง | C34: =[1]ภาคตะวันออก9!C4 -> เมืองระยอง | D34: =[1]ภาคตะวันออก9!D4 -> กะเฉด | E34: =[1]ภาคตะวันออก9!G4 -> แปลงใหญ่มังคุดตำบลกะเฉด อำเภอเมืองระยอง จังหวัดระยอง | F34: =[1]ภาคตะวันออก9!E4 -> มังคุด
A35: 30 | B35: =[1]ภาคใต้!B4 -> ชุมพร | C35: =[1]ภาคใต้!C4 -> พะโต๊ะ | D35: =[1]ภาคใต้!D4 -> พะโต๊ะ | E35: =[1]ภาคใต้!G4 -> แปลงใหญ่มังคุดตำบลพะโต๊ะอำเภอพะโต๊ะจังหวัดชุมพร | F35: =[1]ภาคใต้!E4 -> มังคุด
A36: 31 | B36: นครศรีธรรมราช | C36: พิปูน | D36: ยางค้อม | E36: กลุ่มแปลงใหญ่มังคุด ต.ยางค้อม อ.พิปูน | F36: มังคุด
A37: 32 | B37: =[1]ภาคใต้!B9 -> นครศรีธรรมราช | C37: =[1]ภาคใต้!C9 -> ชะอวด | D37: =[1]ภาคใต้!D9 -> เกาะขันธ์ | E37: =[1]ภาคใต้!G9 -> กลุ่มแปลงใหญ่มังคุด ต.เกาะขันธ์ อ.ชะอวด จ.นครศรีธรรมราช | F37: =[1]ภาคใต้!E9 -> มังคุด
A38: 33 | B38: =[1]ภาคใต้!B10 -> ระนอง | C38: =[1]ภาคใต้!C10 -> กระบุรี | D38: =[1]ภาคใต้!D10 -> น้ำจืด | E38: =[1]ภาคใต้!G10 -> แปลงใหญ่มังคุด ม.8 ต.น้ำจืด อ.กระบุรี จ.ระนอง | F38: =[1]ภาคใต้!E10 -> มังคุด
A39: 34 | B39: น่าน | C39: เชียงกลาง | D39: พญาแก้ว | E39: แปลงใหญ่ลำไยตำบลพญาแก้ว อำเภอเชียงกลาง จังหวัดน่าน | F39: ลำไย
A40: 35 | B40: ลำพูน | C40: บ้านโฮ่ง | D40: บ้านโฮ่ง | E40: แปลงใหญ่ลำไย ม.3 ต.บ้านโฮ่ง | F40: ลำไย
...
